BEGIN:VCALENDAR
VERSION:2.0
PRODID:-//Ain Karem - ECPv6.15.20//NONSGML v1.0//EN
CALSCALE:GREGORIAN
METHOD:PUBLISH
X-WR-CALNAME:Ain Karem
X-ORIGINAL-URL:https://website.ain-karem.de
X-WR-CALDESC:Veranstaltungen für Ain Karem
REFRESH-INTERVAL;VALUE=DURATION:PT1H
X-Robots-Tag:noindex
X-PUBLISHED-TTL:PT1H
BEGIN:VTIMEZONE
TZID:Europe/Berlin
BEGIN:DAYLIGHT
TZOFFSETFROM:+0100
TZOFFSETTO:+0200
TZNAME:CEST
DTSTART:20210328T010000
END:DAYLIGHT
BEGIN:STANDARD
TZOFFSETFROM:+0200
TZOFFSETTO:+0100
TZNAME:CET
DTSTART:20211031T010000
END:STANDARD
BEGIN:DAYLIGHT
TZOFFSETFROM:+0100
TZOFFSETTO:+0200
TZNAME:CEST
DTSTART:20220327T010000
END:DAYLIGHT
BEGIN:STANDARD
TZOFFSETFROM:+0200
TZOFFSETTO:+0100
TZNAME:CET
DTSTART:20221030T010000
END:STANDARD
BEGIN:DAYLIGHT
TZOFFSETFROM:+0100
TZOFFSETTO:+0200
TZNAME:CEST
DTSTART:20230326T010000
END:DAYLIGHT
BEGIN:STANDARD
TZOFFSETFROM:+0200
TZOFFSETTO:+0100
TZNAME:CET
DTSTART:20231029T010000
END:STANDARD
BEGIN:DAYLIGHT
TZOFFSETFROM:+0100
TZOFFSETTO:+0200
TZNAME:CEST
DTSTART:20240331T010000
END:DAYLIGHT
BEGIN:STANDARD
TZOFFSETFROM:+0200
TZOFFSETTO:+0100
TZNAME:CET
DTSTART:20241027T010000
END:STANDARD
BEGIN:DAYLIGHT
TZOFFSETFROM:+0100
TZOFFSETTO:+0200
TZNAME:CEST
DTSTART:20250330T010000
END:DAYLIGHT
BEGIN:STANDARD
TZOFFSETFROM:+0200
TZOFFSETTO:+0100
TZNAME:CET
DTSTART:20251026T010000
END:STANDARD
END:VTIMEZONE
BEGIN:VEVENT
DTSTART;TZID=Europe/Berlin:20240124T190000
DTEND;TZID=Europe/Berlin:20240124T200000
DTSTAMP:20260423T154334
CREATED:20231211T143347Z
LAST-MODIFIED:20231211T143347Z
UID:10002013-1706122800-1706126400@website.ain-karem.de
SUMMARY:Meditation und Kontemplation
DESCRIPTION:
URL:https://website.ain-karem.de/event/meditation-und-kontemplation-22/
LOCATION:Ain Karem\, Zum Weiher 8\, Ruppichteroth\, Nordrhein-Westfalen\, 53809\, Deutschland
CATEGORIES:Meditation
ATTACH;FMTTYPE=image/jpeg:https://website.ain-karem.de/wp-content/uploads/2022/08/tropfen_512.jpg
ORGANIZER;CN="Mechtild Franke":MAILTO:mechtildfranke@googlemail.com
END:VEVENT
BEGIN:VEVENT
DTSTART;TZID=Europe/Berlin:20240110T190000
DTEND;TZID=Europe/Berlin:20240110T200000
DTSTAMP:20260423T154334
CREATED:20231211T143330Z
LAST-MODIFIED:20231211T143330Z
UID:10002012-1704913200-1704916800@website.ain-karem.de
SUMMARY:Meditation und Kontemplation
DESCRIPTION:
URL:https://website.ain-karem.de/event/meditation-und-kontemplation-21/
LOCATION:Ain Karem\, Zum Weiher 8\, Ruppichteroth\, Nordrhein-Westfalen\, 53809\, Deutschland
CATEGORIES:Meditation
ATTACH;FMTTYPE=image/jpeg:https://website.ain-karem.de/wp-content/uploads/2022/08/tropfen_512.jpg
ORGANIZER;CN="Mechtild Franke":MAILTO:mechtildfranke@googlemail.com
END:VEVENT
BEGIN:VEVENT
DTSTART;TZID=Europe/Berlin:20230709T190000
DTEND;TZID=Europe/Berlin:20230709T200000
DTSTAMP:20260423T154334
CREATED:20221221T051622Z
LAST-MODIFIED:20221221T051639Z
UID:10000371-1688929200-1688932800@website.ain-karem.de
SUMMARY:Meditation und Kontemplation
DESCRIPTION:
URL:https://website.ain-karem.de/event/meditation-und-kontemplation-20/
LOCATION:Ain Karem\, Zum Weiher 8\, Ruppichteroth\, Nordrhein-Westfalen\, 53809\, Deutschland
CATEGORIES:Meditation
ATTACH;FMTTYPE=image/jpeg:https://website.ain-karem.de/wp-content/uploads/2022/08/tropfen_512.jpg
ORGANIZER;CN="Mechtild Franke":MAILTO:mechtildfranke@googlemail.com
END:VEVENT
BEGIN:VEVENT
DTSTART;TZID=Europe/Berlin:20230604T190000
DTEND;TZID=Europe/Berlin:20230604T200000
DTSTAMP:20260423T154334
CREATED:20221221T051601Z
LAST-MODIFIED:20221221T051601Z
UID:10000370-1685905200-1685908800@website.ain-karem.de
SUMMARY:Meditation und Kontemplation
DESCRIPTION:
URL:https://website.ain-karem.de/event/meditation-und-kontemplation-19/
LOCATION:Ain Karem\, Zum Weiher 8\, Ruppichteroth\, Nordrhein-Westfalen\, 53809\, Deutschland
CATEGORIES:Meditation
ATTACH;FMTTYPE=image/jpeg:https://website.ain-karem.de/wp-content/uploads/2022/08/tropfen_512.jpg
ORGANIZER;CN="Mechtild Franke":MAILTO:mechtildfranke@googlemail.com
END:VEVENT
BEGIN:VEVENT
DTSTART;TZID=Europe/Berlin:20230524T190000
DTEND;TZID=Europe/Berlin:20230524T200000
DTSTAMP:20260423T154334
CREATED:20221221T051542Z
LAST-MODIFIED:20221221T051542Z
UID:10000369-1684954800-1684958400@website.ain-karem.de
SUMMARY:Meditation und Kontemplation
DESCRIPTION:
URL:https://website.ain-karem.de/event/meditation-und-kontemplation-18/
LOCATION:Ain Karem\, Zum Weiher 8\, Ruppichteroth\, Nordrhein-Westfalen\, 53809\, Deutschland
CATEGORIES:Meditation
ATTACH;FMTTYPE=image/jpeg:https://website.ain-karem.de/wp-content/uploads/2022/08/tropfen_512.jpg
ORGANIZER;CN="Mechtild Franke":MAILTO:mechtildfranke@googlemail.com
END:VEVENT
BEGIN:VEVENT
DTSTART;TZID=Europe/Berlin:20230507T190000
DTEND;TZID=Europe/Berlin:20230507T200000
DTSTAMP:20260423T154334
CREATED:20221221T051523Z
LAST-MODIFIED:20221221T051523Z
UID:10000368-1683486000-1683489600@website.ain-karem.de
SUMMARY:Meditation und Kontemplation
DESCRIPTION:
URL:https://website.ain-karem.de/event/meditation-und-kontemplation-17/
LOCATION:Ain Karem\, Zum Weiher 8\, Ruppichteroth\, Nordrhein-Westfalen\, 53809\, Deutschland
CATEGORIES:Meditation
ATTACH;FMTTYPE=image/jpeg:https://website.ain-karem.de/wp-content/uploads/2022/08/tropfen_512.jpg
ORGANIZER;CN="Mechtild Franke":MAILTO:mechtildfranke@googlemail.com
END:VEVENT
BEGIN:VEVENT
DTSTART;TZID=Europe/Berlin:20230426T190000
DTEND;TZID=Europe/Berlin:20230426T200000
DTSTAMP:20260423T154334
CREATED:20221221T051500Z
LAST-MODIFIED:20221221T051500Z
UID:10000367-1682535600-1682539200@website.ain-karem.de
SUMMARY:Meditation und Kontemplation
DESCRIPTION:
URL:https://website.ain-karem.de/event/meditation-und-kontemplation-16/
LOCATION:Ain Karem\, Zum Weiher 8\, Ruppichteroth\, Nordrhein-Westfalen\, 53809\, Deutschland
CATEGORIES:Meditation
ATTACH;FMTTYPE=image/jpeg:https://website.ain-karem.de/wp-content/uploads/2022/08/tropfen_512.jpg
ORGANIZER;CN="Mechtild Franke":MAILTO:mechtildfranke@googlemail.com
END:VEVENT
BEGIN:VEVENT
DTSTART;TZID=Europe/Berlin:20230402T190000
DTEND;TZID=Europe/Berlin:20230402T200000
DTSTAMP:20260423T154334
CREATED:20221221T051431Z
LAST-MODIFIED:20221221T051431Z
UID:10000366-1680462000-1680465600@website.ain-karem.de
SUMMARY:Meditation und Kontemplation
DESCRIPTION:
URL:https://website.ain-karem.de/event/meditation-und-kontemplation-15/
LOCATION:Ain Karem\, Zum Weiher 8\, Ruppichteroth\, Nordrhein-Westfalen\, 53809\, Deutschland
CATEGORIES:Meditation
ATTACH;FMTTYPE=image/jpeg:https://website.ain-karem.de/wp-content/uploads/2022/08/tropfen_512.jpg
ORGANIZER;CN="Mechtild Franke":MAILTO:mechtildfranke@googlemail.com
END:VEVENT
BEGIN:VEVENT
DTSTART;TZID=Europe/Berlin:20230319T190000
DTEND;TZID=Europe/Berlin:20230319T200000
DTSTAMP:20260423T154334
CREATED:20221221T051414Z
LAST-MODIFIED:20221221T051414Z
UID:10000365-1679252400-1679256000@website.ain-karem.de
SUMMARY:Meditation und Kontemplation
DESCRIPTION:
URL:https://website.ain-karem.de/event/meditation-und-kontemplation-14/
LOCATION:Ain Karem\, Zum Weiher 8\, Ruppichteroth\, Nordrhein-Westfalen\, 53809\, Deutschland
CATEGORIES:Meditation
ATTACH;FMTTYPE=image/jpeg:https://website.ain-karem.de/wp-content/uploads/2022/08/tropfen_512.jpg
ORGANIZER;CN="Mechtild Franke":MAILTO:mechtildfranke@googlemail.com
END:VEVENT
BEGIN:VEVENT
DTSTART;TZID=Europe/Berlin:20230308T190000
DTEND;TZID=Europe/Berlin:20230308T200000
DTSTAMP:20260423T154334
CREATED:20221221T051358Z
LAST-MODIFIED:20221221T051358Z
UID:10000364-1678302000-1678305600@website.ain-karem.de
SUMMARY:Meditation und Kontemplation
DESCRIPTION:
URL:https://website.ain-karem.de/event/meditation-und-kontemplation-13/
LOCATION:Ain Karem\, Zum Weiher 8\, Ruppichteroth\, Nordrhein-Westfalen\, 53809\, Deutschland
CATEGORIES:Meditation
ATTACH;FMTTYPE=image/jpeg:https://website.ain-karem.de/wp-content/uploads/2022/08/tropfen_512.jpg
ORGANIZER;CN="Mechtild Franke":MAILTO:mechtildfranke@googlemail.com
END:VEVENT
BEGIN:VEVENT
DTSTART;TZID=Europe/Berlin:20230226T190000
DTEND;TZID=Europe/Berlin:20230226T200000
DTSTAMP:20260423T154334
CREATED:20221221T051340Z
LAST-MODIFIED:20221221T051340Z
UID:10000363-1677438000-1677441600@website.ain-karem.de
SUMMARY:Meditation und Kontemplation
DESCRIPTION:
URL:https://website.ain-karem.de/event/meditation-und-kontemplation-12/
LOCATION:Ain Karem\, Zum Weiher 8\, Ruppichteroth\, Nordrhein-Westfalen\, 53809\, Deutschland
CATEGORIES:Meditation
ATTACH;FMTTYPE=image/jpeg:https://website.ain-karem.de/wp-content/uploads/2022/08/tropfen_512.jpg
ORGANIZER;CN="Mechtild Franke":MAILTO:mechtildfranke@googlemail.com
END:VEVENT
BEGIN:VEVENT
DTSTART;TZID=Europe/Berlin:20230208T190000
DTEND;TZID=Europe/Berlin:20230208T200000
DTSTAMP:20260423T154334
CREATED:20221221T051320Z
LAST-MODIFIED:20221221T051320Z
UID:10000362-1675882800-1675886400@website.ain-karem.de
SUMMARY:Meditation und Kontemplation
DESCRIPTION:
URL:https://website.ain-karem.de/event/meditation-und-kontemplation-11/
LOCATION:Ain Karem\, Zum Weiher 8\, Ruppichteroth\, Nordrhein-Westfalen\, 53809\, Deutschland
CATEGORIES:Meditation
ATTACH;FMTTYPE=image/jpeg:https://website.ain-karem.de/wp-content/uploads/2022/08/tropfen_512.jpg
ORGANIZER;CN="Mechtild Franke":MAILTO:mechtildfranke@googlemail.com
END:VEVENT
BEGIN:VEVENT
DTSTART;TZID=Europe/Berlin:20230129T190000
DTEND;TZID=Europe/Berlin:20230129T200000
DTSTAMP:20260423T154334
CREATED:20221221T051256Z
LAST-MODIFIED:20221221T051256Z
UID:10000361-1675018800-1675022400@website.ain-karem.de
SUMMARY:Meditation und Kontemplation
DESCRIPTION:
URL:https://website.ain-karem.de/event/meditation-und-kontemplation-10/
LOCATION:Ain Karem\, Zum Weiher 8\, Ruppichteroth\, Nordrhein-Westfalen\, 53809\, Deutschland
CATEGORIES:Meditation
ATTACH;FMTTYPE=image/jpeg:https://website.ain-karem.de/wp-content/uploads/2022/08/tropfen_512.jpg
ORGANIZER;CN="Mechtild Franke":MAILTO:mechtildfranke@googlemail.com
END:VEVENT
BEGIN:VEVENT
DTSTART;TZID=Europe/Berlin:20230111T190000
DTEND;TZID=Europe/Berlin:20230111T200000
DTSTAMP:20260423T154334
CREATED:20221221T051225Z
LAST-MODIFIED:20221221T051225Z
UID:10000360-1673463600-1673467200@website.ain-karem.de
SUMMARY:Meditation und Kontemplation
DESCRIPTION:
URL:https://website.ain-karem.de/event/meditation-und-kontemplation-9/
LOCATION:Ain Karem\, Zum Weiher 8\, Ruppichteroth\, Nordrhein-Westfalen\, 53809\, Deutschland
CATEGORIES:Meditation
ATTACH;FMTTYPE=image/jpeg:https://website.ain-karem.de/wp-content/uploads/2022/08/tropfen_512.jpg
ORGANIZER;CN="Mechtild Franke":MAILTO:mechtildfranke@googlemail.com
END:VEVENT
BEGIN:VEVENT
DTSTART;TZID=Europe/Berlin:20221221T193000
DTEND;TZID=Europe/Berlin:20221221T203000
DTSTAMP:20260423T154334
CREATED:20220901T090251Z
LAST-MODIFIED:20220901T091533Z
UID:10000242-1671651000-1671654600@website.ain-karem.de
SUMMARY:Meditation und Kontemplation
DESCRIPTION:
URL:https://website.ain-karem.de/event/meditation-und-kontemplation-8/
LOCATION:Ain Karem\, Zum Weiher 8\, Ruppichteroth\, Nordrhein-Westfalen\, 53809\, Deutschland
CATEGORIES:Meditation
ATTACH;FMTTYPE=image/jpeg:https://website.ain-karem.de/wp-content/uploads/2022/08/tropfen_512.jpg
ORGANIZER;CN="Mechtild Franke":MAILTO:mechtildfranke@googlemail.com
END:VEVENT
BEGIN:VEVENT
DTSTART;TZID=Europe/Berlin:20221207T193000
DTEND;TZID=Europe/Berlin:20221207T203000
DTSTAMP:20260423T154334
CREATED:20220901T090144Z
LAST-MODIFIED:20220901T091244Z
UID:10000241-1670441400-1670445000@website.ain-karem.de
SUMMARY:Meditation und Kontemplation
DESCRIPTION:
URL:https://website.ain-karem.de/event/meditation-und-kontemplation-7/
LOCATION:Ain Karem\, Zum Weiher 8\, Ruppichteroth\, Nordrhein-Westfalen\, 53809\, Deutschland
CATEGORIES:Meditation
ATTACH;FMTTYPE=image/jpeg:https://website.ain-karem.de/wp-content/uploads/2022/08/tropfen_512.jpg
ORGANIZER;CN="Mechtild Franke":MAILTO:mechtildfranke@googlemail.com
END:VEVENT
BEGIN:VEVENT
DTSTART;TZID=Europe/Berlin:20221123T193000
DTEND;TZID=Europe/Berlin:20221123T203000
DTSTAMP:20260423T154334
CREATED:20220901T085916Z
LAST-MODIFIED:20220901T091317Z
UID:10000240-1669231800-1669235400@website.ain-karem.de
SUMMARY:Meditation und Kontemplation
DESCRIPTION:
URL:https://website.ain-karem.de/event/meditation-und-kontemplation-6/
LOCATION:Ain Karem\, Zum Weiher 8\, Ruppichteroth\, Nordrhein-Westfalen\, 53809\, Deutschland
CATEGORIES:Meditation
ATTACH;FMTTYPE=image/jpeg:https://website.ain-karem.de/wp-content/uploads/2022/08/tropfen_512.jpg
ORGANIZER;CN="Mechtild Franke":MAILTO:mechtildfranke@googlemail.com
END:VEVENT
BEGIN:VEVENT
DTSTART;TZID=Europe/Berlin:20221109T193000
DTEND;TZID=Europe/Berlin:20221109T203000
DTSTAMP:20260423T154334
CREATED:20220901T085813Z
LAST-MODIFIED:20220901T091328Z
UID:10000239-1668022200-1668025800@website.ain-karem.de
SUMMARY:Meditation und Kontemplation
DESCRIPTION:
URL:https://website.ain-karem.de/event/meditation-und-kontemplation-5/
LOCATION:Ain Karem\, Zum Weiher 8\, Ruppichteroth\, Nordrhein-Westfalen\, 53809\, Deutschland
CATEGORIES:Meditation
ATTACH;FMTTYPE=image/jpeg:https://website.ain-karem.de/wp-content/uploads/2022/08/tropfen_512.jpg
ORGANIZER;CN="Mechtild Franke":MAILTO:mechtildfranke@googlemail.com
END:VEVENT
BEGIN:VEVENT
DTSTART;TZID=Europe/Berlin:20221026T193000
DTEND;TZID=Europe/Berlin:20221026T203000
DTSTAMP:20260423T154334
CREATED:20220901T085414Z
LAST-MODIFIED:20220901T091344Z
UID:10000238-1666812600-1666816200@website.ain-karem.de
SUMMARY:Meditation und Kontemplation
DESCRIPTION:
URL:https://website.ain-karem.de/event/meditation-und-kontemplation-4/
LOCATION:Ain Karem\, Zum Weiher 8\, Ruppichteroth\, Nordrhein-Westfalen\, 53809\, Deutschland
CATEGORIES:Meditation
ATTACH;FMTTYPE=image/jpeg:https://website.ain-karem.de/wp-content/uploads/2022/08/tropfen_512.jpg
ORGANIZER;CN="Mechtild Franke":MAILTO:mechtildfranke@googlemail.com
END:VEVENT
BEGIN:VEVENT
DTSTART;TZID=Europe/Berlin:20221016T190000
DTEND;TZID=Europe/Berlin:20221016T200000
DTSTAMP:20260423T154334
CREATED:20220901T085224Z
LAST-MODIFIED:20220901T091402Z
UID:10000237-1665946800-1665950400@website.ain-karem.de
SUMMARY:Meditation und Kontemplation
DESCRIPTION:
URL:https://website.ain-karem.de/event/meditation-und-kontemplation-3/
LOCATION:Ain Karem\, Zum Weiher 8\, Ruppichteroth\, Nordrhein-Westfalen\, 53809\, Deutschland
CATEGORIES:Meditation
ATTACH;FMTTYPE=image/jpeg:https://website.ain-karem.de/wp-content/uploads/2022/08/tropfen_512.jpg
ORGANIZER;CN="Mechtild Franke":MAILTO:mechtildfranke@googlemail.com
END:VEVENT
BEGIN:VEVENT
DTSTART;TZID=Europe/Berlin:20220925T190000
DTEND;TZID=Europe/Berlin:20220925T200000
DTSTAMP:20260423T154334
CREATED:20220901T085132Z
LAST-MODIFIED:20220901T091421Z
UID:10000236-1664132400-1664136000@website.ain-karem.de
SUMMARY:Meditation und Kontemplation
DESCRIPTION:
URL:https://website.ain-karem.de/event/meditation-und-kontemplation-2/
LOCATION:Ain Karem\, Zum Weiher 8\, Ruppichteroth\, Nordrhein-Westfalen\, 53809\, Deutschland
CATEGORIES:Meditation
ATTACH;FMTTYPE=image/jpeg:https://website.ain-karem.de/wp-content/uploads/2022/08/tropfen_512.jpg
ORGANIZER;CN="Mechtild Franke":MAILTO:mechtildfranke@googlemail.com
END:VEVENT
BEGIN:VEVENT
DTSTART;TZID=Europe/Berlin:20220907T193000
DTEND;TZID=Europe/Berlin:20220907T203000
DTSTAMP:20260423T154335
CREATED:20220901T084455Z
LAST-MODIFIED:20220901T091435Z
UID:10000235-1662579000-1662582600@website.ain-karem.de
SUMMARY:Meditation und Kontemplation
DESCRIPTION:
URL:https://website.ain-karem.de/event/meditation-und-kontemplation/
LOCATION:Ain Karem\, Zum Weiher 8\, Ruppichteroth\, Nordrhein-Westfalen\, 53809\, Deutschland
CATEGORIES:Meditation
ATTACH;FMTTYPE=image/jpeg:https://website.ain-karem.de/wp-content/uploads/2022/08/tropfen_512.jpg
ORGANIZER;CN="Mechtild Franke":MAILTO:mechtildfranke@googlemail.com
END:VEVENT
END:VCALENDAR