BEGIN:VCALENDAR
VERSION:2.0
PRODID:-//Ain Karem - ECPv6.15.20//NONSGML v1.0//EN
CALSCALE:GREGORIAN
METHOD:PUBLISH
X-ORIGINAL-URL:https://website.ain-karem.de
X-WR-CALDESC:Veranstaltungen für Ain Karem
REFRESH-INTERVAL;VALUE=DURATION:PT1H
X-Robots-Tag:noindex
X-PUBLISHED-TTL:PT1H
BEGIN:VTIMEZONE
TZID:Europe/Berlin
BEGIN:DAYLIGHT
TZOFFSETFROM:+0100
TZOFFSETTO:+0200
TZNAME:CEST
DTSTART:20230326T010000
END:DAYLIGHT
BEGIN:STANDARD
TZOFFSETFROM:+0200
TZOFFSETTO:+0100
TZNAME:CET
DTSTART:20231029T010000
END:STANDARD
BEGIN:DAYLIGHT
TZOFFSETFROM:+0100
TZOFFSETTO:+0200
TZNAME:CEST
DTSTART:20240331T010000
END:DAYLIGHT
BEGIN:STANDARD
TZOFFSETFROM:+0200
TZOFFSETTO:+0100
TZNAME:CET
DTSTART:20241027T010000
END:STANDARD
BEGIN:DAYLIGHT
TZOFFSETFROM:+0100
TZOFFSETTO:+0200
TZNAME:CEST
DTSTART:20250330T010000
END:DAYLIGHT
BEGIN:STANDARD
TZOFFSETFROM:+0200
TZOFFSETTO:+0100
TZNAME:CET
DTSTART:20251026T010000
END:STANDARD
END:VTIMEZONE
BEGIN:VEVENT
DTSTART;TZID=Europe/Berlin:20240401T171500
DTEND;TZID=Europe/Berlin:20240401T183000
DTSTAMP:20260422T005530
CREATED:20220905T121009Z
LAST-MODIFIED:20250107T081207Z
UID:10001129-1711991700-1711996200@website.ain-karem.de
SUMMARY:Yoga mit der FABI
DESCRIPTION:Träger dieser Veranstaltungen ist die\nFamilienbildungsstätte Sankt Augustin \nWeitere Informationen zu Inhalten\, Kosten und Häufigkeiten finden Sie unter:\nwww.fabi-rheinsieg.de \nAnmeldungen unter: \nLebenshilfe Bildung NRW gGmbH\nFABI Rhein-Sieg\nBonner Straße 68a\n53757 Sankt Augustin\n+49 02241 341838
URL:https://website.ain-karem.de/event/yoga-mit-der-familienbildungsstaette-fabi/2024-04-01/
LOCATION:Ain Karem\, Zum Weiher 8\, Ruppichteroth\, Nordrhein-Westfalen\, 53809\, Deutschland
CATEGORIES:FABI
ATTACH;FMTTYPE=image/jpeg:https://website.ain-karem.de/wp-content/uploads/2022/09/lebenshilfe_512.jpg
END:VEVENT
BEGIN:VEVENT
DTSTART;TZID=Europe/Berlin:20240401T190000
DTEND;TZID=Europe/Berlin:20240401T203000
DTSTAMP:20260422T005530
CREATED:20220905T123815Z
LAST-MODIFIED:20250107T081116Z
UID:10001182-1711998000-1712003400@website.ain-karem.de
SUMMARY:Yoga mit der FABI
DESCRIPTION:Träger dieser Veranstaltungen ist die\nFamilienbildungsstätte Sankt Augustin \nWeitere Informationen zu Inhalten\, Kosten und Häufigkeiten finden Sie unter:\nwww.fabi-rheinsieg.de \nAnmeldungen unter: \nLebenshilfe Bildung NRW gGmbH\nFABI Rhein-Sieg\nBonner Straße 68a\n53757 Sankt Augustin\n+49 02241 341838
URL:https://website.ain-karem.de/event/yoga-mit-der-familienbildungsstaette-fabi-2/2024-04-01/
LOCATION:Ain Karem\, Zum Weiher 8\, Ruppichteroth\, Nordrhein-Westfalen\, 53809\, Deutschland
CATEGORIES:FABI
ATTACH;FMTTYPE=image/jpeg:https://website.ain-karem.de/wp-content/uploads/2022/09/lebenshilfe_512.jpg
END:VEVENT
BEGIN:VEVENT
DTSTART;TZID=Europe/Berlin:20240402T173000
DTEND;TZID=Europe/Berlin:20240402T190000
DTSTAMP:20260422T005530
CREATED:20220905T124354Z
LAST-MODIFIED:20250107T081051Z
UID:10001288-1712079000-1712084400@website.ain-karem.de
SUMMARY:Hatha-Yoga mit der FABI
DESCRIPTION:Träger dieser Veranstaltungen ist die\nFamilienbildungsstätte Sankt Augustin \nWeitere Informationen zu Inhalten\, Kosten und Häufigkeiten finden Sie unter:\nwww.fabi-rheinsieg.de \nAnmeldungen unter: \nLebenshilfe Bildung NRW gGmbH\nFABI Rhein-Sieg\nBonner Straße 68a\n53757 Sankt Augustin\n+49 02241 341838
URL:https://website.ain-karem.de/event/hatha-yoga-mit-der-familienbildungsstaette-fabi/2024-04-02/
LOCATION:Ain Karem\, Zum Weiher 8\, Ruppichteroth\, Nordrhein-Westfalen\, 53809\, Deutschland
CATEGORIES:FABI
ATTACH;FMTTYPE=image/jpeg:https://website.ain-karem.de/wp-content/uploads/2022/09/lebenshilfe_512.jpg
END:VEVENT
BEGIN:VEVENT
DTSTART;TZID=Europe/Berlin:20240402T200000
DTEND;TZID=Europe/Berlin:20240402T213000
DTSTAMP:20260422T005530
CREATED:20220905T124543Z
LAST-MODIFIED:20250107T081004Z
UID:10001341-1712088000-1712093400@website.ain-karem.de
SUMMARY:Yoga mit der FABI
DESCRIPTION:Träger dieser Veranstaltungen ist die\nFamilienbildungsstätte Sankt Augustin \nWeitere Informationen zu Inhalten\, Kosten und Häufigkeiten finden Sie unter:\nwww.fabi-rheinsieg.de \nAnmeldungen unter: \nLebenshilfe Bildung NRW gGmbH\nFABI Rhein-Sieg\nBonner Straße 68a\n53757 Sankt Augustin\n+49 02241 341838
URL:https://website.ain-karem.de/event/yoga-mit-der-familienbildungsstaette-fabi-3/2024-04-02/
LOCATION:Ain Karem\, Zum Weiher 8\, Ruppichteroth\, Nordrhein-Westfalen\, 53809\, Deutschland
CATEGORIES:FABI
ATTACH;FMTTYPE=image/jpeg:https://website.ain-karem.de/wp-content/uploads/2022/09/lebenshilfe_512.jpg
END:VEVENT
BEGIN:VEVENT
DTSTART;TZID=Europe/Berlin:20240403T183000
DTEND;TZID=Europe/Berlin:20240403T200000
DTSTAMP:20260422T005530
CREATED:20220905T124731Z
LAST-MODIFIED:20250107T080848Z
UID:10001394-1712169000-1712174400@website.ain-karem.de
SUMMARY:Qi Gong  mit der FABI
DESCRIPTION:Träger dieser Veranstaltungen ist die\nFamilienbildungsstätte Sankt Augustin \nWeitere Informationen zu Inhalten\, Kosten und Häufigkeiten finden Sie unter:\nwww.fabi-rheinsieg.de \nAnmeldungen unter: \nLebenshilfe Bildung NRW gGmbH\nFABI Rhein-Sieg\nBonner Straße 68a\n53757 Sankt Augustin\n+49 02241 341838
URL:https://website.ain-karem.de/event/qi-gong-mit-der-familienbildungsstaette-fabi/2024-04-03/
LOCATION:Ain Karem\, Zum Weiher 8\, Ruppichteroth\, Nordrhein-Westfalen\, 53809\, Deutschland
CATEGORIES:FABI
ATTACH;FMTTYPE=image/jpeg:https://website.ain-karem.de/wp-content/uploads/2022/09/lebenshilfe_512.jpg
END:VEVENT
BEGIN:VEVENT
DTSTART;VALUE=DATE:20240405
DTEND;VALUE=DATE:20240408
DTSTAMP:20260422T005530
CREATED:20231212T100725Z
LAST-MODIFIED:20231212T100725Z
UID:10002048-1712275200-1712534399@website.ain-karem.de
SUMMARY:Der Weg nach Innen
DESCRIPTION: Der Weg nach Innen – Begegnung in der Stille\nEin geistliches Wochenende zum eigenen Herzen \nMit Erzbischof em. Joris Vercammen\, Utrecht \nBeginn: Freitag\, 05. April um 19.00 Uhr mit dem Abendessen\nEnde: Sonntag\, 07. April\, gegen 14.00 Uhr \nPreis: 200\,- €\nKost und Logis sind nicht enthalten.\nÜbernachtungen in der „Alten Scheune“ auf Ain Karem sind möglich. \nDas „Herz“ bezieht sich auf den Kern der inneren Persönlichkeit. In der hebräischen Bibel ist es der Sitz des Verstandes und der Willenskraft. Es ist ein „inneres Heiligtum“. Wir wollen erforschen\, was in unserem Herz lebendig ist\, um uns für unsere eigene Lebenskraft zu öffnen. Wir lassen uns von zeitgenössischen Mystikern Thomas Merton und Dag Hammarskjöld inspirieren.\nEine Mischung aus Stille und Meditation\, Körperarbeit und geistlichen Impulsen.
URL:https://website.ain-karem.de/event/der-weg-nach-innen/
LOCATION:Ain Karem\, Zum Weiher 8\, Ruppichteroth\, Nordrhein-Westfalen\, 53809\, Deutschland
CATEGORIES:Exerzitien,Meditation
ATTACH;FMTTYPE=image/jpeg:https://website.ain-karem.de/wp-content/uploads/2023/12/ain_06.jpg
END:VEVENT
BEGIN:VEVENT
DTSTART;TZID=Europe/Berlin:20240408T171500
DTEND;TZID=Europe/Berlin:20240408T183000
DTSTAMP:20260422T005530
CREATED:20220905T121009Z
LAST-MODIFIED:20250107T081207Z
UID:10001130-1712596500-1712601000@website.ain-karem.de
SUMMARY:Yoga mit der FABI
DESCRIPTION:Träger dieser Veranstaltungen ist die\nFamilienbildungsstätte Sankt Augustin \nWeitere Informationen zu Inhalten\, Kosten und Häufigkeiten finden Sie unter:\nwww.fabi-rheinsieg.de \nAnmeldungen unter: \nLebenshilfe Bildung NRW gGmbH\nFABI Rhein-Sieg\nBonner Straße 68a\n53757 Sankt Augustin\n+49 02241 341838
URL:https://website.ain-karem.de/event/yoga-mit-der-familienbildungsstaette-fabi/2024-04-08/
LOCATION:Ain Karem\, Zum Weiher 8\, Ruppichteroth\, Nordrhein-Westfalen\, 53809\, Deutschland
CATEGORIES:FABI
ATTACH;FMTTYPE=image/jpeg:https://website.ain-karem.de/wp-content/uploads/2022/09/lebenshilfe_512.jpg
END:VEVENT
BEGIN:VEVENT
DTSTART;TZID=Europe/Berlin:20240408T190000
DTEND;TZID=Europe/Berlin:20240408T203000
DTSTAMP:20260422T005530
CREATED:20220905T123815Z
LAST-MODIFIED:20250107T081116Z
UID:10001183-1712602800-1712608200@website.ain-karem.de
SUMMARY:Yoga mit der FABI
DESCRIPTION:Träger dieser Veranstaltungen ist die\nFamilienbildungsstätte Sankt Augustin \nWeitere Informationen zu Inhalten\, Kosten und Häufigkeiten finden Sie unter:\nwww.fabi-rheinsieg.de \nAnmeldungen unter: \nLebenshilfe Bildung NRW gGmbH\nFABI Rhein-Sieg\nBonner Straße 68a\n53757 Sankt Augustin\n+49 02241 341838
URL:https://website.ain-karem.de/event/yoga-mit-der-familienbildungsstaette-fabi-2/2024-04-08/
LOCATION:Ain Karem\, Zum Weiher 8\, Ruppichteroth\, Nordrhein-Westfalen\, 53809\, Deutschland
CATEGORIES:FABI
ATTACH;FMTTYPE=image/jpeg:https://website.ain-karem.de/wp-content/uploads/2022/09/lebenshilfe_512.jpg
END:VEVENT
BEGIN:VEVENT
DTSTART;TZID=Europe/Berlin:20240409T173000
DTEND;TZID=Europe/Berlin:20240409T190000
DTSTAMP:20260422T005530
CREATED:20220905T124354Z
LAST-MODIFIED:20250107T081051Z
UID:10001289-1712683800-1712689200@website.ain-karem.de
SUMMARY:Hatha-Yoga mit der FABI
DESCRIPTION:Träger dieser Veranstaltungen ist die\nFamilienbildungsstätte Sankt Augustin \nWeitere Informationen zu Inhalten\, Kosten und Häufigkeiten finden Sie unter:\nwww.fabi-rheinsieg.de \nAnmeldungen unter: \nLebenshilfe Bildung NRW gGmbH\nFABI Rhein-Sieg\nBonner Straße 68a\n53757 Sankt Augustin\n+49 02241 341838
URL:https://website.ain-karem.de/event/hatha-yoga-mit-der-familienbildungsstaette-fabi/2024-04-09/
LOCATION:Ain Karem\, Zum Weiher 8\, Ruppichteroth\, Nordrhein-Westfalen\, 53809\, Deutschland
CATEGORIES:FABI
ATTACH;FMTTYPE=image/jpeg:https://website.ain-karem.de/wp-content/uploads/2022/09/lebenshilfe_512.jpg
END:VEVENT
BEGIN:VEVENT
DTSTART;TZID=Europe/Berlin:20240409T200000
DTEND;TZID=Europe/Berlin:20240409T213000
DTSTAMP:20260422T005530
CREATED:20220905T124543Z
LAST-MODIFIED:20250107T081004Z
UID:10001342-1712692800-1712698200@website.ain-karem.de
SUMMARY:Yoga mit der FABI
DESCRIPTION:Träger dieser Veranstaltungen ist die\nFamilienbildungsstätte Sankt Augustin \nWeitere Informationen zu Inhalten\, Kosten und Häufigkeiten finden Sie unter:\nwww.fabi-rheinsieg.de \nAnmeldungen unter: \nLebenshilfe Bildung NRW gGmbH\nFABI Rhein-Sieg\nBonner Straße 68a\n53757 Sankt Augustin\n+49 02241 341838
URL:https://website.ain-karem.de/event/yoga-mit-der-familienbildungsstaette-fabi-3/2024-04-09/
LOCATION:Ain Karem\, Zum Weiher 8\, Ruppichteroth\, Nordrhein-Westfalen\, 53809\, Deutschland
CATEGORIES:FABI
ATTACH;FMTTYPE=image/jpeg:https://website.ain-karem.de/wp-content/uploads/2022/09/lebenshilfe_512.jpg
END:VEVENT
BEGIN:VEVENT
DTSTART;TZID=Europe/Berlin:20240410T183000
DTEND;TZID=Europe/Berlin:20240410T200000
DTSTAMP:20260422T005530
CREATED:20220905T124731Z
LAST-MODIFIED:20250107T080848Z
UID:10001395-1712773800-1712779200@website.ain-karem.de
SUMMARY:Qi Gong  mit der FABI
DESCRIPTION:Träger dieser Veranstaltungen ist die\nFamilienbildungsstätte Sankt Augustin \nWeitere Informationen zu Inhalten\, Kosten und Häufigkeiten finden Sie unter:\nwww.fabi-rheinsieg.de \nAnmeldungen unter: \nLebenshilfe Bildung NRW gGmbH\nFABI Rhein-Sieg\nBonner Straße 68a\n53757 Sankt Augustin\n+49 02241 341838
URL:https://website.ain-karem.de/event/qi-gong-mit-der-familienbildungsstaette-fabi/2024-04-10/
LOCATION:Ain Karem\, Zum Weiher 8\, Ruppichteroth\, Nordrhein-Westfalen\, 53809\, Deutschland
CATEGORIES:FABI
ATTACH;FMTTYPE=image/jpeg:https://website.ain-karem.de/wp-content/uploads/2022/09/lebenshilfe_512.jpg
END:VEVENT
BEGIN:VEVENT
DTSTART;TZID=Europe/Berlin:20240410T190000
DTEND;TZID=Europe/Berlin:20240410T200000
DTSTAMP:20260422T005530
CREATED:20231211T143519Z
LAST-MODIFIED:20231211T143519Z
UID:10002018-1712775600-1712779200@website.ain-karem.de
SUMMARY:Meditation und Kontemplation
DESCRIPTION:
URL:https://website.ain-karem.de/event/meditation-und-kontemplation-27/
LOCATION:Ain Karem\, Zum Weiher 8\, Ruppichteroth\, Nordrhein-Westfalen\, 53809\, Deutschland
CATEGORIES:Meditation
ATTACH;FMTTYPE=image/jpeg:https://website.ain-karem.de/wp-content/uploads/2022/08/tropfen_512.jpg
ORGANIZER;CN="Mechtild Franke":MAILTO:mechtildfranke@googlemail.com
END:VEVENT
BEGIN:VEVENT
DTSTART;TZID=Europe/Berlin:20240413T100000
DTEND;TZID=Europe/Berlin:20240413T160000
DTSTAMP:20260422T005530
CREATED:20231212T101424Z
LAST-MODIFIED:20231212T101424Z
UID:10002050-1713002400-1713024000@website.ain-karem.de
SUMMARY:Oasentage
DESCRIPTION:Oasentage\nMit Josefine Dripke\, Atempädagogin\, Geistliche Begleiterin\n\nam 13. April\, 01. Juni und 07. September 2024\n\nBeginn: 10.00 Uhr Ende: gegen 16.00 Uhr\n\nPreis: 80\,- € Kost und Logis sind nicht enthalten.\n\nAnmeldung bei Josefine Dripke\, Telefon 02295-90 95 97\,\nMail jdripke@atembewegung.de\n\nSchon immer gibt es eine menschliche Sehnsucht\, durchlässig zu werden für den von Gott in uns gelegten Lebensgrund. Wir können ihn „Atem“ nennen\, so wie Gott den Geist\, den „Lebensatem“\, in uns gelegt hat. Wer sich dem Atem anvertraut und sich ihm überlässt\, öffnet sich einen Zugang zu einer anderen\, tieferen Wahrnehmungs- und Empfindungsebene\, öffnet sich ein Tor zu einer inneren Welt. Dem Atem „lauschen“ bedeutet\, dem eigenen Leben zu lauschen: Auf die Schwingungen des lebendigen Seins in Leib und Seele zu hören\, sich immer wieder neu aufrichten zu lassen und „begeistet“ zu werden durch den sehr persönlichen „Hauch“ Gottes (= Ruach).\nSie sind eingeladen zu kontemplativer Atem- und Leibarbeit (nach Ilse Middendorf)\, zu geistlichen Impulsen\, zu Begegnung und Austausch.\n\n„Der Atem des Menschen ist eine Leuchte Gottes\, sie durchforscht alle Kammern des Leibes“.\nSprüche 20\,27
URL:https://website.ain-karem.de/event/oasentage/
LOCATION:Ain Karem\, Zum Weiher 8\, Ruppichteroth\, Nordrhein-Westfalen\, 53809\, Deutschland
CATEGORIES:Atemarbeit,Seminare
ATTACH;FMTTYPE=image/jpeg:https://website.ain-karem.de/wp-content/uploads/2022/08/atmen_425.jpg
ORGANIZER;CN="Josefine Dripke":MAILTO:jdripke@atembewegung.de
END:VEVENT
BEGIN:VEVENT
DTSTART;TZID=Europe/Berlin:20240415T171500
DTEND;TZID=Europe/Berlin:20240415T183000
DTSTAMP:20260422T005530
CREATED:20220905T121009Z
LAST-MODIFIED:20250107T081207Z
UID:10001131-1713201300-1713205800@website.ain-karem.de
SUMMARY:Yoga mit der FABI
DESCRIPTION:Träger dieser Veranstaltungen ist die\nFamilienbildungsstätte Sankt Augustin \nWeitere Informationen zu Inhalten\, Kosten und Häufigkeiten finden Sie unter:\nwww.fabi-rheinsieg.de \nAnmeldungen unter: \nLebenshilfe Bildung NRW gGmbH\nFABI Rhein-Sieg\nBonner Straße 68a\n53757 Sankt Augustin\n+49 02241 341838
URL:https://website.ain-karem.de/event/yoga-mit-der-familienbildungsstaette-fabi/2024-04-15/
LOCATION:Ain Karem\, Zum Weiher 8\, Ruppichteroth\, Nordrhein-Westfalen\, 53809\, Deutschland
CATEGORIES:FABI
ATTACH;FMTTYPE=image/jpeg:https://website.ain-karem.de/wp-content/uploads/2022/09/lebenshilfe_512.jpg
END:VEVENT
BEGIN:VEVENT
DTSTART;TZID=Europe/Berlin:20240415T190000
DTEND;TZID=Europe/Berlin:20240415T203000
DTSTAMP:20260422T005530
CREATED:20220905T123815Z
LAST-MODIFIED:20250107T081116Z
UID:10001184-1713207600-1713213000@website.ain-karem.de
SUMMARY:Yoga mit der FABI
DESCRIPTION:Träger dieser Veranstaltungen ist die\nFamilienbildungsstätte Sankt Augustin \nWeitere Informationen zu Inhalten\, Kosten und Häufigkeiten finden Sie unter:\nwww.fabi-rheinsieg.de \nAnmeldungen unter: \nLebenshilfe Bildung NRW gGmbH\nFABI Rhein-Sieg\nBonner Straße 68a\n53757 Sankt Augustin\n+49 02241 341838
URL:https://website.ain-karem.de/event/yoga-mit-der-familienbildungsstaette-fabi-2/2024-04-15/
LOCATION:Ain Karem\, Zum Weiher 8\, Ruppichteroth\, Nordrhein-Westfalen\, 53809\, Deutschland
CATEGORIES:FABI
ATTACH;FMTTYPE=image/jpeg:https://website.ain-karem.de/wp-content/uploads/2022/09/lebenshilfe_512.jpg
END:VEVENT
BEGIN:VEVENT
DTSTART;TZID=Europe/Berlin:20240416T173000
DTEND;TZID=Europe/Berlin:20240416T190000
DTSTAMP:20260422T005530
CREATED:20220905T124354Z
LAST-MODIFIED:20250107T081051Z
UID:10001290-1713288600-1713294000@website.ain-karem.de
SUMMARY:Hatha-Yoga mit der FABI
DESCRIPTION:Träger dieser Veranstaltungen ist die\nFamilienbildungsstätte Sankt Augustin \nWeitere Informationen zu Inhalten\, Kosten und Häufigkeiten finden Sie unter:\nwww.fabi-rheinsieg.de \nAnmeldungen unter: \nLebenshilfe Bildung NRW gGmbH\nFABI Rhein-Sieg\nBonner Straße 68a\n53757 Sankt Augustin\n+49 02241 341838
URL:https://website.ain-karem.de/event/hatha-yoga-mit-der-familienbildungsstaette-fabi/2024-04-16/
LOCATION:Ain Karem\, Zum Weiher 8\, Ruppichteroth\, Nordrhein-Westfalen\, 53809\, Deutschland
CATEGORIES:FABI
ATTACH;FMTTYPE=image/jpeg:https://website.ain-karem.de/wp-content/uploads/2022/09/lebenshilfe_512.jpg
END:VEVENT
BEGIN:VEVENT
DTSTART;TZID=Europe/Berlin:20240416T200000
DTEND;TZID=Europe/Berlin:20240416T213000
DTSTAMP:20260422T005530
CREATED:20220905T124543Z
LAST-MODIFIED:20250107T081004Z
UID:10001343-1713297600-1713303000@website.ain-karem.de
SUMMARY:Yoga mit der FABI
DESCRIPTION:Träger dieser Veranstaltungen ist die\nFamilienbildungsstätte Sankt Augustin \nWeitere Informationen zu Inhalten\, Kosten und Häufigkeiten finden Sie unter:\nwww.fabi-rheinsieg.de \nAnmeldungen unter: \nLebenshilfe Bildung NRW gGmbH\nFABI Rhein-Sieg\nBonner Straße 68a\n53757 Sankt Augustin\n+49 02241 341838
URL:https://website.ain-karem.de/event/yoga-mit-der-familienbildungsstaette-fabi-3/2024-04-16/
LOCATION:Ain Karem\, Zum Weiher 8\, Ruppichteroth\, Nordrhein-Westfalen\, 53809\, Deutschland
CATEGORIES:FABI
ATTACH;FMTTYPE=image/jpeg:https://website.ain-karem.de/wp-content/uploads/2022/09/lebenshilfe_512.jpg
END:VEVENT
BEGIN:VEVENT
DTSTART;TZID=Europe/Berlin:20240417T183000
DTEND;TZID=Europe/Berlin:20240417T200000
DTSTAMP:20260422T005530
CREATED:20220905T124731Z
LAST-MODIFIED:20250107T080848Z
UID:10001396-1713378600-1713384000@website.ain-karem.de
SUMMARY:Qi Gong  mit der FABI
DESCRIPTION:Träger dieser Veranstaltungen ist die\nFamilienbildungsstätte Sankt Augustin \nWeitere Informationen zu Inhalten\, Kosten und Häufigkeiten finden Sie unter:\nwww.fabi-rheinsieg.de \nAnmeldungen unter: \nLebenshilfe Bildung NRW gGmbH\nFABI Rhein-Sieg\nBonner Straße 68a\n53757 Sankt Augustin\n+49 02241 341838
URL:https://website.ain-karem.de/event/qi-gong-mit-der-familienbildungsstaette-fabi/2024-04-17/
LOCATION:Ain Karem\, Zum Weiher 8\, Ruppichteroth\, Nordrhein-Westfalen\, 53809\, Deutschland
CATEGORIES:FABI
ATTACH;FMTTYPE=image/jpeg:https://website.ain-karem.de/wp-content/uploads/2022/09/lebenshilfe_512.jpg
END:VEVENT
BEGIN:VEVENT
DTSTART;TZID=Europe/Berlin:20240421T110000
DTEND;TZID=Europe/Berlin:20240421T120000
DTSTAMP:20260422T005530
CREATED:20231212T091521Z
LAST-MODIFIED:20231212T091521Z
UID:10002029-1713697200-1713700800@website.ain-karem.de
SUMMARY:Eucharistiefeier
DESCRIPTION:
URL:https://website.ain-karem.de/event/eucharistiefeier-2/
LOCATION:Ain Karem\, Zum Weiher 8\, Ruppichteroth\, Nordrhein-Westfalen\, 53809\, Deutschland
CATEGORIES:Gottesdienst
ATTACH;FMTTYPE=image/jpeg:https://website.ain-karem.de/wp-content/uploads/2022/09/Corpus-Kapelle_370.jpg
END:VEVENT
BEGIN:VEVENT
DTSTART;TZID=Europe/Berlin:20240422T171500
DTEND;TZID=Europe/Berlin:20240422T183000
DTSTAMP:20260422T005530
CREATED:20220905T121009Z
LAST-MODIFIED:20250107T081207Z
UID:10001132-1713806100-1713810600@website.ain-karem.de
SUMMARY:Yoga mit der FABI
DESCRIPTION:Träger dieser Veranstaltungen ist die\nFamilienbildungsstätte Sankt Augustin \nWeitere Informationen zu Inhalten\, Kosten und Häufigkeiten finden Sie unter:\nwww.fabi-rheinsieg.de \nAnmeldungen unter: \nLebenshilfe Bildung NRW gGmbH\nFABI Rhein-Sieg\nBonner Straße 68a\n53757 Sankt Augustin\n+49 02241 341838
URL:https://website.ain-karem.de/event/yoga-mit-der-familienbildungsstaette-fabi/2024-04-22/
LOCATION:Ain Karem\, Zum Weiher 8\, Ruppichteroth\, Nordrhein-Westfalen\, 53809\, Deutschland
CATEGORIES:FABI
ATTACH;FMTTYPE=image/jpeg:https://website.ain-karem.de/wp-content/uploads/2022/09/lebenshilfe_512.jpg
END:VEVENT
BEGIN:VEVENT
DTSTART;TZID=Europe/Berlin:20240422T190000
DTEND;TZID=Europe/Berlin:20240422T203000
DTSTAMP:20260422T005530
CREATED:20220905T123815Z
LAST-MODIFIED:20250107T081116Z
UID:10001185-1713812400-1713817800@website.ain-karem.de
SUMMARY:Yoga mit der FABI
DESCRIPTION:Träger dieser Veranstaltungen ist die\nFamilienbildungsstätte Sankt Augustin \nWeitere Informationen zu Inhalten\, Kosten und Häufigkeiten finden Sie unter:\nwww.fabi-rheinsieg.de \nAnmeldungen unter: \nLebenshilfe Bildung NRW gGmbH\nFABI Rhein-Sieg\nBonner Straße 68a\n53757 Sankt Augustin\n+49 02241 341838
URL:https://website.ain-karem.de/event/yoga-mit-der-familienbildungsstaette-fabi-2/2024-04-22/
LOCATION:Ain Karem\, Zum Weiher 8\, Ruppichteroth\, Nordrhein-Westfalen\, 53809\, Deutschland
CATEGORIES:FABI
ATTACH;FMTTYPE=image/jpeg:https://website.ain-karem.de/wp-content/uploads/2022/09/lebenshilfe_512.jpg
END:VEVENT
BEGIN:VEVENT
DTSTART;TZID=Europe/Berlin:20240423T173000
DTEND;TZID=Europe/Berlin:20240423T190000
DTSTAMP:20260422T005530
CREATED:20220905T124354Z
LAST-MODIFIED:20250107T081051Z
UID:10001291-1713893400-1713898800@website.ain-karem.de
SUMMARY:Hatha-Yoga mit der FABI
DESCRIPTION:Träger dieser Veranstaltungen ist die\nFamilienbildungsstätte Sankt Augustin \nWeitere Informationen zu Inhalten\, Kosten und Häufigkeiten finden Sie unter:\nwww.fabi-rheinsieg.de \nAnmeldungen unter: \nLebenshilfe Bildung NRW gGmbH\nFABI Rhein-Sieg\nBonner Straße 68a\n53757 Sankt Augustin\n+49 02241 341838
URL:https://website.ain-karem.de/event/hatha-yoga-mit-der-familienbildungsstaette-fabi/2024-04-23/
LOCATION:Ain Karem\, Zum Weiher 8\, Ruppichteroth\, Nordrhein-Westfalen\, 53809\, Deutschland
CATEGORIES:FABI
ATTACH;FMTTYPE=image/jpeg:https://website.ain-karem.de/wp-content/uploads/2022/09/lebenshilfe_512.jpg
END:VEVENT
BEGIN:VEVENT
DTSTART;TZID=Europe/Berlin:20240423T200000
DTEND;TZID=Europe/Berlin:20240423T213000
DTSTAMP:20260422T005530
CREATED:20220905T124543Z
LAST-MODIFIED:20250107T081004Z
UID:10001344-1713902400-1713907800@website.ain-karem.de
SUMMARY:Yoga mit der FABI
DESCRIPTION:Träger dieser Veranstaltungen ist die\nFamilienbildungsstätte Sankt Augustin \nWeitere Informationen zu Inhalten\, Kosten und Häufigkeiten finden Sie unter:\nwww.fabi-rheinsieg.de \nAnmeldungen unter: \nLebenshilfe Bildung NRW gGmbH\nFABI Rhein-Sieg\nBonner Straße 68a\n53757 Sankt Augustin\n+49 02241 341838
URL:https://website.ain-karem.de/event/yoga-mit-der-familienbildungsstaette-fabi-3/2024-04-23/
LOCATION:Ain Karem\, Zum Weiher 8\, Ruppichteroth\, Nordrhein-Westfalen\, 53809\, Deutschland
CATEGORIES:FABI
ATTACH;FMTTYPE=image/jpeg:https://website.ain-karem.de/wp-content/uploads/2022/09/lebenshilfe_512.jpg
END:VEVENT
BEGIN:VEVENT
DTSTART;TZID=Europe/Berlin:20240424T183000
DTEND;TZID=Europe/Berlin:20240424T200000
DTSTAMP:20260422T005530
CREATED:20220905T124731Z
LAST-MODIFIED:20250107T080848Z
UID:10001397-1713983400-1713988800@website.ain-karem.de
SUMMARY:Qi Gong  mit der FABI
DESCRIPTION:Träger dieser Veranstaltungen ist die\nFamilienbildungsstätte Sankt Augustin \nWeitere Informationen zu Inhalten\, Kosten und Häufigkeiten finden Sie unter:\nwww.fabi-rheinsieg.de \nAnmeldungen unter: \nLebenshilfe Bildung NRW gGmbH\nFABI Rhein-Sieg\nBonner Straße 68a\n53757 Sankt Augustin\n+49 02241 341838
URL:https://website.ain-karem.de/event/qi-gong-mit-der-familienbildungsstaette-fabi/2024-04-24/
LOCATION:Ain Karem\, Zum Weiher 8\, Ruppichteroth\, Nordrhein-Westfalen\, 53809\, Deutschland
CATEGORIES:FABI
ATTACH;FMTTYPE=image/jpeg:https://website.ain-karem.de/wp-content/uploads/2022/09/lebenshilfe_512.jpg
END:VEVENT
BEGIN:VEVENT
DTSTART;TZID=Europe/Berlin:20240424T190000
DTEND;TZID=Europe/Berlin:20240424T200000
DTSTAMP:20260422T005530
CREATED:20231211T143546Z
LAST-MODIFIED:20231211T143546Z
UID:10002019-1713985200-1713988800@website.ain-karem.de
SUMMARY:Meditation und Kontemplation
DESCRIPTION:
URL:https://website.ain-karem.de/event/meditation-und-kontemplation-28/
LOCATION:Ain Karem\, Zum Weiher 8\, Ruppichteroth\, Nordrhein-Westfalen\, 53809\, Deutschland
CATEGORIES:Meditation
ATTACH;FMTTYPE=image/jpeg:https://website.ain-karem.de/wp-content/uploads/2022/08/tropfen_512.jpg
ORGANIZER;CN="Mechtild Franke":MAILTO:mechtildfranke@googlemail.com
END:VEVENT
BEGIN:VEVENT
DTSTART;TZID=Europe/Berlin:20240427T100000
DTEND;TZID=Europe/Berlin:20240427T180000
DTSTAMP:20260422T005530
CREATED:20231212T105411Z
LAST-MODIFIED:20250423T035029Z
UID:10002060-1714212000-1714240800@website.ain-karem.de
SUMMARY:Systemische Aufstellungsarbeit
DESCRIPTION:
URL:https://website.ain-karem.de/event/systemische-aufstellungsarbeit-5/2024-04-27/
LOCATION:Ain Karem\, Zum Weiher 8\, Ruppichteroth\, Nordrhein-Westfalen\, 53809\, Deutschland
CATEGORIES:Aufstellungsarbeit
ATTACH;FMTTYPE=image/jpeg:https://website.ain-karem.de/wp-content/uploads/2022/08/aufstellungen_512.jpg
ORGANIZER;CN="Michael N. Schenk":MAILTO:mns@fons-salutaris.de
END:VEVENT
BEGIN:VEVENT
DTSTART;TZID=Europe/Berlin:20240429T171500
DTEND;TZID=Europe/Berlin:20240429T183000
DTSTAMP:20260422T005530
CREATED:20220905T121009Z
LAST-MODIFIED:20250107T081207Z
UID:10001133-1714410900-1714415400@website.ain-karem.de
SUMMARY:Yoga mit der FABI
DESCRIPTION:Träger dieser Veranstaltungen ist die\nFamilienbildungsstätte Sankt Augustin \nWeitere Informationen zu Inhalten\, Kosten und Häufigkeiten finden Sie unter:\nwww.fabi-rheinsieg.de \nAnmeldungen unter: \nLebenshilfe Bildung NRW gGmbH\nFABI Rhein-Sieg\nBonner Straße 68a\n53757 Sankt Augustin\n+49 02241 341838
URL:https://website.ain-karem.de/event/yoga-mit-der-familienbildungsstaette-fabi/2024-04-29/
LOCATION:Ain Karem\, Zum Weiher 8\, Ruppichteroth\, Nordrhein-Westfalen\, 53809\, Deutschland
CATEGORIES:FABI
ATTACH;FMTTYPE=image/jpeg:https://website.ain-karem.de/wp-content/uploads/2022/09/lebenshilfe_512.jpg
END:VEVENT
BEGIN:VEVENT
DTSTART;TZID=Europe/Berlin:20240429T190000
DTEND;TZID=Europe/Berlin:20240429T203000
DTSTAMP:20260422T005530
CREATED:20220905T123815Z
LAST-MODIFIED:20250107T081116Z
UID:10001186-1714417200-1714422600@website.ain-karem.de
SUMMARY:Yoga mit der FABI
DESCRIPTION:Träger dieser Veranstaltungen ist die\nFamilienbildungsstätte Sankt Augustin \nWeitere Informationen zu Inhalten\, Kosten und Häufigkeiten finden Sie unter:\nwww.fabi-rheinsieg.de \nAnmeldungen unter: \nLebenshilfe Bildung NRW gGmbH\nFABI Rhein-Sieg\nBonner Straße 68a\n53757 Sankt Augustin\n+49 02241 341838
URL:https://website.ain-karem.de/event/yoga-mit-der-familienbildungsstaette-fabi-2/2024-04-29/
LOCATION:Ain Karem\, Zum Weiher 8\, Ruppichteroth\, Nordrhein-Westfalen\, 53809\, Deutschland
CATEGORIES:FABI
ATTACH;FMTTYPE=image/jpeg:https://website.ain-karem.de/wp-content/uploads/2022/09/lebenshilfe_512.jpg
END:VEVENT
BEGIN:VEVENT
DTSTART;TZID=Europe/Berlin:20240430T173000
DTEND;TZID=Europe/Berlin:20240430T190000
DTSTAMP:20260422T005530
CREATED:20220905T124354Z
LAST-MODIFIED:20250107T081051Z
UID:10001292-1714498200-1714503600@website.ain-karem.de
SUMMARY:Hatha-Yoga mit der FABI
DESCRIPTION:Träger dieser Veranstaltungen ist die\nFamilienbildungsstätte Sankt Augustin \nWeitere Informationen zu Inhalten\, Kosten und Häufigkeiten finden Sie unter:\nwww.fabi-rheinsieg.de \nAnmeldungen unter: \nLebenshilfe Bildung NRW gGmbH\nFABI Rhein-Sieg\nBonner Straße 68a\n53757 Sankt Augustin\n+49 02241 341838
URL:https://website.ain-karem.de/event/hatha-yoga-mit-der-familienbildungsstaette-fabi/2024-04-30/
LOCATION:Ain Karem\, Zum Weiher 8\, Ruppichteroth\, Nordrhein-Westfalen\, 53809\, Deutschland
CATEGORIES:FABI
ATTACH;FMTTYPE=image/jpeg:https://website.ain-karem.de/wp-content/uploads/2022/09/lebenshilfe_512.jpg
END:VEVENT
BEGIN:VEVENT
DTSTART;TZID=Europe/Berlin:20240430T200000
DTEND;TZID=Europe/Berlin:20240430T213000
DTSTAMP:20260422T005530
CREATED:20220905T124543Z
LAST-MODIFIED:20250107T081004Z
UID:10001345-1714507200-1714512600@website.ain-karem.de
SUMMARY:Yoga mit der FABI
DESCRIPTION:Träger dieser Veranstaltungen ist die\nFamilienbildungsstätte Sankt Augustin \nWeitere Informationen zu Inhalten\, Kosten und Häufigkeiten finden Sie unter:\nwww.fabi-rheinsieg.de \nAnmeldungen unter: \nLebenshilfe Bildung NRW gGmbH\nFABI Rhein-Sieg\nBonner Straße 68a\n53757 Sankt Augustin\n+49 02241 341838
URL:https://website.ain-karem.de/event/yoga-mit-der-familienbildungsstaette-fabi-3/2024-04-30/
LOCATION:Ain Karem\, Zum Weiher 8\, Ruppichteroth\, Nordrhein-Westfalen\, 53809\, Deutschland
CATEGORIES:FABI
ATTACH;FMTTYPE=image/jpeg:https://website.ain-karem.de/wp-content/uploads/2022/09/lebenshilfe_512.jpg
END:VEVENT
END:VCALENDAR