BEGIN:VCALENDAR
VERSION:2.0
PRODID:-//Ain Karem - ECPv6.15.20//NONSGML v1.0//EN
CALSCALE:GREGORIAN
METHOD:PUBLISH
X-ORIGINAL-URL:https://website.ain-karem.de
X-WR-CALDESC:Veranstaltungen für Ain Karem
REFRESH-INTERVAL;VALUE=DURATION:PT1H
X-Robots-Tag:noindex
X-PUBLISHED-TTL:PT1H
BEGIN:VTIMEZONE
TZID:Europe/Berlin
BEGIN:DAYLIGHT
TZOFFSETFROM:+0100
TZOFFSETTO:+0200
TZNAME:CEST
DTSTART:20230326T010000
END:DAYLIGHT
BEGIN:STANDARD
TZOFFSETFROM:+0200
TZOFFSETTO:+0100
TZNAME:CET
DTSTART:20231029T010000
END:STANDARD
BEGIN:DAYLIGHT
TZOFFSETFROM:+0100
TZOFFSETTO:+0200
TZNAME:CEST
DTSTART:20240331T010000
END:DAYLIGHT
BEGIN:STANDARD
TZOFFSETFROM:+0200
TZOFFSETTO:+0100
TZNAME:CET
DTSTART:20241027T010000
END:STANDARD
BEGIN:DAYLIGHT
TZOFFSETFROM:+0100
TZOFFSETTO:+0200
TZNAME:CEST
DTSTART:20250330T010000
END:DAYLIGHT
BEGIN:STANDARD
TZOFFSETFROM:+0200
TZOFFSETTO:+0100
TZNAME:CET
DTSTART:20251026T010000
END:STANDARD
END:VTIMEZONE
BEGIN:VEVENT
DTSTART;TZID=Europe/Berlin:20240101T171500
DTEND;TZID=Europe/Berlin:20240101T183000
DTSTAMP:20260422T061406
CREATED:20220905T121009Z
LAST-MODIFIED:20250107T081207Z
UID:10001116-1704129300-1704133800@website.ain-karem.de
SUMMARY:Yoga mit der FABI
DESCRIPTION:Träger dieser Veranstaltungen ist die\nFamilienbildungsstätte Sankt Augustin \nWeitere Informationen zu Inhalten\, Kosten und Häufigkeiten finden Sie unter:\nwww.fabi-rheinsieg.de \nAnmeldungen unter: \nLebenshilfe Bildung NRW gGmbH\nFABI Rhein-Sieg\nBonner Straße 68a\n53757 Sankt Augustin\n+49 02241 341838
URL:https://website.ain-karem.de/event/yoga-mit-der-familienbildungsstaette-fabi/2024-01-01/
LOCATION:Ain Karem\, Zum Weiher 8\, Ruppichteroth\, Nordrhein-Westfalen\, 53809\, Deutschland
CATEGORIES:FABI
ATTACH;FMTTYPE=image/jpeg:https://website.ain-karem.de/wp-content/uploads/2022/09/lebenshilfe_512.jpg
END:VEVENT
BEGIN:VEVENT
DTSTART;TZID=Europe/Berlin:20240101T190000
DTEND;TZID=Europe/Berlin:20240101T203000
DTSTAMP:20260422T061406
CREATED:20220905T123815Z
LAST-MODIFIED:20250107T081116Z
UID:10001169-1704135600-1704141000@website.ain-karem.de
SUMMARY:Yoga mit der FABI
DESCRIPTION:Träger dieser Veranstaltungen ist die\nFamilienbildungsstätte Sankt Augustin \nWeitere Informationen zu Inhalten\, Kosten und Häufigkeiten finden Sie unter:\nwww.fabi-rheinsieg.de \nAnmeldungen unter: \nLebenshilfe Bildung NRW gGmbH\nFABI Rhein-Sieg\nBonner Straße 68a\n53757 Sankt Augustin\n+49 02241 341838
URL:https://website.ain-karem.de/event/yoga-mit-der-familienbildungsstaette-fabi-2/2024-01-01/
LOCATION:Ain Karem\, Zum Weiher 8\, Ruppichteroth\, Nordrhein-Westfalen\, 53809\, Deutschland
CATEGORIES:FABI
ATTACH;FMTTYPE=image/jpeg:https://website.ain-karem.de/wp-content/uploads/2022/09/lebenshilfe_512.jpg
END:VEVENT
BEGIN:VEVENT
DTSTART;TZID=Europe/Berlin:20240102T173000
DTEND;TZID=Europe/Berlin:20240102T190000
DTSTAMP:20260422T061406
CREATED:20220905T124354Z
LAST-MODIFIED:20250107T081051Z
UID:10001275-1704216600-1704222000@website.ain-karem.de
SUMMARY:Hatha-Yoga mit der FABI
DESCRIPTION:Träger dieser Veranstaltungen ist die\nFamilienbildungsstätte Sankt Augustin \nWeitere Informationen zu Inhalten\, Kosten und Häufigkeiten finden Sie unter:\nwww.fabi-rheinsieg.de \nAnmeldungen unter: \nLebenshilfe Bildung NRW gGmbH\nFABI Rhein-Sieg\nBonner Straße 68a\n53757 Sankt Augustin\n+49 02241 341838
URL:https://website.ain-karem.de/event/hatha-yoga-mit-der-familienbildungsstaette-fabi/2024-01-02/
LOCATION:Ain Karem\, Zum Weiher 8\, Ruppichteroth\, Nordrhein-Westfalen\, 53809\, Deutschland
CATEGORIES:FABI
ATTACH;FMTTYPE=image/jpeg:https://website.ain-karem.de/wp-content/uploads/2022/09/lebenshilfe_512.jpg
END:VEVENT
BEGIN:VEVENT
DTSTART;TZID=Europe/Berlin:20240102T200000
DTEND;TZID=Europe/Berlin:20240102T213000
DTSTAMP:20260422T061406
CREATED:20220905T124543Z
LAST-MODIFIED:20250107T081004Z
UID:10001328-1704225600-1704231000@website.ain-karem.de
SUMMARY:Yoga mit der FABI
DESCRIPTION:Träger dieser Veranstaltungen ist die\nFamilienbildungsstätte Sankt Augustin \nWeitere Informationen zu Inhalten\, Kosten und Häufigkeiten finden Sie unter:\nwww.fabi-rheinsieg.de \nAnmeldungen unter: \nLebenshilfe Bildung NRW gGmbH\nFABI Rhein-Sieg\nBonner Straße 68a\n53757 Sankt Augustin\n+49 02241 341838
URL:https://website.ain-karem.de/event/yoga-mit-der-familienbildungsstaette-fabi-3/2024-01-02/
LOCATION:Ain Karem\, Zum Weiher 8\, Ruppichteroth\, Nordrhein-Westfalen\, 53809\, Deutschland
CATEGORIES:FABI
ATTACH;FMTTYPE=image/jpeg:https://website.ain-karem.de/wp-content/uploads/2022/09/lebenshilfe_512.jpg
END:VEVENT
BEGIN:VEVENT
DTSTART;TZID=Europe/Berlin:20240103T183000
DTEND;TZID=Europe/Berlin:20240103T200000
DTSTAMP:20260422T061406
CREATED:20220905T124731Z
LAST-MODIFIED:20250107T080848Z
UID:10001381-1704306600-1704312000@website.ain-karem.de
SUMMARY:Qi Gong  mit der FABI
DESCRIPTION:Träger dieser Veranstaltungen ist die\nFamilienbildungsstätte Sankt Augustin \nWeitere Informationen zu Inhalten\, Kosten und Häufigkeiten finden Sie unter:\nwww.fabi-rheinsieg.de \nAnmeldungen unter: \nLebenshilfe Bildung NRW gGmbH\nFABI Rhein-Sieg\nBonner Straße 68a\n53757 Sankt Augustin\n+49 02241 341838
URL:https://website.ain-karem.de/event/qi-gong-mit-der-familienbildungsstaette-fabi/2024-01-03/
LOCATION:Ain Karem\, Zum Weiher 8\, Ruppichteroth\, Nordrhein-Westfalen\, 53809\, Deutschland
CATEGORIES:FABI
ATTACH;FMTTYPE=image/jpeg:https://website.ain-karem.de/wp-content/uploads/2022/09/lebenshilfe_512.jpg
END:VEVENT
BEGIN:VEVENT
DTSTART;TZID=Europe/Berlin:20240108T171500
DTEND;TZID=Europe/Berlin:20240108T183000
DTSTAMP:20260422T061406
CREATED:20220905T121009Z
LAST-MODIFIED:20250107T081207Z
UID:10001117-1704734100-1704738600@website.ain-karem.de
SUMMARY:Yoga mit der FABI
DESCRIPTION:Träger dieser Veranstaltungen ist die\nFamilienbildungsstätte Sankt Augustin \nWeitere Informationen zu Inhalten\, Kosten und Häufigkeiten finden Sie unter:\nwww.fabi-rheinsieg.de \nAnmeldungen unter: \nLebenshilfe Bildung NRW gGmbH\nFABI Rhein-Sieg\nBonner Straße 68a\n53757 Sankt Augustin\n+49 02241 341838
URL:https://website.ain-karem.de/event/yoga-mit-der-familienbildungsstaette-fabi/2024-01-08/
LOCATION:Ain Karem\, Zum Weiher 8\, Ruppichteroth\, Nordrhein-Westfalen\, 53809\, Deutschland
CATEGORIES:FABI
ATTACH;FMTTYPE=image/jpeg:https://website.ain-karem.de/wp-content/uploads/2022/09/lebenshilfe_512.jpg
END:VEVENT
BEGIN:VEVENT
DTSTART;TZID=Europe/Berlin:20240108T190000
DTEND;TZID=Europe/Berlin:20240108T203000
DTSTAMP:20260422T061406
CREATED:20220905T123815Z
LAST-MODIFIED:20250107T081116Z
UID:10001170-1704740400-1704745800@website.ain-karem.de
SUMMARY:Yoga mit der FABI
DESCRIPTION:Träger dieser Veranstaltungen ist die\nFamilienbildungsstätte Sankt Augustin \nWeitere Informationen zu Inhalten\, Kosten und Häufigkeiten finden Sie unter:\nwww.fabi-rheinsieg.de \nAnmeldungen unter: \nLebenshilfe Bildung NRW gGmbH\nFABI Rhein-Sieg\nBonner Straße 68a\n53757 Sankt Augustin\n+49 02241 341838
URL:https://website.ain-karem.de/event/yoga-mit-der-familienbildungsstaette-fabi-2/2024-01-08/
LOCATION:Ain Karem\, Zum Weiher 8\, Ruppichteroth\, Nordrhein-Westfalen\, 53809\, Deutschland
CATEGORIES:FABI
ATTACH;FMTTYPE=image/jpeg:https://website.ain-karem.de/wp-content/uploads/2022/09/lebenshilfe_512.jpg
END:VEVENT
BEGIN:VEVENT
DTSTART;TZID=Europe/Berlin:20240109T173000
DTEND;TZID=Europe/Berlin:20240109T190000
DTSTAMP:20260422T061406
CREATED:20220905T124354Z
LAST-MODIFIED:20250107T081051Z
UID:10001276-1704821400-1704826800@website.ain-karem.de
SUMMARY:Hatha-Yoga mit der FABI
DESCRIPTION:Träger dieser Veranstaltungen ist die\nFamilienbildungsstätte Sankt Augustin \nWeitere Informationen zu Inhalten\, Kosten und Häufigkeiten finden Sie unter:\nwww.fabi-rheinsieg.de \nAnmeldungen unter: \nLebenshilfe Bildung NRW gGmbH\nFABI Rhein-Sieg\nBonner Straße 68a\n53757 Sankt Augustin\n+49 02241 341838
URL:https://website.ain-karem.de/event/hatha-yoga-mit-der-familienbildungsstaette-fabi/2024-01-09/
LOCATION:Ain Karem\, Zum Weiher 8\, Ruppichteroth\, Nordrhein-Westfalen\, 53809\, Deutschland
CATEGORIES:FABI
ATTACH;FMTTYPE=image/jpeg:https://website.ain-karem.de/wp-content/uploads/2022/09/lebenshilfe_512.jpg
END:VEVENT
BEGIN:VEVENT
DTSTART;TZID=Europe/Berlin:20240109T200000
DTEND;TZID=Europe/Berlin:20240109T213000
DTSTAMP:20260422T061406
CREATED:20220905T124543Z
LAST-MODIFIED:20250107T081004Z
UID:10001329-1704830400-1704835800@website.ain-karem.de
SUMMARY:Yoga mit der FABI
DESCRIPTION:Träger dieser Veranstaltungen ist die\nFamilienbildungsstätte Sankt Augustin \nWeitere Informationen zu Inhalten\, Kosten und Häufigkeiten finden Sie unter:\nwww.fabi-rheinsieg.de \nAnmeldungen unter: \nLebenshilfe Bildung NRW gGmbH\nFABI Rhein-Sieg\nBonner Straße 68a\n53757 Sankt Augustin\n+49 02241 341838
URL:https://website.ain-karem.de/event/yoga-mit-der-familienbildungsstaette-fabi-3/2024-01-09/
LOCATION:Ain Karem\, Zum Weiher 8\, Ruppichteroth\, Nordrhein-Westfalen\, 53809\, Deutschland
CATEGORIES:FABI
ATTACH;FMTTYPE=image/jpeg:https://website.ain-karem.de/wp-content/uploads/2022/09/lebenshilfe_512.jpg
END:VEVENT
BEGIN:VEVENT
DTSTART;TZID=Europe/Berlin:20240110T183000
DTEND;TZID=Europe/Berlin:20240110T200000
DTSTAMP:20260422T061406
CREATED:20220905T124731Z
LAST-MODIFIED:20250107T080848Z
UID:10001382-1704911400-1704916800@website.ain-karem.de
SUMMARY:Qi Gong  mit der FABI
DESCRIPTION:Träger dieser Veranstaltungen ist die\nFamilienbildungsstätte Sankt Augustin \nWeitere Informationen zu Inhalten\, Kosten und Häufigkeiten finden Sie unter:\nwww.fabi-rheinsieg.de \nAnmeldungen unter: \nLebenshilfe Bildung NRW gGmbH\nFABI Rhein-Sieg\nBonner Straße 68a\n53757 Sankt Augustin\n+49 02241 341838
URL:https://website.ain-karem.de/event/qi-gong-mit-der-familienbildungsstaette-fabi/2024-01-10/
LOCATION:Ain Karem\, Zum Weiher 8\, Ruppichteroth\, Nordrhein-Westfalen\, 53809\, Deutschland
CATEGORIES:FABI
ATTACH;FMTTYPE=image/jpeg:https://website.ain-karem.de/wp-content/uploads/2022/09/lebenshilfe_512.jpg
END:VEVENT
BEGIN:VEVENT
DTSTART;TZID=Europe/Berlin:20240110T190000
DTEND;TZID=Europe/Berlin:20240110T200000
DTSTAMP:20260422T061406
CREATED:20231211T143330Z
LAST-MODIFIED:20231211T143330Z
UID:10002012-1704913200-1704916800@website.ain-karem.de
SUMMARY:Meditation und Kontemplation
DESCRIPTION:
URL:https://website.ain-karem.de/event/meditation-und-kontemplation-21/
LOCATION:Ain Karem\, Zum Weiher 8\, Ruppichteroth\, Nordrhein-Westfalen\, 53809\, Deutschland
CATEGORIES:Meditation
ATTACH;FMTTYPE=image/jpeg:https://website.ain-karem.de/wp-content/uploads/2022/08/tropfen_512.jpg
ORGANIZER;CN="Mechtild Franke":MAILTO:mechtildfranke@googlemail.com
END:VEVENT
BEGIN:VEVENT
DTSTART;TZID=Europe/Berlin:20240115T171500
DTEND;TZID=Europe/Berlin:20240115T183000
DTSTAMP:20260422T061406
CREATED:20220905T121009Z
LAST-MODIFIED:20250107T081207Z
UID:10001118-1705338900-1705343400@website.ain-karem.de
SUMMARY:Yoga mit der FABI
DESCRIPTION:Träger dieser Veranstaltungen ist die\nFamilienbildungsstätte Sankt Augustin \nWeitere Informationen zu Inhalten\, Kosten und Häufigkeiten finden Sie unter:\nwww.fabi-rheinsieg.de \nAnmeldungen unter: \nLebenshilfe Bildung NRW gGmbH\nFABI Rhein-Sieg\nBonner Straße 68a\n53757 Sankt Augustin\n+49 02241 341838
URL:https://website.ain-karem.de/event/yoga-mit-der-familienbildungsstaette-fabi/2024-01-15/
LOCATION:Ain Karem\, Zum Weiher 8\, Ruppichteroth\, Nordrhein-Westfalen\, 53809\, Deutschland
CATEGORIES:FABI
ATTACH;FMTTYPE=image/jpeg:https://website.ain-karem.de/wp-content/uploads/2022/09/lebenshilfe_512.jpg
END:VEVENT
BEGIN:VEVENT
DTSTART;TZID=Europe/Berlin:20240115T190000
DTEND;TZID=Europe/Berlin:20240115T203000
DTSTAMP:20260422T061406
CREATED:20220905T123815Z
LAST-MODIFIED:20250107T081116Z
UID:10001171-1705345200-1705350600@website.ain-karem.de
SUMMARY:Yoga mit der FABI
DESCRIPTION:Träger dieser Veranstaltungen ist die\nFamilienbildungsstätte Sankt Augustin \nWeitere Informationen zu Inhalten\, Kosten und Häufigkeiten finden Sie unter:\nwww.fabi-rheinsieg.de \nAnmeldungen unter: \nLebenshilfe Bildung NRW gGmbH\nFABI Rhein-Sieg\nBonner Straße 68a\n53757 Sankt Augustin\n+49 02241 341838
URL:https://website.ain-karem.de/event/yoga-mit-der-familienbildungsstaette-fabi-2/2024-01-15/
LOCATION:Ain Karem\, Zum Weiher 8\, Ruppichteroth\, Nordrhein-Westfalen\, 53809\, Deutschland
CATEGORIES:FABI
ATTACH;FMTTYPE=image/jpeg:https://website.ain-karem.de/wp-content/uploads/2022/09/lebenshilfe_512.jpg
END:VEVENT
BEGIN:VEVENT
DTSTART;TZID=Europe/Berlin:20240116T173000
DTEND;TZID=Europe/Berlin:20240116T190000
DTSTAMP:20260422T061406
CREATED:20220905T124354Z
LAST-MODIFIED:20250107T081051Z
UID:10001277-1705426200-1705431600@website.ain-karem.de
SUMMARY:Hatha-Yoga mit der FABI
DESCRIPTION:Träger dieser Veranstaltungen ist die\nFamilienbildungsstätte Sankt Augustin \nWeitere Informationen zu Inhalten\, Kosten und Häufigkeiten finden Sie unter:\nwww.fabi-rheinsieg.de \nAnmeldungen unter: \nLebenshilfe Bildung NRW gGmbH\nFABI Rhein-Sieg\nBonner Straße 68a\n53757 Sankt Augustin\n+49 02241 341838
URL:https://website.ain-karem.de/event/hatha-yoga-mit-der-familienbildungsstaette-fabi/2024-01-16/
LOCATION:Ain Karem\, Zum Weiher 8\, Ruppichteroth\, Nordrhein-Westfalen\, 53809\, Deutschland
CATEGORIES:FABI
ATTACH;FMTTYPE=image/jpeg:https://website.ain-karem.de/wp-content/uploads/2022/09/lebenshilfe_512.jpg
END:VEVENT
BEGIN:VEVENT
DTSTART;TZID=Europe/Berlin:20240116T200000
DTEND;TZID=Europe/Berlin:20240116T213000
DTSTAMP:20260422T061406
CREATED:20220905T124543Z
LAST-MODIFIED:20250107T081004Z
UID:10001330-1705435200-1705440600@website.ain-karem.de
SUMMARY:Yoga mit der FABI
DESCRIPTION:Träger dieser Veranstaltungen ist die\nFamilienbildungsstätte Sankt Augustin \nWeitere Informationen zu Inhalten\, Kosten und Häufigkeiten finden Sie unter:\nwww.fabi-rheinsieg.de \nAnmeldungen unter: \nLebenshilfe Bildung NRW gGmbH\nFABI Rhein-Sieg\nBonner Straße 68a\n53757 Sankt Augustin\n+49 02241 341838
URL:https://website.ain-karem.de/event/yoga-mit-der-familienbildungsstaette-fabi-3/2024-01-16/
LOCATION:Ain Karem\, Zum Weiher 8\, Ruppichteroth\, Nordrhein-Westfalen\, 53809\, Deutschland
CATEGORIES:FABI
ATTACH;FMTTYPE=image/jpeg:https://website.ain-karem.de/wp-content/uploads/2022/09/lebenshilfe_512.jpg
END:VEVENT
BEGIN:VEVENT
DTSTART;TZID=Europe/Berlin:20240117T183000
DTEND;TZID=Europe/Berlin:20240117T200000
DTSTAMP:20260422T061406
CREATED:20220905T124731Z
LAST-MODIFIED:20250107T080848Z
UID:10001383-1705516200-1705521600@website.ain-karem.de
SUMMARY:Qi Gong  mit der FABI
DESCRIPTION:Träger dieser Veranstaltungen ist die\nFamilienbildungsstätte Sankt Augustin \nWeitere Informationen zu Inhalten\, Kosten und Häufigkeiten finden Sie unter:\nwww.fabi-rheinsieg.de \nAnmeldungen unter: \nLebenshilfe Bildung NRW gGmbH\nFABI Rhein-Sieg\nBonner Straße 68a\n53757 Sankt Augustin\n+49 02241 341838
URL:https://website.ain-karem.de/event/qi-gong-mit-der-familienbildungsstaette-fabi/2024-01-17/
LOCATION:Ain Karem\, Zum Weiher 8\, Ruppichteroth\, Nordrhein-Westfalen\, 53809\, Deutschland
CATEGORIES:FABI
ATTACH;FMTTYPE=image/jpeg:https://website.ain-karem.de/wp-content/uploads/2022/09/lebenshilfe_512.jpg
END:VEVENT
BEGIN:VEVENT
DTSTART;TZID=Europe/Berlin:20240122T171500
DTEND;TZID=Europe/Berlin:20240122T183000
DTSTAMP:20260422T061406
CREATED:20220905T121009Z
LAST-MODIFIED:20250107T081207Z
UID:10001119-1705943700-1705948200@website.ain-karem.de
SUMMARY:Yoga mit der FABI
DESCRIPTION:Träger dieser Veranstaltungen ist die\nFamilienbildungsstätte Sankt Augustin \nWeitere Informationen zu Inhalten\, Kosten und Häufigkeiten finden Sie unter:\nwww.fabi-rheinsieg.de \nAnmeldungen unter: \nLebenshilfe Bildung NRW gGmbH\nFABI Rhein-Sieg\nBonner Straße 68a\n53757 Sankt Augustin\n+49 02241 341838
URL:https://website.ain-karem.de/event/yoga-mit-der-familienbildungsstaette-fabi/2024-01-22/
LOCATION:Ain Karem\, Zum Weiher 8\, Ruppichteroth\, Nordrhein-Westfalen\, 53809\, Deutschland
CATEGORIES:FABI
ATTACH;FMTTYPE=image/jpeg:https://website.ain-karem.de/wp-content/uploads/2022/09/lebenshilfe_512.jpg
END:VEVENT
BEGIN:VEVENT
DTSTART;TZID=Europe/Berlin:20240122T190000
DTEND;TZID=Europe/Berlin:20240122T203000
DTSTAMP:20260422T061406
CREATED:20220905T123815Z
LAST-MODIFIED:20250107T081116Z
UID:10001172-1705950000-1705955400@website.ain-karem.de
SUMMARY:Yoga mit der FABI
DESCRIPTION:Träger dieser Veranstaltungen ist die\nFamilienbildungsstätte Sankt Augustin \nWeitere Informationen zu Inhalten\, Kosten und Häufigkeiten finden Sie unter:\nwww.fabi-rheinsieg.de \nAnmeldungen unter: \nLebenshilfe Bildung NRW gGmbH\nFABI Rhein-Sieg\nBonner Straße 68a\n53757 Sankt Augustin\n+49 02241 341838
URL:https://website.ain-karem.de/event/yoga-mit-der-familienbildungsstaette-fabi-2/2024-01-22/
LOCATION:Ain Karem\, Zum Weiher 8\, Ruppichteroth\, Nordrhein-Westfalen\, 53809\, Deutschland
CATEGORIES:FABI
ATTACH;FMTTYPE=image/jpeg:https://website.ain-karem.de/wp-content/uploads/2022/09/lebenshilfe_512.jpg
END:VEVENT
BEGIN:VEVENT
DTSTART;TZID=Europe/Berlin:20240123T173000
DTEND;TZID=Europe/Berlin:20240123T190000
DTSTAMP:20260422T061406
CREATED:20220905T124354Z
LAST-MODIFIED:20250107T081051Z
UID:10001278-1706031000-1706036400@website.ain-karem.de
SUMMARY:Hatha-Yoga mit der FABI
DESCRIPTION:Träger dieser Veranstaltungen ist die\nFamilienbildungsstätte Sankt Augustin \nWeitere Informationen zu Inhalten\, Kosten und Häufigkeiten finden Sie unter:\nwww.fabi-rheinsieg.de \nAnmeldungen unter: \nLebenshilfe Bildung NRW gGmbH\nFABI Rhein-Sieg\nBonner Straße 68a\n53757 Sankt Augustin\n+49 02241 341838
URL:https://website.ain-karem.de/event/hatha-yoga-mit-der-familienbildungsstaette-fabi/2024-01-23/
LOCATION:Ain Karem\, Zum Weiher 8\, Ruppichteroth\, Nordrhein-Westfalen\, 53809\, Deutschland
CATEGORIES:FABI
ATTACH;FMTTYPE=image/jpeg:https://website.ain-karem.de/wp-content/uploads/2022/09/lebenshilfe_512.jpg
END:VEVENT
BEGIN:VEVENT
DTSTART;TZID=Europe/Berlin:20240123T200000
DTEND;TZID=Europe/Berlin:20240123T213000
DTSTAMP:20260422T061406
CREATED:20220905T124543Z
LAST-MODIFIED:20250107T081004Z
UID:10001331-1706040000-1706045400@website.ain-karem.de
SUMMARY:Yoga mit der FABI
DESCRIPTION:Träger dieser Veranstaltungen ist die\nFamilienbildungsstätte Sankt Augustin \nWeitere Informationen zu Inhalten\, Kosten und Häufigkeiten finden Sie unter:\nwww.fabi-rheinsieg.de \nAnmeldungen unter: \nLebenshilfe Bildung NRW gGmbH\nFABI Rhein-Sieg\nBonner Straße 68a\n53757 Sankt Augustin\n+49 02241 341838
URL:https://website.ain-karem.de/event/yoga-mit-der-familienbildungsstaette-fabi-3/2024-01-23/
LOCATION:Ain Karem\, Zum Weiher 8\, Ruppichteroth\, Nordrhein-Westfalen\, 53809\, Deutschland
CATEGORIES:FABI
ATTACH;FMTTYPE=image/jpeg:https://website.ain-karem.de/wp-content/uploads/2022/09/lebenshilfe_512.jpg
END:VEVENT
BEGIN:VEVENT
DTSTART;TZID=Europe/Berlin:20240124T183000
DTEND;TZID=Europe/Berlin:20240124T200000
DTSTAMP:20260422T061406
CREATED:20220905T124731Z
LAST-MODIFIED:20250107T080848Z
UID:10001384-1706121000-1706126400@website.ain-karem.de
SUMMARY:Qi Gong  mit der FABI
DESCRIPTION:Träger dieser Veranstaltungen ist die\nFamilienbildungsstätte Sankt Augustin \nWeitere Informationen zu Inhalten\, Kosten und Häufigkeiten finden Sie unter:\nwww.fabi-rheinsieg.de \nAnmeldungen unter: \nLebenshilfe Bildung NRW gGmbH\nFABI Rhein-Sieg\nBonner Straße 68a\n53757 Sankt Augustin\n+49 02241 341838
URL:https://website.ain-karem.de/event/qi-gong-mit-der-familienbildungsstaette-fabi/2024-01-24/
LOCATION:Ain Karem\, Zum Weiher 8\, Ruppichteroth\, Nordrhein-Westfalen\, 53809\, Deutschland
CATEGORIES:FABI
ATTACH;FMTTYPE=image/jpeg:https://website.ain-karem.de/wp-content/uploads/2022/09/lebenshilfe_512.jpg
END:VEVENT
BEGIN:VEVENT
DTSTART;TZID=Europe/Berlin:20240124T190000
DTEND;TZID=Europe/Berlin:20240124T200000
DTSTAMP:20260422T061406
CREATED:20231211T143347Z
LAST-MODIFIED:20231211T143347Z
UID:10002013-1706122800-1706126400@website.ain-karem.de
SUMMARY:Meditation und Kontemplation
DESCRIPTION:
URL:https://website.ain-karem.de/event/meditation-und-kontemplation-22/
LOCATION:Ain Karem\, Zum Weiher 8\, Ruppichteroth\, Nordrhein-Westfalen\, 53809\, Deutschland
CATEGORIES:Meditation
ATTACH;FMTTYPE=image/jpeg:https://website.ain-karem.de/wp-content/uploads/2022/08/tropfen_512.jpg
ORGANIZER;CN="Mechtild Franke":MAILTO:mechtildfranke@googlemail.com
END:VEVENT
BEGIN:VEVENT
DTSTART;TZID=Europe/Berlin:20240127T100000
DTEND;TZID=Europe/Berlin:20240127T180000
DTSTAMP:20260422T061406
CREATED:20231212T105411Z
LAST-MODIFIED:20250423T035029Z
UID:10002057-1706349600-1706378400@website.ain-karem.de
SUMMARY:Systemische Aufstellungsarbeit
DESCRIPTION:
URL:https://website.ain-karem.de/event/systemische-aufstellungsarbeit-5/2024-01-27/
LOCATION:Ain Karem\, Zum Weiher 8\, Ruppichteroth\, Nordrhein-Westfalen\, 53809\, Deutschland
CATEGORIES:Aufstellungsarbeit
ATTACH;FMTTYPE=image/jpeg:https://website.ain-karem.de/wp-content/uploads/2022/08/aufstellungen_512.jpg
ORGANIZER;CN="Michael N. Schenk":MAILTO:mns@fons-salutaris.de
END:VEVENT
BEGIN:VEVENT
DTSTART;TZID=Europe/Berlin:20240128T110000
DTEND;TZID=Europe/Berlin:20240128T120000
DTSTAMP:20260422T061406
CREATED:20231212T091314Z
LAST-MODIFIED:20231212T091314Z
UID:10002026-1706439600-1706443200@website.ain-karem.de
SUMMARY:Eucharistiefeier zu Lichtmess
DESCRIPTION:
URL:https://website.ain-karem.de/event/eucharistiefeier-zu-lichtmess/
LOCATION:Ain Karem\, Zum Weiher 8\, Ruppichteroth\, Nordrhein-Westfalen\, 53809\, Deutschland
CATEGORIES:Gottesdienst
ATTACH;FMTTYPE=image/jpeg:https://website.ain-karem.de/wp-content/uploads/2022/09/Corpus-Kapelle_370.jpg
END:VEVENT
BEGIN:VEVENT
DTSTART;TZID=Europe/Berlin:20240129T171500
DTEND;TZID=Europe/Berlin:20240129T183000
DTSTAMP:20260422T061406
CREATED:20220905T121009Z
LAST-MODIFIED:20250107T081207Z
UID:10001120-1706548500-1706553000@website.ain-karem.de
SUMMARY:Yoga mit der FABI
DESCRIPTION:Träger dieser Veranstaltungen ist die\nFamilienbildungsstätte Sankt Augustin \nWeitere Informationen zu Inhalten\, Kosten und Häufigkeiten finden Sie unter:\nwww.fabi-rheinsieg.de \nAnmeldungen unter: \nLebenshilfe Bildung NRW gGmbH\nFABI Rhein-Sieg\nBonner Straße 68a\n53757 Sankt Augustin\n+49 02241 341838
URL:https://website.ain-karem.de/event/yoga-mit-der-familienbildungsstaette-fabi/2024-01-29/
LOCATION:Ain Karem\, Zum Weiher 8\, Ruppichteroth\, Nordrhein-Westfalen\, 53809\, Deutschland
CATEGORIES:FABI
ATTACH;FMTTYPE=image/jpeg:https://website.ain-karem.de/wp-content/uploads/2022/09/lebenshilfe_512.jpg
END:VEVENT
BEGIN:VEVENT
DTSTART;TZID=Europe/Berlin:20240129T190000
DTEND;TZID=Europe/Berlin:20240129T203000
DTSTAMP:20260422T061406
CREATED:20220905T123815Z
LAST-MODIFIED:20250107T081116Z
UID:10001173-1706554800-1706560200@website.ain-karem.de
SUMMARY:Yoga mit der FABI
DESCRIPTION:Träger dieser Veranstaltungen ist die\nFamilienbildungsstätte Sankt Augustin \nWeitere Informationen zu Inhalten\, Kosten und Häufigkeiten finden Sie unter:\nwww.fabi-rheinsieg.de \nAnmeldungen unter: \nLebenshilfe Bildung NRW gGmbH\nFABI Rhein-Sieg\nBonner Straße 68a\n53757 Sankt Augustin\n+49 02241 341838
URL:https://website.ain-karem.de/event/yoga-mit-der-familienbildungsstaette-fabi-2/2024-01-29/
LOCATION:Ain Karem\, Zum Weiher 8\, Ruppichteroth\, Nordrhein-Westfalen\, 53809\, Deutschland
CATEGORIES:FABI
ATTACH;FMTTYPE=image/jpeg:https://website.ain-karem.de/wp-content/uploads/2022/09/lebenshilfe_512.jpg
END:VEVENT
BEGIN:VEVENT
DTSTART;TZID=Europe/Berlin:20240130T173000
DTEND;TZID=Europe/Berlin:20240130T190000
DTSTAMP:20260422T061406
CREATED:20220905T124354Z
LAST-MODIFIED:20250107T081051Z
UID:10001279-1706635800-1706641200@website.ain-karem.de
SUMMARY:Hatha-Yoga mit der FABI
DESCRIPTION:Träger dieser Veranstaltungen ist die\nFamilienbildungsstätte Sankt Augustin \nWeitere Informationen zu Inhalten\, Kosten und Häufigkeiten finden Sie unter:\nwww.fabi-rheinsieg.de \nAnmeldungen unter: \nLebenshilfe Bildung NRW gGmbH\nFABI Rhein-Sieg\nBonner Straße 68a\n53757 Sankt Augustin\n+49 02241 341838
URL:https://website.ain-karem.de/event/hatha-yoga-mit-der-familienbildungsstaette-fabi/2024-01-30/
LOCATION:Ain Karem\, Zum Weiher 8\, Ruppichteroth\, Nordrhein-Westfalen\, 53809\, Deutschland
CATEGORIES:FABI
ATTACH;FMTTYPE=image/jpeg:https://website.ain-karem.de/wp-content/uploads/2022/09/lebenshilfe_512.jpg
END:VEVENT
BEGIN:VEVENT
DTSTART;TZID=Europe/Berlin:20240130T200000
DTEND;TZID=Europe/Berlin:20240130T213000
DTSTAMP:20260422T061406
CREATED:20220905T124543Z
LAST-MODIFIED:20250107T081004Z
UID:10001332-1706644800-1706650200@website.ain-karem.de
SUMMARY:Yoga mit der FABI
DESCRIPTION:Träger dieser Veranstaltungen ist die\nFamilienbildungsstätte Sankt Augustin \nWeitere Informationen zu Inhalten\, Kosten und Häufigkeiten finden Sie unter:\nwww.fabi-rheinsieg.de \nAnmeldungen unter: \nLebenshilfe Bildung NRW gGmbH\nFABI Rhein-Sieg\nBonner Straße 68a\n53757 Sankt Augustin\n+49 02241 341838
URL:https://website.ain-karem.de/event/yoga-mit-der-familienbildungsstaette-fabi-3/2024-01-30/
LOCATION:Ain Karem\, Zum Weiher 8\, Ruppichteroth\, Nordrhein-Westfalen\, 53809\, Deutschland
CATEGORIES:FABI
ATTACH;FMTTYPE=image/jpeg:https://website.ain-karem.de/wp-content/uploads/2022/09/lebenshilfe_512.jpg
END:VEVENT
BEGIN:VEVENT
DTSTART;TZID=Europe/Berlin:20240131T183000
DTEND;TZID=Europe/Berlin:20240131T200000
DTSTAMP:20260422T061406
CREATED:20220905T124731Z
LAST-MODIFIED:20250107T080848Z
UID:10001385-1706725800-1706731200@website.ain-karem.de
SUMMARY:Qi Gong  mit der FABI
DESCRIPTION:Träger dieser Veranstaltungen ist die\nFamilienbildungsstätte Sankt Augustin \nWeitere Informationen zu Inhalten\, Kosten und Häufigkeiten finden Sie unter:\nwww.fabi-rheinsieg.de \nAnmeldungen unter: \nLebenshilfe Bildung NRW gGmbH\nFABI Rhein-Sieg\nBonner Straße 68a\n53757 Sankt Augustin\n+49 02241 341838
URL:https://website.ain-karem.de/event/qi-gong-mit-der-familienbildungsstaette-fabi/2024-01-31/
LOCATION:Ain Karem\, Zum Weiher 8\, Ruppichteroth\, Nordrhein-Westfalen\, 53809\, Deutschland
CATEGORIES:FABI
ATTACH;FMTTYPE=image/jpeg:https://website.ain-karem.de/wp-content/uploads/2022/09/lebenshilfe_512.jpg
END:VEVENT
END:VCALENDAR