BEGIN:VCALENDAR
VERSION:2.0
PRODID:-//Ain Karem - ECPv6.15.20//NONSGML v1.0//EN
CALSCALE:GREGORIAN
METHOD:PUBLISH
X-ORIGINAL-URL:https://website.ain-karem.de
X-WR-CALDESC:Veranstaltungen für Ain Karem
REFRESH-INTERVAL;VALUE=DURATION:PT1H
X-Robots-Tag:noindex
X-PUBLISHED-TTL:PT1H
BEGIN:VTIMEZONE
TZID:Europe/Berlin
BEGIN:DAYLIGHT
TZOFFSETFROM:+0100
TZOFFSETTO:+0200
TZNAME:CEST
DTSTART:20220327T010000
END:DAYLIGHT
BEGIN:STANDARD
TZOFFSETFROM:+0200
TZOFFSETTO:+0100
TZNAME:CET
DTSTART:20221030T010000
END:STANDARD
BEGIN:DAYLIGHT
TZOFFSETFROM:+0100
TZOFFSETTO:+0200
TZNAME:CEST
DTSTART:20230326T010000
END:DAYLIGHT
BEGIN:STANDARD
TZOFFSETFROM:+0200
TZOFFSETTO:+0100
TZNAME:CET
DTSTART:20231029T010000
END:STANDARD
BEGIN:DAYLIGHT
TZOFFSETFROM:+0100
TZOFFSETTO:+0200
TZNAME:CEST
DTSTART:20240331T010000
END:DAYLIGHT
BEGIN:STANDARD
TZOFFSETFROM:+0200
TZOFFSETTO:+0100
TZNAME:CET
DTSTART:20241027T010000
END:STANDARD
END:VTIMEZONE
BEGIN:VEVENT
DTSTART;TZID=Europe/Berlin:20230402T110000
DTEND;TZID=Europe/Berlin:20230402T123000
DTSTAMP:20260422T213336
CREATED:20221221T052744Z
LAST-MODIFIED:20230327T094138Z
UID:10000375-1680433200-1680438600@website.ain-karem.de
SUMMARY:Gottesdienst mit Palmweihe
DESCRIPTION:am Sonntag\, 2. April\, feiern wir um 11 Uhr zum Palmsonntag die Hl.\nEucharistie gemeinsam mit dem Sister-Act-Choir von Waldbröl. \nBeim Kirchencafé auf Palmsonntag bitten wir für dieses Mal keine eigenen\nBacksachen mitzubringen – Frau Rau wird uns mit ihren Leckereien\nüberraschen. Eine Spendenbox steht bereit.
URL:https://website.ain-karem.de/event/gottesdienst-mit-palmweihe/
LOCATION:Ain Karem\, Zum Weiher 8\, Ruppichteroth\, Nordrhein-Westfalen\, 53809\, Deutschland
CATEGORIES:Gottesdienst
ATTACH;FMTTYPE=image/jpeg:https://website.ain-karem.de/wp-content/uploads/2022/09/Corpus-Kapelle_370.jpg
END:VEVENT
BEGIN:VEVENT
DTSTART;TZID=Europe/Berlin:20230402T190000
DTEND;TZID=Europe/Berlin:20230402T200000
DTSTAMP:20260422T213336
CREATED:20221221T051431Z
LAST-MODIFIED:20221221T051431Z
UID:10000366-1680462000-1680465600@website.ain-karem.de
SUMMARY:Meditation und Kontemplation
DESCRIPTION:
URL:https://website.ain-karem.de/event/meditation-und-kontemplation-15/
LOCATION:Ain Karem\, Zum Weiher 8\, Ruppichteroth\, Nordrhein-Westfalen\, 53809\, Deutschland
CATEGORIES:Meditation
ATTACH;FMTTYPE=image/jpeg:https://website.ain-karem.de/wp-content/uploads/2022/08/tropfen_512.jpg
ORGANIZER;CN="Mechtild Franke":MAILTO:mechtildfranke@googlemail.com
END:VEVENT
BEGIN:VEVENT
DTSTART;TZID=Europe/Berlin:20230403T171500
DTEND;TZID=Europe/Berlin:20230403T183000
DTSTAMP:20260422T213336
CREATED:20220905T121009Z
LAST-MODIFIED:20250107T081207Z
UID:10000669-1680542100-1680546600@website.ain-karem.de
SUMMARY:Yoga mit der FABI
DESCRIPTION:Träger dieser Veranstaltungen ist die\nFamilienbildungsstätte Sankt Augustin \nWeitere Informationen zu Inhalten\, Kosten und Häufigkeiten finden Sie unter:\nwww.fabi-rheinsieg.de \nAnmeldungen unter: \nLebenshilfe Bildung NRW gGmbH\nFABI Rhein-Sieg\nBonner Straße 68a\n53757 Sankt Augustin\n+49 02241 341838
URL:https://website.ain-karem.de/event/yoga-mit-der-familienbildungsstaette-fabi/2023-04-03/
LOCATION:Ain Karem\, Zum Weiher 8\, Ruppichteroth\, Nordrhein-Westfalen\, 53809\, Deutschland
CATEGORIES:FABI
ATTACH;FMTTYPE=image/jpeg:https://website.ain-karem.de/wp-content/uploads/2022/09/lebenshilfe_512.jpg
END:VEVENT
BEGIN:VEVENT
DTSTART;TZID=Europe/Berlin:20230403T190000
DTEND;TZID=Europe/Berlin:20230403T203000
DTSTAMP:20260422T213336
CREATED:20220905T123815Z
LAST-MODIFIED:20250107T081116Z
UID:10000617-1680548400-1680553800@website.ain-karem.de
SUMMARY:Yoga mit der FABI
DESCRIPTION:Träger dieser Veranstaltungen ist die\nFamilienbildungsstätte Sankt Augustin \nWeitere Informationen zu Inhalten\, Kosten und Häufigkeiten finden Sie unter:\nwww.fabi-rheinsieg.de \nAnmeldungen unter: \nLebenshilfe Bildung NRW gGmbH\nFABI Rhein-Sieg\nBonner Straße 68a\n53757 Sankt Augustin\n+49 02241 341838
URL:https://website.ain-karem.de/event/yoga-mit-der-familienbildungsstaette-fabi-2/2023-04-03/
LOCATION:Ain Karem\, Zum Weiher 8\, Ruppichteroth\, Nordrhein-Westfalen\, 53809\, Deutschland
CATEGORIES:FABI
ATTACH;FMTTYPE=image/jpeg:https://website.ain-karem.de/wp-content/uploads/2022/09/lebenshilfe_512.jpg
END:VEVENT
BEGIN:VEVENT
DTSTART;TZID=Europe/Berlin:20230404T173000
DTEND;TZID=Europe/Berlin:20230404T190000
DTSTAMP:20260422T213336
CREATED:20220905T124354Z
LAST-MODIFIED:20250107T081051Z
UID:10000513-1680629400-1680634800@website.ain-karem.de
SUMMARY:Hatha-Yoga mit der FABI
DESCRIPTION:Träger dieser Veranstaltungen ist die\nFamilienbildungsstätte Sankt Augustin \nWeitere Informationen zu Inhalten\, Kosten und Häufigkeiten finden Sie unter:\nwww.fabi-rheinsieg.de \nAnmeldungen unter: \nLebenshilfe Bildung NRW gGmbH\nFABI Rhein-Sieg\nBonner Straße 68a\n53757 Sankt Augustin\n+49 02241 341838
URL:https://website.ain-karem.de/event/hatha-yoga-mit-der-familienbildungsstaette-fabi/2023-04-04/
LOCATION:Ain Karem\, Zum Weiher 8\, Ruppichteroth\, Nordrhein-Westfalen\, 53809\, Deutschland
CATEGORIES:FABI
ATTACH;FMTTYPE=image/jpeg:https://website.ain-karem.de/wp-content/uploads/2022/09/lebenshilfe_512.jpg
END:VEVENT
BEGIN:VEVENT
DTSTART;TZID=Europe/Berlin:20230404T200000
DTEND;TZID=Europe/Berlin:20230404T213000
DTSTAMP:20260422T213336
CREATED:20220905T124543Z
LAST-MODIFIED:20250107T081004Z
UID:10000461-1680638400-1680643800@website.ain-karem.de
SUMMARY:Yoga mit der FABI
DESCRIPTION:Träger dieser Veranstaltungen ist die\nFamilienbildungsstätte Sankt Augustin \nWeitere Informationen zu Inhalten\, Kosten und Häufigkeiten finden Sie unter:\nwww.fabi-rheinsieg.de \nAnmeldungen unter: \nLebenshilfe Bildung NRW gGmbH\nFABI Rhein-Sieg\nBonner Straße 68a\n53757 Sankt Augustin\n+49 02241 341838
URL:https://website.ain-karem.de/event/yoga-mit-der-familienbildungsstaette-fabi-3/2023-04-04/
LOCATION:Ain Karem\, Zum Weiher 8\, Ruppichteroth\, Nordrhein-Westfalen\, 53809\, Deutschland
CATEGORIES:FABI
ATTACH;FMTTYPE=image/jpeg:https://website.ain-karem.de/wp-content/uploads/2022/09/lebenshilfe_512.jpg
END:VEVENT
BEGIN:VEVENT
DTSTART;TZID=Europe/Berlin:20230405T183000
DTEND;TZID=Europe/Berlin:20230405T200000
DTSTAMP:20260422T213336
CREATED:20220905T124731Z
LAST-MODIFIED:20250107T080848Z
UID:10000409-1680719400-1680724800@website.ain-karem.de
SUMMARY:Qi Gong  mit der FABI
DESCRIPTION:Träger dieser Veranstaltungen ist die\nFamilienbildungsstätte Sankt Augustin \nWeitere Informationen zu Inhalten\, Kosten und Häufigkeiten finden Sie unter:\nwww.fabi-rheinsieg.de \nAnmeldungen unter: \nLebenshilfe Bildung NRW gGmbH\nFABI Rhein-Sieg\nBonner Straße 68a\n53757 Sankt Augustin\n+49 02241 341838
URL:https://website.ain-karem.de/event/qi-gong-mit-der-familienbildungsstaette-fabi/2023-04-05/
LOCATION:Ain Karem\, Zum Weiher 8\, Ruppichteroth\, Nordrhein-Westfalen\, 53809\, Deutschland
CATEGORIES:FABI
ATTACH;FMTTYPE=image/jpeg:https://website.ain-karem.de/wp-content/uploads/2022/09/lebenshilfe_512.jpg
END:VEVENT
BEGIN:VEVENT
DTSTART;TZID=Europe/Berlin:20230406T203000
DTEND;TZID=Europe/Berlin:20230406T220000
DTSTAMP:20260422T213336
CREATED:20221221T064111Z
LAST-MODIFIED:20221221T064111Z
UID:10000384-1680813000-1680818400@website.ain-karem.de
SUMMARY:Gottesdienst mit Fußwaschung
DESCRIPTION:
URL:https://website.ain-karem.de/event/gottesdienst-mit-fusswaschung-2/
LOCATION:Ain Karem\, Zum Weiher 8\, Ruppichteroth\, Nordrhein-Westfalen\, 53809\, Deutschland
CATEGORIES:Gottesdienst
ATTACH;FMTTYPE=image/jpeg:https://website.ain-karem.de/wp-content/uploads/2022/09/Corpus-Kapelle_370.jpg
END:VEVENT
BEGIN:VEVENT
DTSTART;TZID=Europe/Berlin:20230407T060000
DTEND;TZID=Europe/Berlin:20230407T073000
DTSTAMP:20260422T213336
CREATED:20221221T064219Z
LAST-MODIFIED:20221221T064219Z
UID:10000385-1680847200-1680852600@website.ain-karem.de
SUMMARY:Gottesdienst mit meditativem Kreuzweg
DESCRIPTION:
URL:https://website.ain-karem.de/event/gottesdienst-mit-meditativem-kreuzweg/
LOCATION:Ain Karem\, Zum Weiher 8\, Ruppichteroth\, Nordrhein-Westfalen\, 53809\, Deutschland
CATEGORIES:Gottesdienst
ATTACH;FMTTYPE=image/jpeg:https://website.ain-karem.de/wp-content/uploads/2022/09/Corpus-Kapelle_370.jpg
END:VEVENT
BEGIN:VEVENT
DTSTART;TZID=Europe/Berlin:20230407T150000
DTEND;TZID=Europe/Berlin:20230407T163000
DTSTAMP:20260422T213336
CREATED:20221221T052852Z
LAST-MODIFIED:20221221T053106Z
UID:10000376-1680879600-1680885000@website.ain-karem.de
SUMMARY:Gottesdienst mit Liturgie zur Sterbestunde Jesu
DESCRIPTION:
URL:https://website.ain-karem.de/event/gottesdienst-mit-fusswaschung/
LOCATION:Ain Karem\, Zum Weiher 8\, Ruppichteroth\, Nordrhein-Westfalen\, 53809\, Deutschland
CATEGORIES:Gottesdienst
ATTACH;FMTTYPE=image/jpeg:https://website.ain-karem.de/wp-content/uploads/2022/09/Corpus-Kapelle_370.jpg
END:VEVENT
BEGIN:VEVENT
DTSTART;TZID=Europe/Berlin:20230408T110000
DTEND;TZID=Europe/Berlin:20230408T220000
DTSTAMP:20260422T213336
CREATED:20221221T072709Z
LAST-MODIFIED:20221221T072709Z
UID:10000389-1680951600-1680991200@website.ain-karem.de
SUMMARY:Einkehrtag "Zurück zu den Quellen"
DESCRIPTION:
URL:https://website.ain-karem.de/event/einkehrtag-zurueck-zu-den-quellen/
LOCATION:Ain Karem\, Zum Weiher 8\, Ruppichteroth\, Nordrhein-Westfalen\, 53809\, Deutschland
CATEGORIES:Exerzitien
ATTACH;FMTTYPE=image/jpeg:https://website.ain-karem.de/wp-content/uploads/2022/10/blume_512.jpg
ORGANIZER;CN="Michael N. Schenk":MAILTO:mns@fons-salutaris.de
END:VEVENT
BEGIN:VEVENT
DTSTART;TZID=Europe/Berlin:20230408T220000
DTEND;TZID=Europe/Berlin:20230408T233000
DTSTAMP:20260422T213336
CREATED:20221221T064328Z
LAST-MODIFIED:20221221T064328Z
UID:10000386-1680991200-1680996600@website.ain-karem.de
SUMMARY:Gottesdienst mit Vigil-Feier
DESCRIPTION:
URL:https://website.ain-karem.de/event/gottesdienst-mit-vigil-feier-2/
LOCATION:Ain Karem\, Zum Weiher 8\, Ruppichteroth\, Nordrhein-Westfalen\, 53809\, Deutschland
CATEGORIES:Gottesdienst
ATTACH;FMTTYPE=image/jpeg:https://website.ain-karem.de/wp-content/uploads/2022/09/Corpus-Kapelle_370.jpg
END:VEVENT
BEGIN:VEVENT
DTSTART;TZID=Europe/Berlin:20230409T060000
DTEND;TZID=Europe/Berlin:20230409T073000
DTSTAMP:20260422T213336
CREATED:20221221T064418Z
LAST-MODIFIED:20221221T064418Z
UID:10000387-1681020000-1681025400@website.ain-karem.de
SUMMARY:Gottesdienst\, Feier der Auferstehung
DESCRIPTION:
URL:https://website.ain-karem.de/event/gottesdienst-feier-der-auferstehung/
LOCATION:Ain Karem\, Zum Weiher 8\, Ruppichteroth\, Nordrhein-Westfalen\, 53809\, Deutschland
CATEGORIES:Gottesdienst
ATTACH;FMTTYPE=image/jpeg:https://website.ain-karem.de/wp-content/uploads/2022/09/Corpus-Kapelle_370.jpg
END:VEVENT
BEGIN:VEVENT
DTSTART;TZID=Europe/Berlin:20230409T073000
DTEND;TZID=Europe/Berlin:20230409T093000
DTSTAMP:20260422T213336
CREATED:20230327T094904Z
LAST-MODIFIED:20230327T094904Z
UID:10000900-1681025400-1681032600@website.ain-karem.de
SUMMARY:anschließend gemeinsames Osterfrühstück
DESCRIPTION:
URL:https://website.ain-karem.de/event/anschliessend-gemeinsames-osterfruehstueck/
LOCATION:Ain Karem\, Zum Weiher 8\, Ruppichteroth\, Nordrhein-Westfalen\, 53809\, Deutschland
CATEGORIES:Gottesdienst
ATTACH;FMTTYPE=image/jpeg:https://website.ain-karem.de/wp-content/uploads/2023/03/fruehstueck_370.jpg
END:VEVENT
BEGIN:VEVENT
DTSTART;TZID=Europe/Berlin:20230410T171500
DTEND;TZID=Europe/Berlin:20230410T183000
DTSTAMP:20260422T213336
CREATED:20220905T121009Z
LAST-MODIFIED:20250107T081207Z
UID:10000670-1681146900-1681151400@website.ain-karem.de
SUMMARY:Yoga mit der FABI
DESCRIPTION:Träger dieser Veranstaltungen ist die\nFamilienbildungsstätte Sankt Augustin \nWeitere Informationen zu Inhalten\, Kosten und Häufigkeiten finden Sie unter:\nwww.fabi-rheinsieg.de \nAnmeldungen unter: \nLebenshilfe Bildung NRW gGmbH\nFABI Rhein-Sieg\nBonner Straße 68a\n53757 Sankt Augustin\n+49 02241 341838
URL:https://website.ain-karem.de/event/yoga-mit-der-familienbildungsstaette-fabi/2023-04-10/
LOCATION:Ain Karem\, Zum Weiher 8\, Ruppichteroth\, Nordrhein-Westfalen\, 53809\, Deutschland
CATEGORIES:FABI
ATTACH;FMTTYPE=image/jpeg:https://website.ain-karem.de/wp-content/uploads/2022/09/lebenshilfe_512.jpg
END:VEVENT
BEGIN:VEVENT
DTSTART;TZID=Europe/Berlin:20230410T190000
DTEND;TZID=Europe/Berlin:20230410T203000
DTSTAMP:20260422T213336
CREATED:20220905T123815Z
LAST-MODIFIED:20250107T081116Z
UID:10000618-1681153200-1681158600@website.ain-karem.de
SUMMARY:Yoga mit der FABI
DESCRIPTION:Träger dieser Veranstaltungen ist die\nFamilienbildungsstätte Sankt Augustin \nWeitere Informationen zu Inhalten\, Kosten und Häufigkeiten finden Sie unter:\nwww.fabi-rheinsieg.de \nAnmeldungen unter: \nLebenshilfe Bildung NRW gGmbH\nFABI Rhein-Sieg\nBonner Straße 68a\n53757 Sankt Augustin\n+49 02241 341838
URL:https://website.ain-karem.de/event/yoga-mit-der-familienbildungsstaette-fabi-2/2023-04-10/
LOCATION:Ain Karem\, Zum Weiher 8\, Ruppichteroth\, Nordrhein-Westfalen\, 53809\, Deutschland
CATEGORIES:FABI
ATTACH;FMTTYPE=image/jpeg:https://website.ain-karem.de/wp-content/uploads/2022/09/lebenshilfe_512.jpg
END:VEVENT
BEGIN:VEVENT
DTSTART;TZID=Europe/Berlin:20230411T173000
DTEND;TZID=Europe/Berlin:20230411T190000
DTSTAMP:20260422T213336
CREATED:20220905T124354Z
LAST-MODIFIED:20250107T081051Z
UID:10000514-1681234200-1681239600@website.ain-karem.de
SUMMARY:Hatha-Yoga mit der FABI
DESCRIPTION:Träger dieser Veranstaltungen ist die\nFamilienbildungsstätte Sankt Augustin \nWeitere Informationen zu Inhalten\, Kosten und Häufigkeiten finden Sie unter:\nwww.fabi-rheinsieg.de \nAnmeldungen unter: \nLebenshilfe Bildung NRW gGmbH\nFABI Rhein-Sieg\nBonner Straße 68a\n53757 Sankt Augustin\n+49 02241 341838
URL:https://website.ain-karem.de/event/hatha-yoga-mit-der-familienbildungsstaette-fabi/2023-04-11/
LOCATION:Ain Karem\, Zum Weiher 8\, Ruppichteroth\, Nordrhein-Westfalen\, 53809\, Deutschland
CATEGORIES:FABI
ATTACH;FMTTYPE=image/jpeg:https://website.ain-karem.de/wp-content/uploads/2022/09/lebenshilfe_512.jpg
END:VEVENT
BEGIN:VEVENT
DTSTART;TZID=Europe/Berlin:20230411T200000
DTEND;TZID=Europe/Berlin:20230411T213000
DTSTAMP:20260422T213336
CREATED:20220905T124543Z
LAST-MODIFIED:20250107T081004Z
UID:10000462-1681243200-1681248600@website.ain-karem.de
SUMMARY:Yoga mit der FABI
DESCRIPTION:Träger dieser Veranstaltungen ist die\nFamilienbildungsstätte Sankt Augustin \nWeitere Informationen zu Inhalten\, Kosten und Häufigkeiten finden Sie unter:\nwww.fabi-rheinsieg.de \nAnmeldungen unter: \nLebenshilfe Bildung NRW gGmbH\nFABI Rhein-Sieg\nBonner Straße 68a\n53757 Sankt Augustin\n+49 02241 341838
URL:https://website.ain-karem.de/event/yoga-mit-der-familienbildungsstaette-fabi-3/2023-04-11/
LOCATION:Ain Karem\, Zum Weiher 8\, Ruppichteroth\, Nordrhein-Westfalen\, 53809\, Deutschland
CATEGORIES:FABI
ATTACH;FMTTYPE=image/jpeg:https://website.ain-karem.de/wp-content/uploads/2022/09/lebenshilfe_512.jpg
END:VEVENT
BEGIN:VEVENT
DTSTART;TZID=Europe/Berlin:20230412T183000
DTEND;TZID=Europe/Berlin:20230412T200000
DTSTAMP:20260422T213336
CREATED:20220905T124731Z
LAST-MODIFIED:20250107T080848Z
UID:10000410-1681324200-1681329600@website.ain-karem.de
SUMMARY:Qi Gong  mit der FABI
DESCRIPTION:Träger dieser Veranstaltungen ist die\nFamilienbildungsstätte Sankt Augustin \nWeitere Informationen zu Inhalten\, Kosten und Häufigkeiten finden Sie unter:\nwww.fabi-rheinsieg.de \nAnmeldungen unter: \nLebenshilfe Bildung NRW gGmbH\nFABI Rhein-Sieg\nBonner Straße 68a\n53757 Sankt Augustin\n+49 02241 341838
URL:https://website.ain-karem.de/event/qi-gong-mit-der-familienbildungsstaette-fabi/2023-04-12/
LOCATION:Ain Karem\, Zum Weiher 8\, Ruppichteroth\, Nordrhein-Westfalen\, 53809\, Deutschland
CATEGORIES:FABI
ATTACH;FMTTYPE=image/jpeg:https://website.ain-karem.de/wp-content/uploads/2022/09/lebenshilfe_512.jpg
END:VEVENT
BEGIN:VEVENT
DTSTART;TZID=Europe/Berlin:20230417T171500
DTEND;TZID=Europe/Berlin:20230417T183000
DTSTAMP:20260422T213336
CREATED:20220905T121009Z
LAST-MODIFIED:20250107T081207Z
UID:10000671-1681751700-1681756200@website.ain-karem.de
SUMMARY:Yoga mit der FABI
DESCRIPTION:Träger dieser Veranstaltungen ist die\nFamilienbildungsstätte Sankt Augustin \nWeitere Informationen zu Inhalten\, Kosten und Häufigkeiten finden Sie unter:\nwww.fabi-rheinsieg.de \nAnmeldungen unter: \nLebenshilfe Bildung NRW gGmbH\nFABI Rhein-Sieg\nBonner Straße 68a\n53757 Sankt Augustin\n+49 02241 341838
URL:https://website.ain-karem.de/event/yoga-mit-der-familienbildungsstaette-fabi/2023-04-17/
LOCATION:Ain Karem\, Zum Weiher 8\, Ruppichteroth\, Nordrhein-Westfalen\, 53809\, Deutschland
CATEGORIES:FABI
ATTACH;FMTTYPE=image/jpeg:https://website.ain-karem.de/wp-content/uploads/2022/09/lebenshilfe_512.jpg
END:VEVENT
BEGIN:VEVENT
DTSTART;TZID=Europe/Berlin:20230417T190000
DTEND;TZID=Europe/Berlin:20230417T203000
DTSTAMP:20260422T213336
CREATED:20220905T123815Z
LAST-MODIFIED:20250107T081116Z
UID:10000619-1681758000-1681763400@website.ain-karem.de
SUMMARY:Yoga mit der FABI
DESCRIPTION:Träger dieser Veranstaltungen ist die\nFamilienbildungsstätte Sankt Augustin \nWeitere Informationen zu Inhalten\, Kosten und Häufigkeiten finden Sie unter:\nwww.fabi-rheinsieg.de \nAnmeldungen unter: \nLebenshilfe Bildung NRW gGmbH\nFABI Rhein-Sieg\nBonner Straße 68a\n53757 Sankt Augustin\n+49 02241 341838
URL:https://website.ain-karem.de/event/yoga-mit-der-familienbildungsstaette-fabi-2/2023-04-17/
LOCATION:Ain Karem\, Zum Weiher 8\, Ruppichteroth\, Nordrhein-Westfalen\, 53809\, Deutschland
CATEGORIES:FABI
ATTACH;FMTTYPE=image/jpeg:https://website.ain-karem.de/wp-content/uploads/2022/09/lebenshilfe_512.jpg
END:VEVENT
BEGIN:VEVENT
DTSTART;TZID=Europe/Berlin:20230418T173000
DTEND;TZID=Europe/Berlin:20230418T190000
DTSTAMP:20260422T213336
CREATED:20220905T124354Z
LAST-MODIFIED:20250107T081051Z
UID:10000515-1681839000-1681844400@website.ain-karem.de
SUMMARY:Hatha-Yoga mit der FABI
DESCRIPTION:Träger dieser Veranstaltungen ist die\nFamilienbildungsstätte Sankt Augustin \nWeitere Informationen zu Inhalten\, Kosten und Häufigkeiten finden Sie unter:\nwww.fabi-rheinsieg.de \nAnmeldungen unter: \nLebenshilfe Bildung NRW gGmbH\nFABI Rhein-Sieg\nBonner Straße 68a\n53757 Sankt Augustin\n+49 02241 341838
URL:https://website.ain-karem.de/event/hatha-yoga-mit-der-familienbildungsstaette-fabi/2023-04-18/
LOCATION:Ain Karem\, Zum Weiher 8\, Ruppichteroth\, Nordrhein-Westfalen\, 53809\, Deutschland
CATEGORIES:FABI
ATTACH;FMTTYPE=image/jpeg:https://website.ain-karem.de/wp-content/uploads/2022/09/lebenshilfe_512.jpg
END:VEVENT
BEGIN:VEVENT
DTSTART;TZID=Europe/Berlin:20230418T200000
DTEND;TZID=Europe/Berlin:20230418T213000
DTSTAMP:20260422T213336
CREATED:20220905T124543Z
LAST-MODIFIED:20250107T081004Z
UID:10000463-1681848000-1681853400@website.ain-karem.de
SUMMARY:Yoga mit der FABI
DESCRIPTION:Träger dieser Veranstaltungen ist die\nFamilienbildungsstätte Sankt Augustin \nWeitere Informationen zu Inhalten\, Kosten und Häufigkeiten finden Sie unter:\nwww.fabi-rheinsieg.de \nAnmeldungen unter: \nLebenshilfe Bildung NRW gGmbH\nFABI Rhein-Sieg\nBonner Straße 68a\n53757 Sankt Augustin\n+49 02241 341838
URL:https://website.ain-karem.de/event/yoga-mit-der-familienbildungsstaette-fabi-3/2023-04-18/
LOCATION:Ain Karem\, Zum Weiher 8\, Ruppichteroth\, Nordrhein-Westfalen\, 53809\, Deutschland
CATEGORIES:FABI
ATTACH;FMTTYPE=image/jpeg:https://website.ain-karem.de/wp-content/uploads/2022/09/lebenshilfe_512.jpg
END:VEVENT
BEGIN:VEVENT
DTSTART;TZID=Europe/Berlin:20230419T183000
DTEND;TZID=Europe/Berlin:20230419T200000
DTSTAMP:20260422T213336
CREATED:20220905T124731Z
LAST-MODIFIED:20250107T080848Z
UID:10000411-1681929000-1681934400@website.ain-karem.de
SUMMARY:Qi Gong  mit der FABI
DESCRIPTION:Träger dieser Veranstaltungen ist die\nFamilienbildungsstätte Sankt Augustin \nWeitere Informationen zu Inhalten\, Kosten und Häufigkeiten finden Sie unter:\nwww.fabi-rheinsieg.de \nAnmeldungen unter: \nLebenshilfe Bildung NRW gGmbH\nFABI Rhein-Sieg\nBonner Straße 68a\n53757 Sankt Augustin\n+49 02241 341838
URL:https://website.ain-karem.de/event/qi-gong-mit-der-familienbildungsstaette-fabi/2023-04-19/
LOCATION:Ain Karem\, Zum Weiher 8\, Ruppichteroth\, Nordrhein-Westfalen\, 53809\, Deutschland
CATEGORIES:FABI
ATTACH;FMTTYPE=image/jpeg:https://website.ain-karem.de/wp-content/uploads/2022/09/lebenshilfe_512.jpg
END:VEVENT
BEGIN:VEVENT
DTSTART;TZID=Europe/Berlin:20230420T090000
DTEND;TZID=Europe/Berlin:20230420T103000
DTSTAMP:20260422T213336
CREATED:20230323T160457Z
LAST-MODIFIED:20230324T102623Z
UID:10000778-1681981200-1681986600@website.ain-karem.de
SUMMARY:Eltern-Baby-Treff  mit der Familienbildungsstätte FABI
DESCRIPTION:Eltern-Baby-Treff NRW für Januar / Februar / März 2023 geborene Kinder\nSie haben ein Baby bekommen? Alles ist neu? Wir laden Sie als Eltern ein\, sich in gemütlicher\nAtmosphäre über die ersten Erfahrungen mit Ihrem Baby auszutauschen. Sie bekommen\nviele Anregungen und Tipps was Ihrem Baby und Ihnen gut tut. Es wird über viele Themen\nrund um den Start gesprochen\, wie etwa Ernährung (Stillen\, Babyflasche\, erster Brei)\,\nSchlafrhythmus\, Körpersprache des Babys und vieles mehr.\nEin Schwerpunkt dieses Elternstart-Kurses ist die Babymassage.\nBabys haben ein besonderes Bedürfnis nach Berührung\, Wärme und Liebe.\nDurch die Babymassage stärken Sie als Eltern den innigen\, liebenswerten und respektvollen\nUmgang mit Ihrem Baby. In kleiner Runde erlernen Sie verschiedene Massage-Techniken und\nwerden angeleitet\, Ihr Kind zu massieren.\nInhalte der Babymassage: Ganzkörpermassage\, Massage gegen Blähungen und Koliken\, Wie\nIhr Baby mit Ihnen kommuniziert\, Mehr Zeit füreinander und Freude miteinander\, Die\nWirkung der Massage auf die verschiedenen Organe\, Austausch mit anderen Eltern\nBitte mitbringen:\nWasserfeste Unterlage und ein großes Handtuch/Decke für das Kind\,\netwas zu trinken\, leichte und bequeme Kleidung für die Eltern\, da der Raum sehr warm ist. \nTräger dieser Veranstaltungen ist die\nFamilienbildungsstätte Sankt Augustin \nWeitere Informationen zu Inhalten\, Kosten und Häufigkeiten finden Sie unter:\nwww.fabi-rheinsieg.de \nAnmeldungen unter: \nLebenshilfe Bildung NRW gGmbH\nFABI Rhein-Sieg\nBonner Straße 68a\n53757 Sankt Augustin\n+49 02241 341838
URL:https://website.ain-karem.de/event/eltern-baby-treff-mit-der-familienbildungsstaette-fabi/2023-04-20/
LOCATION:Ain Karem\, Zum Weiher 8\, Ruppichteroth\, Nordrhein-Westfalen\, 53809\, Deutschland
CATEGORIES:FABI
ATTACH;FMTTYPE=image/jpeg:https://website.ain-karem.de/wp-content/uploads/2022/09/lebenshilfe_512.jpg
END:VEVENT
BEGIN:VEVENT
DTSTART;TZID=Europe/Berlin:20230420T104500
DTEND;TZID=Europe/Berlin:20230420T121500
DTSTAMP:20260422T213336
CREATED:20230324T103817Z
LAST-MODIFIED:20230324T103817Z
UID:10000895-1681987500-1681992900@website.ain-karem.de
SUMMARY:Eltern-Baby-Treff  mit der Familienbildungsstätte FABI
DESCRIPTION:Eltern-Baby-Treff NRW für Januar / Februar / März 2023 geborene Kinder\nSie haben ein Baby bekommen? Alles ist neu? Wir laden Sie als Eltern ein\, sich in gemütlicher\nAtmosphäre über die ersten Erfahrungen mit Ihrem Baby auszutauschen. Sie bekommen\nviele Anregungen und Tipps was Ihrem Baby und Ihnen gut tut. Es wird über viele Themen\nrund um den Start gesprochen\, wie etwa Ernährung (Stillen\, Babyflasche\, erster Brei)\,\nSchlafrhythmus\, Körpersprache des Babys und vieles mehr.\nEin Schwerpunkt dieses Elternstart-Kurses ist die Babymassage.\nBabys haben ein besonderes Bedürfnis nach Berührung\, Wärme und Liebe.\nDurch die Babymassage stärken Sie als Eltern den innigen\, liebenswerten und respektvollen\nUmgang mit Ihrem Baby. In kleiner Runde erlernen Sie verschiedene Massage-Techniken und\nwerden angeleitet\, Ihr Kind zu massieren.\nInhalte der Babymassage: Ganzkörpermassage\, Massage gegen Blähungen und Koliken\, Wie\nIhr Baby mit Ihnen kommuniziert\, Mehr Zeit füreinander und Freude miteinander\, Die\nWirkung der Massage auf die verschiedenen Organe\, Austausch mit anderen Eltern\nBitte mitbringen:\nWasserfeste Unterlage und ein großes Handtuch/Decke für das Kind\,\netwas zu trinken\, leichte und bequeme Kleidung für die Eltern\, da der Raum sehr warm ist. \nTräger dieser Veranstaltungen ist die\nFamilienbildungsstätte Sankt Augustin \nWeitere Informationen zu Inhalten\, Kosten und Häufigkeiten finden Sie unter:\nwww.fabi-rheinsieg.de \nAnmeldungen unter: \nLebenshilfe Bildung NRW gGmbH\nFABI Rhein-Sieg\nBonner Straße 68a\n53757 Sankt Augustin\n+49 02241 341838
URL:https://website.ain-karem.de/event/eltern-baby-treff-mit-der-familienbildungsstaette-fabi-2/2023-04-20/
LOCATION:Ain Karem\, Zum Weiher 8\, Ruppichteroth\, Nordrhein-Westfalen\, 53809\, Deutschland
CATEGORIES:FABI
ATTACH;FMTTYPE=image/jpeg:https://website.ain-karem.de/wp-content/uploads/2022/09/lebenshilfe_512.jpg
END:VEVENT
BEGIN:VEVENT
DTSTART;TZID=Europe/Berlin:20230424T171500
DTEND;TZID=Europe/Berlin:20230424T183000
DTSTAMP:20260422T213336
CREATED:20220905T121009Z
LAST-MODIFIED:20250107T081207Z
UID:10000672-1682356500-1682361000@website.ain-karem.de
SUMMARY:Yoga mit der FABI
DESCRIPTION:Träger dieser Veranstaltungen ist die\nFamilienbildungsstätte Sankt Augustin \nWeitere Informationen zu Inhalten\, Kosten und Häufigkeiten finden Sie unter:\nwww.fabi-rheinsieg.de \nAnmeldungen unter: \nLebenshilfe Bildung NRW gGmbH\nFABI Rhein-Sieg\nBonner Straße 68a\n53757 Sankt Augustin\n+49 02241 341838
URL:https://website.ain-karem.de/event/yoga-mit-der-familienbildungsstaette-fabi/2023-04-24/
LOCATION:Ain Karem\, Zum Weiher 8\, Ruppichteroth\, Nordrhein-Westfalen\, 53809\, Deutschland
CATEGORIES:FABI
ATTACH;FMTTYPE=image/jpeg:https://website.ain-karem.de/wp-content/uploads/2022/09/lebenshilfe_512.jpg
END:VEVENT
BEGIN:VEVENT
DTSTART;TZID=Europe/Berlin:20230424T190000
DTEND;TZID=Europe/Berlin:20230424T203000
DTSTAMP:20260422T213336
CREATED:20220905T123815Z
LAST-MODIFIED:20250107T081116Z
UID:10000620-1682362800-1682368200@website.ain-karem.de
SUMMARY:Yoga mit der FABI
DESCRIPTION:Träger dieser Veranstaltungen ist die\nFamilienbildungsstätte Sankt Augustin \nWeitere Informationen zu Inhalten\, Kosten und Häufigkeiten finden Sie unter:\nwww.fabi-rheinsieg.de \nAnmeldungen unter: \nLebenshilfe Bildung NRW gGmbH\nFABI Rhein-Sieg\nBonner Straße 68a\n53757 Sankt Augustin\n+49 02241 341838
URL:https://website.ain-karem.de/event/yoga-mit-der-familienbildungsstaette-fabi-2/2023-04-24/
LOCATION:Ain Karem\, Zum Weiher 8\, Ruppichteroth\, Nordrhein-Westfalen\, 53809\, Deutschland
CATEGORIES:FABI
ATTACH;FMTTYPE=image/jpeg:https://website.ain-karem.de/wp-content/uploads/2022/09/lebenshilfe_512.jpg
END:VEVENT
BEGIN:VEVENT
DTSTART;TZID=Europe/Berlin:20230425T173000
DTEND;TZID=Europe/Berlin:20230425T190000
DTSTAMP:20260422T213336
CREATED:20220905T124354Z
LAST-MODIFIED:20250107T081051Z
UID:10000516-1682443800-1682449200@website.ain-karem.de
SUMMARY:Hatha-Yoga mit der FABI
DESCRIPTION:Träger dieser Veranstaltungen ist die\nFamilienbildungsstätte Sankt Augustin \nWeitere Informationen zu Inhalten\, Kosten und Häufigkeiten finden Sie unter:\nwww.fabi-rheinsieg.de \nAnmeldungen unter: \nLebenshilfe Bildung NRW gGmbH\nFABI Rhein-Sieg\nBonner Straße 68a\n53757 Sankt Augustin\n+49 02241 341838
URL:https://website.ain-karem.de/event/hatha-yoga-mit-der-familienbildungsstaette-fabi/2023-04-25/
LOCATION:Ain Karem\, Zum Weiher 8\, Ruppichteroth\, Nordrhein-Westfalen\, 53809\, Deutschland
CATEGORIES:FABI
ATTACH;FMTTYPE=image/jpeg:https://website.ain-karem.de/wp-content/uploads/2022/09/lebenshilfe_512.jpg
END:VEVENT
BEGIN:VEVENT
DTSTART;TZID=Europe/Berlin:20230425T200000
DTEND;TZID=Europe/Berlin:20230425T213000
DTSTAMP:20260422T213336
CREATED:20220905T124543Z
LAST-MODIFIED:20250107T081004Z
UID:10000464-1682452800-1682458200@website.ain-karem.de
SUMMARY:Yoga mit der FABI
DESCRIPTION:Träger dieser Veranstaltungen ist die\nFamilienbildungsstätte Sankt Augustin \nWeitere Informationen zu Inhalten\, Kosten und Häufigkeiten finden Sie unter:\nwww.fabi-rheinsieg.de \nAnmeldungen unter: \nLebenshilfe Bildung NRW gGmbH\nFABI Rhein-Sieg\nBonner Straße 68a\n53757 Sankt Augustin\n+49 02241 341838
URL:https://website.ain-karem.de/event/yoga-mit-der-familienbildungsstaette-fabi-3/2023-04-25/
LOCATION:Ain Karem\, Zum Weiher 8\, Ruppichteroth\, Nordrhein-Westfalen\, 53809\, Deutschland
CATEGORIES:FABI
ATTACH;FMTTYPE=image/jpeg:https://website.ain-karem.de/wp-content/uploads/2022/09/lebenshilfe_512.jpg
END:VEVENT
END:VCALENDAR