BEGIN:VCALENDAR
VERSION:2.0
PRODID:-//Ain Karem - ECPv6.15.20//NONSGML v1.0//EN
CALSCALE:GREGORIAN
METHOD:PUBLISH
X-ORIGINAL-URL:https://website.ain-karem.de
X-WR-CALDESC:Veranstaltungen für Ain Karem
REFRESH-INTERVAL;VALUE=DURATION:PT1H
X-Robots-Tag:noindex
X-PUBLISHED-TTL:PT1H
BEGIN:VTIMEZONE
TZID:Europe/Berlin
BEGIN:DAYLIGHT
TZOFFSETFROM:+0100
TZOFFSETTO:+0200
TZNAME:CEST
DTSTART:20220327T010000
END:DAYLIGHT
BEGIN:STANDARD
TZOFFSETFROM:+0200
TZOFFSETTO:+0100
TZNAME:CET
DTSTART:20221030T010000
END:STANDARD
BEGIN:DAYLIGHT
TZOFFSETFROM:+0100
TZOFFSETTO:+0200
TZNAME:CEST
DTSTART:20230326T010000
END:DAYLIGHT
BEGIN:STANDARD
TZOFFSETFROM:+0200
TZOFFSETTO:+0100
TZNAME:CET
DTSTART:20231029T010000
END:STANDARD
BEGIN:DAYLIGHT
TZOFFSETFROM:+0100
TZOFFSETTO:+0200
TZNAME:CEST
DTSTART:20240331T010000
END:DAYLIGHT
BEGIN:STANDARD
TZOFFSETFROM:+0200
TZOFFSETTO:+0100
TZNAME:CET
DTSTART:20241027T010000
END:STANDARD
END:VTIMEZONE
BEGIN:VEVENT
DTSTART;TZID=Europe/Berlin:20230301T183000
DTEND;TZID=Europe/Berlin:20230301T200000
DTSTAMP:20260423T010429
CREATED:20220905T124731Z
LAST-MODIFIED:20250107T080848Z
UID:10000404-1677695400-1677700800@website.ain-karem.de
SUMMARY:Qi Gong  mit der FABI
DESCRIPTION:Träger dieser Veranstaltungen ist die\nFamilienbildungsstätte Sankt Augustin \nWeitere Informationen zu Inhalten\, Kosten und Häufigkeiten finden Sie unter:\nwww.fabi-rheinsieg.de \nAnmeldungen unter: \nLebenshilfe Bildung NRW gGmbH\nFABI Rhein-Sieg\nBonner Straße 68a\n53757 Sankt Augustin\n+49 02241 341838
URL:https://website.ain-karem.de/event/qi-gong-mit-der-familienbildungsstaette-fabi/2023-03-01/
LOCATION:Ain Karem\, Zum Weiher 8\, Ruppichteroth\, Nordrhein-Westfalen\, 53809\, Deutschland
CATEGORIES:FABI
ATTACH;FMTTYPE=image/jpeg:https://website.ain-karem.de/wp-content/uploads/2022/09/lebenshilfe_512.jpg
END:VEVENT
BEGIN:VEVENT
DTSTART;TZID=Europe/Berlin:20230306T171500
DTEND;TZID=Europe/Berlin:20230306T183000
DTSTAMP:20260423T010429
CREATED:20220905T121009Z
LAST-MODIFIED:20250107T081207Z
UID:10000665-1678122900-1678127400@website.ain-karem.de
SUMMARY:Yoga mit der FABI
DESCRIPTION:Träger dieser Veranstaltungen ist die\nFamilienbildungsstätte Sankt Augustin \nWeitere Informationen zu Inhalten\, Kosten und Häufigkeiten finden Sie unter:\nwww.fabi-rheinsieg.de \nAnmeldungen unter: \nLebenshilfe Bildung NRW gGmbH\nFABI Rhein-Sieg\nBonner Straße 68a\n53757 Sankt Augustin\n+49 02241 341838
URL:https://website.ain-karem.de/event/yoga-mit-der-familienbildungsstaette-fabi/2023-03-06/
LOCATION:Ain Karem\, Zum Weiher 8\, Ruppichteroth\, Nordrhein-Westfalen\, 53809\, Deutschland
CATEGORIES:FABI
ATTACH;FMTTYPE=image/jpeg:https://website.ain-karem.de/wp-content/uploads/2022/09/lebenshilfe_512.jpg
END:VEVENT
BEGIN:VEVENT
DTSTART;TZID=Europe/Berlin:20230306T190000
DTEND;TZID=Europe/Berlin:20230306T203000
DTSTAMP:20260423T010429
CREATED:20220905T123815Z
LAST-MODIFIED:20250107T081116Z
UID:10000613-1678129200-1678134600@website.ain-karem.de
SUMMARY:Yoga mit der FABI
DESCRIPTION:Träger dieser Veranstaltungen ist die\nFamilienbildungsstätte Sankt Augustin \nWeitere Informationen zu Inhalten\, Kosten und Häufigkeiten finden Sie unter:\nwww.fabi-rheinsieg.de \nAnmeldungen unter: \nLebenshilfe Bildung NRW gGmbH\nFABI Rhein-Sieg\nBonner Straße 68a\n53757 Sankt Augustin\n+49 02241 341838
URL:https://website.ain-karem.de/event/yoga-mit-der-familienbildungsstaette-fabi-2/2023-03-06/
LOCATION:Ain Karem\, Zum Weiher 8\, Ruppichteroth\, Nordrhein-Westfalen\, 53809\, Deutschland
CATEGORIES:FABI
ATTACH;FMTTYPE=image/jpeg:https://website.ain-karem.de/wp-content/uploads/2022/09/lebenshilfe_512.jpg
END:VEVENT
BEGIN:VEVENT
DTSTART;TZID=Europe/Berlin:20230307T173000
DTEND;TZID=Europe/Berlin:20230307T190000
DTSTAMP:20260423T010429
CREATED:20220905T124354Z
LAST-MODIFIED:20250107T081051Z
UID:10000509-1678210200-1678215600@website.ain-karem.de
SUMMARY:Hatha-Yoga mit der FABI
DESCRIPTION:Träger dieser Veranstaltungen ist die\nFamilienbildungsstätte Sankt Augustin \nWeitere Informationen zu Inhalten\, Kosten und Häufigkeiten finden Sie unter:\nwww.fabi-rheinsieg.de \nAnmeldungen unter: \nLebenshilfe Bildung NRW gGmbH\nFABI Rhein-Sieg\nBonner Straße 68a\n53757 Sankt Augustin\n+49 02241 341838
URL:https://website.ain-karem.de/event/hatha-yoga-mit-der-familienbildungsstaette-fabi/2023-03-07/
LOCATION:Ain Karem\, Zum Weiher 8\, Ruppichteroth\, Nordrhein-Westfalen\, 53809\, Deutschland
CATEGORIES:FABI
ATTACH;FMTTYPE=image/jpeg:https://website.ain-karem.de/wp-content/uploads/2022/09/lebenshilfe_512.jpg
END:VEVENT
BEGIN:VEVENT
DTSTART;TZID=Europe/Berlin:20230307T200000
DTEND;TZID=Europe/Berlin:20230307T213000
DTSTAMP:20260423T010429
CREATED:20220905T124543Z
LAST-MODIFIED:20250107T081004Z
UID:10000457-1678219200-1678224600@website.ain-karem.de
SUMMARY:Yoga mit der FABI
DESCRIPTION:Träger dieser Veranstaltungen ist die\nFamilienbildungsstätte Sankt Augustin \nWeitere Informationen zu Inhalten\, Kosten und Häufigkeiten finden Sie unter:\nwww.fabi-rheinsieg.de \nAnmeldungen unter: \nLebenshilfe Bildung NRW gGmbH\nFABI Rhein-Sieg\nBonner Straße 68a\n53757 Sankt Augustin\n+49 02241 341838
URL:https://website.ain-karem.de/event/yoga-mit-der-familienbildungsstaette-fabi-3/2023-03-07/
LOCATION:Ain Karem\, Zum Weiher 8\, Ruppichteroth\, Nordrhein-Westfalen\, 53809\, Deutschland
CATEGORIES:FABI
ATTACH;FMTTYPE=image/jpeg:https://website.ain-karem.de/wp-content/uploads/2022/09/lebenshilfe_512.jpg
END:VEVENT
BEGIN:VEVENT
DTSTART;TZID=Europe/Berlin:20230308T183000
DTEND;TZID=Europe/Berlin:20230308T200000
DTSTAMP:20260423T010429
CREATED:20220905T124731Z
LAST-MODIFIED:20250107T080848Z
UID:10000405-1678300200-1678305600@website.ain-karem.de
SUMMARY:Qi Gong  mit der FABI
DESCRIPTION:Träger dieser Veranstaltungen ist die\nFamilienbildungsstätte Sankt Augustin \nWeitere Informationen zu Inhalten\, Kosten und Häufigkeiten finden Sie unter:\nwww.fabi-rheinsieg.de \nAnmeldungen unter: \nLebenshilfe Bildung NRW gGmbH\nFABI Rhein-Sieg\nBonner Straße 68a\n53757 Sankt Augustin\n+49 02241 341838
URL:https://website.ain-karem.de/event/qi-gong-mit-der-familienbildungsstaette-fabi/2023-03-08/
LOCATION:Ain Karem\, Zum Weiher 8\, Ruppichteroth\, Nordrhein-Westfalen\, 53809\, Deutschland
CATEGORIES:FABI
ATTACH;FMTTYPE=image/jpeg:https://website.ain-karem.de/wp-content/uploads/2022/09/lebenshilfe_512.jpg
END:VEVENT
BEGIN:VEVENT
DTSTART;TZID=Europe/Berlin:20230308T190000
DTEND;TZID=Europe/Berlin:20230308T200000
DTSTAMP:20260423T010429
CREATED:20221221T051358Z
LAST-MODIFIED:20221221T051358Z
UID:10000364-1678302000-1678305600@website.ain-karem.de
SUMMARY:Meditation und Kontemplation
DESCRIPTION:
URL:https://website.ain-karem.de/event/meditation-und-kontemplation-13/
LOCATION:Ain Karem\, Zum Weiher 8\, Ruppichteroth\, Nordrhein-Westfalen\, 53809\, Deutschland
CATEGORIES:Meditation
ATTACH;FMTTYPE=image/jpeg:https://website.ain-karem.de/wp-content/uploads/2022/08/tropfen_512.jpg
ORGANIZER;CN="Mechtild Franke":MAILTO:mechtildfranke@googlemail.com
END:VEVENT
BEGIN:VEVENT
DTSTART;TZID=Europe/Berlin:20230313T171500
DTEND;TZID=Europe/Berlin:20230313T183000
DTSTAMP:20260423T010429
CREATED:20220905T121009Z
LAST-MODIFIED:20250107T081207Z
UID:10000666-1678727700-1678732200@website.ain-karem.de
SUMMARY:Yoga mit der FABI
DESCRIPTION:Träger dieser Veranstaltungen ist die\nFamilienbildungsstätte Sankt Augustin \nWeitere Informationen zu Inhalten\, Kosten und Häufigkeiten finden Sie unter:\nwww.fabi-rheinsieg.de \nAnmeldungen unter: \nLebenshilfe Bildung NRW gGmbH\nFABI Rhein-Sieg\nBonner Straße 68a\n53757 Sankt Augustin\n+49 02241 341838
URL:https://website.ain-karem.de/event/yoga-mit-der-familienbildungsstaette-fabi/2023-03-13/
LOCATION:Ain Karem\, Zum Weiher 8\, Ruppichteroth\, Nordrhein-Westfalen\, 53809\, Deutschland
CATEGORIES:FABI
ATTACH;FMTTYPE=image/jpeg:https://website.ain-karem.de/wp-content/uploads/2022/09/lebenshilfe_512.jpg
END:VEVENT
BEGIN:VEVENT
DTSTART;TZID=Europe/Berlin:20230313T190000
DTEND;TZID=Europe/Berlin:20230313T203000
DTSTAMP:20260423T010429
CREATED:20220905T123815Z
LAST-MODIFIED:20250107T081116Z
UID:10000614-1678734000-1678739400@website.ain-karem.de
SUMMARY:Yoga mit der FABI
DESCRIPTION:Träger dieser Veranstaltungen ist die\nFamilienbildungsstätte Sankt Augustin \nWeitere Informationen zu Inhalten\, Kosten und Häufigkeiten finden Sie unter:\nwww.fabi-rheinsieg.de \nAnmeldungen unter: \nLebenshilfe Bildung NRW gGmbH\nFABI Rhein-Sieg\nBonner Straße 68a\n53757 Sankt Augustin\n+49 02241 341838
URL:https://website.ain-karem.de/event/yoga-mit-der-familienbildungsstaette-fabi-2/2023-03-13/
LOCATION:Ain Karem\, Zum Weiher 8\, Ruppichteroth\, Nordrhein-Westfalen\, 53809\, Deutschland
CATEGORIES:FABI
ATTACH;FMTTYPE=image/jpeg:https://website.ain-karem.de/wp-content/uploads/2022/09/lebenshilfe_512.jpg
END:VEVENT
BEGIN:VEVENT
DTSTART;TZID=Europe/Berlin:20230314T173000
DTEND;TZID=Europe/Berlin:20230314T190000
DTSTAMP:20260423T010429
CREATED:20220905T124354Z
LAST-MODIFIED:20250107T081051Z
UID:10000510-1678815000-1678820400@website.ain-karem.de
SUMMARY:Hatha-Yoga mit der FABI
DESCRIPTION:Träger dieser Veranstaltungen ist die\nFamilienbildungsstätte Sankt Augustin \nWeitere Informationen zu Inhalten\, Kosten und Häufigkeiten finden Sie unter:\nwww.fabi-rheinsieg.de \nAnmeldungen unter: \nLebenshilfe Bildung NRW gGmbH\nFABI Rhein-Sieg\nBonner Straße 68a\n53757 Sankt Augustin\n+49 02241 341838
URL:https://website.ain-karem.de/event/hatha-yoga-mit-der-familienbildungsstaette-fabi/2023-03-14/
LOCATION:Ain Karem\, Zum Weiher 8\, Ruppichteroth\, Nordrhein-Westfalen\, 53809\, Deutschland
CATEGORIES:FABI
ATTACH;FMTTYPE=image/jpeg:https://website.ain-karem.de/wp-content/uploads/2022/09/lebenshilfe_512.jpg
END:VEVENT
BEGIN:VEVENT
DTSTART;TZID=Europe/Berlin:20230314T200000
DTEND;TZID=Europe/Berlin:20230314T213000
DTSTAMP:20260423T010429
CREATED:20220905T124543Z
LAST-MODIFIED:20250107T081004Z
UID:10000458-1678824000-1678829400@website.ain-karem.de
SUMMARY:Yoga mit der FABI
DESCRIPTION:Träger dieser Veranstaltungen ist die\nFamilienbildungsstätte Sankt Augustin \nWeitere Informationen zu Inhalten\, Kosten und Häufigkeiten finden Sie unter:\nwww.fabi-rheinsieg.de \nAnmeldungen unter: \nLebenshilfe Bildung NRW gGmbH\nFABI Rhein-Sieg\nBonner Straße 68a\n53757 Sankt Augustin\n+49 02241 341838
URL:https://website.ain-karem.de/event/yoga-mit-der-familienbildungsstaette-fabi-3/2023-03-14/
LOCATION:Ain Karem\, Zum Weiher 8\, Ruppichteroth\, Nordrhein-Westfalen\, 53809\, Deutschland
CATEGORIES:FABI
ATTACH;FMTTYPE=image/jpeg:https://website.ain-karem.de/wp-content/uploads/2022/09/lebenshilfe_512.jpg
END:VEVENT
BEGIN:VEVENT
DTSTART;TZID=Europe/Berlin:20230315T183000
DTEND;TZID=Europe/Berlin:20230315T200000
DTSTAMP:20260423T010429
CREATED:20220905T124731Z
LAST-MODIFIED:20250107T080848Z
UID:10000406-1678905000-1678910400@website.ain-karem.de
SUMMARY:Qi Gong  mit der FABI
DESCRIPTION:Träger dieser Veranstaltungen ist die\nFamilienbildungsstätte Sankt Augustin \nWeitere Informationen zu Inhalten\, Kosten und Häufigkeiten finden Sie unter:\nwww.fabi-rheinsieg.de \nAnmeldungen unter: \nLebenshilfe Bildung NRW gGmbH\nFABI Rhein-Sieg\nBonner Straße 68a\n53757 Sankt Augustin\n+49 02241 341838
URL:https://website.ain-karem.de/event/qi-gong-mit-der-familienbildungsstaette-fabi/2023-03-15/
LOCATION:Ain Karem\, Zum Weiher 8\, Ruppichteroth\, Nordrhein-Westfalen\, 53809\, Deutschland
CATEGORIES:FABI
ATTACH;FMTTYPE=image/jpeg:https://website.ain-karem.de/wp-content/uploads/2022/09/lebenshilfe_512.jpg
END:VEVENT
BEGIN:VEVENT
DTSTART;TZID=Europe/Berlin:20230319T110000
DTEND;TZID=Europe/Berlin:20230319T123000
DTSTAMP:20260423T010429
CREATED:20221221T052714Z
LAST-MODIFIED:20221221T052714Z
UID:10000374-1679223600-1679229000@website.ain-karem.de
SUMMARY:Gottesdienst
DESCRIPTION:
URL:https://website.ain-karem.de/event/gottesdienst/
LOCATION:Ain Karem\, Zum Weiher 8\, Ruppichteroth\, Nordrhein-Westfalen\, 53809\, Deutschland
CATEGORIES:Gottesdienst
ATTACH;FMTTYPE=image/jpeg:https://website.ain-karem.de/wp-content/uploads/2022/09/Corpus-Kapelle_370.jpg
END:VEVENT
BEGIN:VEVENT
DTSTART;TZID=Europe/Berlin:20230319T190000
DTEND;TZID=Europe/Berlin:20230319T200000
DTSTAMP:20260423T010429
CREATED:20221221T051414Z
LAST-MODIFIED:20221221T051414Z
UID:10000365-1679252400-1679256000@website.ain-karem.de
SUMMARY:Meditation und Kontemplation
DESCRIPTION:
URL:https://website.ain-karem.de/event/meditation-und-kontemplation-14/
LOCATION:Ain Karem\, Zum Weiher 8\, Ruppichteroth\, Nordrhein-Westfalen\, 53809\, Deutschland
CATEGORIES:Meditation
ATTACH;FMTTYPE=image/jpeg:https://website.ain-karem.de/wp-content/uploads/2022/08/tropfen_512.jpg
ORGANIZER;CN="Mechtild Franke":MAILTO:mechtildfranke@googlemail.com
END:VEVENT
BEGIN:VEVENT
DTSTART;TZID=Europe/Berlin:20230320T171500
DTEND;TZID=Europe/Berlin:20230320T183000
DTSTAMP:20260423T010429
CREATED:20220905T121009Z
LAST-MODIFIED:20250107T081207Z
UID:10000667-1679332500-1679337000@website.ain-karem.de
SUMMARY:Yoga mit der FABI
DESCRIPTION:Träger dieser Veranstaltungen ist die\nFamilienbildungsstätte Sankt Augustin \nWeitere Informationen zu Inhalten\, Kosten und Häufigkeiten finden Sie unter:\nwww.fabi-rheinsieg.de \nAnmeldungen unter: \nLebenshilfe Bildung NRW gGmbH\nFABI Rhein-Sieg\nBonner Straße 68a\n53757 Sankt Augustin\n+49 02241 341838
URL:https://website.ain-karem.de/event/yoga-mit-der-familienbildungsstaette-fabi/2023-03-20/
LOCATION:Ain Karem\, Zum Weiher 8\, Ruppichteroth\, Nordrhein-Westfalen\, 53809\, Deutschland
CATEGORIES:FABI
ATTACH;FMTTYPE=image/jpeg:https://website.ain-karem.de/wp-content/uploads/2022/09/lebenshilfe_512.jpg
END:VEVENT
BEGIN:VEVENT
DTSTART;TZID=Europe/Berlin:20230320T190000
DTEND;TZID=Europe/Berlin:20230320T203000
DTSTAMP:20260423T010429
CREATED:20220905T123815Z
LAST-MODIFIED:20250107T081116Z
UID:10000615-1679338800-1679344200@website.ain-karem.de
SUMMARY:Yoga mit der FABI
DESCRIPTION:Träger dieser Veranstaltungen ist die\nFamilienbildungsstätte Sankt Augustin \nWeitere Informationen zu Inhalten\, Kosten und Häufigkeiten finden Sie unter:\nwww.fabi-rheinsieg.de \nAnmeldungen unter: \nLebenshilfe Bildung NRW gGmbH\nFABI Rhein-Sieg\nBonner Straße 68a\n53757 Sankt Augustin\n+49 02241 341838
URL:https://website.ain-karem.de/event/yoga-mit-der-familienbildungsstaette-fabi-2/2023-03-20/
LOCATION:Ain Karem\, Zum Weiher 8\, Ruppichteroth\, Nordrhein-Westfalen\, 53809\, Deutschland
CATEGORIES:FABI
ATTACH;FMTTYPE=image/jpeg:https://website.ain-karem.de/wp-content/uploads/2022/09/lebenshilfe_512.jpg
END:VEVENT
BEGIN:VEVENT
DTSTART;TZID=Europe/Berlin:20230321T173000
DTEND;TZID=Europe/Berlin:20230321T190000
DTSTAMP:20260423T010429
CREATED:20220905T124354Z
LAST-MODIFIED:20250107T081051Z
UID:10000511-1679419800-1679425200@website.ain-karem.de
SUMMARY:Hatha-Yoga mit der FABI
DESCRIPTION:Träger dieser Veranstaltungen ist die\nFamilienbildungsstätte Sankt Augustin \nWeitere Informationen zu Inhalten\, Kosten und Häufigkeiten finden Sie unter:\nwww.fabi-rheinsieg.de \nAnmeldungen unter: \nLebenshilfe Bildung NRW gGmbH\nFABI Rhein-Sieg\nBonner Straße 68a\n53757 Sankt Augustin\n+49 02241 341838
URL:https://website.ain-karem.de/event/hatha-yoga-mit-der-familienbildungsstaette-fabi/2023-03-21/
LOCATION:Ain Karem\, Zum Weiher 8\, Ruppichteroth\, Nordrhein-Westfalen\, 53809\, Deutschland
CATEGORIES:FABI
ATTACH;FMTTYPE=image/jpeg:https://website.ain-karem.de/wp-content/uploads/2022/09/lebenshilfe_512.jpg
END:VEVENT
BEGIN:VEVENT
DTSTART;TZID=Europe/Berlin:20230321T200000
DTEND;TZID=Europe/Berlin:20230321T213000
DTSTAMP:20260423T010429
CREATED:20220905T124543Z
LAST-MODIFIED:20250107T081004Z
UID:10000459-1679428800-1679434200@website.ain-karem.de
SUMMARY:Yoga mit der FABI
DESCRIPTION:Träger dieser Veranstaltungen ist die\nFamilienbildungsstätte Sankt Augustin \nWeitere Informationen zu Inhalten\, Kosten und Häufigkeiten finden Sie unter:\nwww.fabi-rheinsieg.de \nAnmeldungen unter: \nLebenshilfe Bildung NRW gGmbH\nFABI Rhein-Sieg\nBonner Straße 68a\n53757 Sankt Augustin\n+49 02241 341838
URL:https://website.ain-karem.de/event/yoga-mit-der-familienbildungsstaette-fabi-3/2023-03-21/
LOCATION:Ain Karem\, Zum Weiher 8\, Ruppichteroth\, Nordrhein-Westfalen\, 53809\, Deutschland
CATEGORIES:FABI
ATTACH;FMTTYPE=image/jpeg:https://website.ain-karem.de/wp-content/uploads/2022/09/lebenshilfe_512.jpg
END:VEVENT
BEGIN:VEVENT
DTSTART;TZID=Europe/Berlin:20230322T183000
DTEND;TZID=Europe/Berlin:20230322T200000
DTSTAMP:20260423T010429
CREATED:20220905T124731Z
LAST-MODIFIED:20250107T080848Z
UID:10000407-1679509800-1679515200@website.ain-karem.de
SUMMARY:Qi Gong  mit der FABI
DESCRIPTION:Träger dieser Veranstaltungen ist die\nFamilienbildungsstätte Sankt Augustin \nWeitere Informationen zu Inhalten\, Kosten und Häufigkeiten finden Sie unter:\nwww.fabi-rheinsieg.de \nAnmeldungen unter: \nLebenshilfe Bildung NRW gGmbH\nFABI Rhein-Sieg\nBonner Straße 68a\n53757 Sankt Augustin\n+49 02241 341838
URL:https://website.ain-karem.de/event/qi-gong-mit-der-familienbildungsstaette-fabi/2023-03-22/
LOCATION:Ain Karem\, Zum Weiher 8\, Ruppichteroth\, Nordrhein-Westfalen\, 53809\, Deutschland
CATEGORIES:FABI
ATTACH;FMTTYPE=image/jpeg:https://website.ain-karem.de/wp-content/uploads/2022/09/lebenshilfe_512.jpg
END:VEVENT
BEGIN:VEVENT
DTSTART;TZID=Europe/Berlin:20230327T171500
DTEND;TZID=Europe/Berlin:20230327T183000
DTSTAMP:20260423T010429
CREATED:20220905T121009Z
LAST-MODIFIED:20250107T081207Z
UID:10000668-1679937300-1679941800@website.ain-karem.de
SUMMARY:Yoga mit der FABI
DESCRIPTION:Träger dieser Veranstaltungen ist die\nFamilienbildungsstätte Sankt Augustin \nWeitere Informationen zu Inhalten\, Kosten und Häufigkeiten finden Sie unter:\nwww.fabi-rheinsieg.de \nAnmeldungen unter: \nLebenshilfe Bildung NRW gGmbH\nFABI Rhein-Sieg\nBonner Straße 68a\n53757 Sankt Augustin\n+49 02241 341838
URL:https://website.ain-karem.de/event/yoga-mit-der-familienbildungsstaette-fabi/2023-03-27/
LOCATION:Ain Karem\, Zum Weiher 8\, Ruppichteroth\, Nordrhein-Westfalen\, 53809\, Deutschland
CATEGORIES:FABI
ATTACH;FMTTYPE=image/jpeg:https://website.ain-karem.de/wp-content/uploads/2022/09/lebenshilfe_512.jpg
END:VEVENT
BEGIN:VEVENT
DTSTART;TZID=Europe/Berlin:20230327T190000
DTEND;TZID=Europe/Berlin:20230327T203000
DTSTAMP:20260423T010429
CREATED:20220905T123815Z
LAST-MODIFIED:20250107T081116Z
UID:10000616-1679943600-1679949000@website.ain-karem.de
SUMMARY:Yoga mit der FABI
DESCRIPTION:Träger dieser Veranstaltungen ist die\nFamilienbildungsstätte Sankt Augustin \nWeitere Informationen zu Inhalten\, Kosten und Häufigkeiten finden Sie unter:\nwww.fabi-rheinsieg.de \nAnmeldungen unter: \nLebenshilfe Bildung NRW gGmbH\nFABI Rhein-Sieg\nBonner Straße 68a\n53757 Sankt Augustin\n+49 02241 341838
URL:https://website.ain-karem.de/event/yoga-mit-der-familienbildungsstaette-fabi-2/2023-03-27/
LOCATION:Ain Karem\, Zum Weiher 8\, Ruppichteroth\, Nordrhein-Westfalen\, 53809\, Deutschland
CATEGORIES:FABI
ATTACH;FMTTYPE=image/jpeg:https://website.ain-karem.de/wp-content/uploads/2022/09/lebenshilfe_512.jpg
END:VEVENT
BEGIN:VEVENT
DTSTART;TZID=Europe/Berlin:20230328T173000
DTEND;TZID=Europe/Berlin:20230328T190000
DTSTAMP:20260423T010429
CREATED:20220905T124354Z
LAST-MODIFIED:20250107T081051Z
UID:10000512-1680024600-1680030000@website.ain-karem.de
SUMMARY:Hatha-Yoga mit der FABI
DESCRIPTION:Träger dieser Veranstaltungen ist die\nFamilienbildungsstätte Sankt Augustin \nWeitere Informationen zu Inhalten\, Kosten und Häufigkeiten finden Sie unter:\nwww.fabi-rheinsieg.de \nAnmeldungen unter: \nLebenshilfe Bildung NRW gGmbH\nFABI Rhein-Sieg\nBonner Straße 68a\n53757 Sankt Augustin\n+49 02241 341838
URL:https://website.ain-karem.de/event/hatha-yoga-mit-der-familienbildungsstaette-fabi/2023-03-28/
LOCATION:Ain Karem\, Zum Weiher 8\, Ruppichteroth\, Nordrhein-Westfalen\, 53809\, Deutschland
CATEGORIES:FABI
ATTACH;FMTTYPE=image/jpeg:https://website.ain-karem.de/wp-content/uploads/2022/09/lebenshilfe_512.jpg
END:VEVENT
BEGIN:VEVENT
DTSTART;TZID=Europe/Berlin:20230328T200000
DTEND;TZID=Europe/Berlin:20230328T213000
DTSTAMP:20260423T010429
CREATED:20220905T124543Z
LAST-MODIFIED:20250107T081004Z
UID:10000460-1680033600-1680039000@website.ain-karem.de
SUMMARY:Yoga mit der FABI
DESCRIPTION:Träger dieser Veranstaltungen ist die\nFamilienbildungsstätte Sankt Augustin \nWeitere Informationen zu Inhalten\, Kosten und Häufigkeiten finden Sie unter:\nwww.fabi-rheinsieg.de \nAnmeldungen unter: \nLebenshilfe Bildung NRW gGmbH\nFABI Rhein-Sieg\nBonner Straße 68a\n53757 Sankt Augustin\n+49 02241 341838
URL:https://website.ain-karem.de/event/yoga-mit-der-familienbildungsstaette-fabi-3/2023-03-28/
LOCATION:Ain Karem\, Zum Weiher 8\, Ruppichteroth\, Nordrhein-Westfalen\, 53809\, Deutschland
CATEGORIES:FABI
ATTACH;FMTTYPE=image/jpeg:https://website.ain-karem.de/wp-content/uploads/2022/09/lebenshilfe_512.jpg
END:VEVENT
BEGIN:VEVENT
DTSTART;TZID=Europe/Berlin:20230329T183000
DTEND;TZID=Europe/Berlin:20230329T200000
DTSTAMP:20260423T010429
CREATED:20220905T124731Z
LAST-MODIFIED:20250107T080848Z
UID:10000408-1680114600-1680120000@website.ain-karem.de
SUMMARY:Qi Gong  mit der FABI
DESCRIPTION:Träger dieser Veranstaltungen ist die\nFamilienbildungsstätte Sankt Augustin \nWeitere Informationen zu Inhalten\, Kosten und Häufigkeiten finden Sie unter:\nwww.fabi-rheinsieg.de \nAnmeldungen unter: \nLebenshilfe Bildung NRW gGmbH\nFABI Rhein-Sieg\nBonner Straße 68a\n53757 Sankt Augustin\n+49 02241 341838
URL:https://website.ain-karem.de/event/qi-gong-mit-der-familienbildungsstaette-fabi/2023-03-29/
LOCATION:Ain Karem\, Zum Weiher 8\, Ruppichteroth\, Nordrhein-Westfalen\, 53809\, Deutschland
CATEGORIES:FABI
ATTACH;FMTTYPE=image/jpeg:https://website.ain-karem.de/wp-content/uploads/2022/09/lebenshilfe_512.jpg
END:VEVENT
END:VCALENDAR