BEGIN:VCALENDAR
VERSION:2.0
PRODID:-//Ain Karem - ECPv6.15.20//NONSGML v1.0//EN
CALSCALE:GREGORIAN
METHOD:PUBLISH
X-WR-CALNAME:Ain Karem
X-ORIGINAL-URL:https://website.ain-karem.de
X-WR-CALDESC:Veranstaltungen für Ain Karem
REFRESH-INTERVAL;VALUE=DURATION:PT1H
X-Robots-Tag:noindex
X-PUBLISHED-TTL:PT1H
BEGIN:VTIMEZONE
TZID:Europe/Berlin
BEGIN:DAYLIGHT
TZOFFSETFROM:+0100
TZOFFSETTO:+0200
TZNAME:CEST
DTSTART:20220327T010000
END:DAYLIGHT
BEGIN:STANDARD
TZOFFSETFROM:+0200
TZOFFSETTO:+0100
TZNAME:CET
DTSTART:20221030T010000
END:STANDARD
BEGIN:DAYLIGHT
TZOFFSETFROM:+0100
TZOFFSETTO:+0200
TZNAME:CEST
DTSTART:20230326T010000
END:DAYLIGHT
BEGIN:STANDARD
TZOFFSETFROM:+0200
TZOFFSETTO:+0100
TZNAME:CET
DTSTART:20231029T010000
END:STANDARD
BEGIN:DAYLIGHT
TZOFFSETFROM:+0100
TZOFFSETTO:+0200
TZNAME:CEST
DTSTART:20240331T010000
END:DAYLIGHT
BEGIN:STANDARD
TZOFFSETFROM:+0200
TZOFFSETTO:+0100
TZNAME:CET
DTSTART:20241027T010000
END:STANDARD
END:VTIMEZONE
BEGIN:VEVENT
DTSTART;TZID=Europe/Berlin:20230102T171500
DTEND;TZID=Europe/Berlin:20230102T183000
DTSTAMP:20260423T023528
CREATED:20220905T121009Z
LAST-MODIFIED:20250107T081207Z
UID:10000656-1672679700-1672684200@website.ain-karem.de
SUMMARY:Yoga mit der FABI
DESCRIPTION:Träger dieser Veranstaltungen ist die\nFamilienbildungsstätte Sankt Augustin \nWeitere Informationen zu Inhalten\, Kosten und Häufigkeiten finden Sie unter:\nwww.fabi-rheinsieg.de \nAnmeldungen unter: \nLebenshilfe Bildung NRW gGmbH\nFABI Rhein-Sieg\nBonner Straße 68a\n53757 Sankt Augustin\n+49 02241 341838
URL:https://website.ain-karem.de/event/yoga-mit-der-familienbildungsstaette-fabi/2023-01-02/
LOCATION:Ain Karem\, Zum Weiher 8\, Ruppichteroth\, Nordrhein-Westfalen\, 53809\, Deutschland
CATEGORIES:FABI
ATTACH;FMTTYPE=image/jpeg:https://website.ain-karem.de/wp-content/uploads/2022/09/lebenshilfe_512.jpg
END:VEVENT
BEGIN:VEVENT
DTSTART;TZID=Europe/Berlin:20230102T190000
DTEND;TZID=Europe/Berlin:20230102T203000
DTSTAMP:20260423T023528
CREATED:20220905T123815Z
LAST-MODIFIED:20250107T081116Z
UID:10000604-1672686000-1672691400@website.ain-karem.de
SUMMARY:Yoga mit der FABI
DESCRIPTION:Träger dieser Veranstaltungen ist die\nFamilienbildungsstätte Sankt Augustin \nWeitere Informationen zu Inhalten\, Kosten und Häufigkeiten finden Sie unter:\nwww.fabi-rheinsieg.de \nAnmeldungen unter: \nLebenshilfe Bildung NRW gGmbH\nFABI Rhein-Sieg\nBonner Straße 68a\n53757 Sankt Augustin\n+49 02241 341838
URL:https://website.ain-karem.de/event/yoga-mit-der-familienbildungsstaette-fabi-2/2023-01-02/
LOCATION:Ain Karem\, Zum Weiher 8\, Ruppichteroth\, Nordrhein-Westfalen\, 53809\, Deutschland
CATEGORIES:FABI
ATTACH;FMTTYPE=image/jpeg:https://website.ain-karem.de/wp-content/uploads/2022/09/lebenshilfe_512.jpg
END:VEVENT
BEGIN:VEVENT
DTSTART;TZID=Europe/Berlin:20230103T173000
DTEND;TZID=Europe/Berlin:20230103T190000
DTSTAMP:20260423T023528
CREATED:20220905T124354Z
LAST-MODIFIED:20250107T081051Z
UID:10000500-1672767000-1672772400@website.ain-karem.de
SUMMARY:Hatha-Yoga mit der FABI
DESCRIPTION:Träger dieser Veranstaltungen ist die\nFamilienbildungsstätte Sankt Augustin \nWeitere Informationen zu Inhalten\, Kosten und Häufigkeiten finden Sie unter:\nwww.fabi-rheinsieg.de \nAnmeldungen unter: \nLebenshilfe Bildung NRW gGmbH\nFABI Rhein-Sieg\nBonner Straße 68a\n53757 Sankt Augustin\n+49 02241 341838
URL:https://website.ain-karem.de/event/hatha-yoga-mit-der-familienbildungsstaette-fabi/2023-01-03/
LOCATION:Ain Karem\, Zum Weiher 8\, Ruppichteroth\, Nordrhein-Westfalen\, 53809\, Deutschland
CATEGORIES:FABI
ATTACH;FMTTYPE=image/jpeg:https://website.ain-karem.de/wp-content/uploads/2022/09/lebenshilfe_512.jpg
END:VEVENT
BEGIN:VEVENT
DTSTART;TZID=Europe/Berlin:20230103T200000
DTEND;TZID=Europe/Berlin:20230103T213000
DTSTAMP:20260423T023528
CREATED:20220905T124543Z
LAST-MODIFIED:20250107T081004Z
UID:10000448-1672776000-1672781400@website.ain-karem.de
SUMMARY:Yoga mit der FABI
DESCRIPTION:Träger dieser Veranstaltungen ist die\nFamilienbildungsstätte Sankt Augustin \nWeitere Informationen zu Inhalten\, Kosten und Häufigkeiten finden Sie unter:\nwww.fabi-rheinsieg.de \nAnmeldungen unter: \nLebenshilfe Bildung NRW gGmbH\nFABI Rhein-Sieg\nBonner Straße 68a\n53757 Sankt Augustin\n+49 02241 341838
URL:https://website.ain-karem.de/event/yoga-mit-der-familienbildungsstaette-fabi-3/2023-01-03/
LOCATION:Ain Karem\, Zum Weiher 8\, Ruppichteroth\, Nordrhein-Westfalen\, 53809\, Deutschland
CATEGORIES:FABI
ATTACH;FMTTYPE=image/jpeg:https://website.ain-karem.de/wp-content/uploads/2022/09/lebenshilfe_512.jpg
END:VEVENT
BEGIN:VEVENT
DTSTART;TZID=Europe/Berlin:20230104T183000
DTEND;TZID=Europe/Berlin:20230104T200000
DTSTAMP:20260423T023528
CREATED:20220905T124731Z
LAST-MODIFIED:20250107T080848Z
UID:10000396-1672857000-1672862400@website.ain-karem.de
SUMMARY:Qi Gong  mit der FABI
DESCRIPTION:Träger dieser Veranstaltungen ist die\nFamilienbildungsstätte Sankt Augustin \nWeitere Informationen zu Inhalten\, Kosten und Häufigkeiten finden Sie unter:\nwww.fabi-rheinsieg.de \nAnmeldungen unter: \nLebenshilfe Bildung NRW gGmbH\nFABI Rhein-Sieg\nBonner Straße 68a\n53757 Sankt Augustin\n+49 02241 341838
URL:https://website.ain-karem.de/event/qi-gong-mit-der-familienbildungsstaette-fabi/2023-01-04/
LOCATION:Ain Karem\, Zum Weiher 8\, Ruppichteroth\, Nordrhein-Westfalen\, 53809\, Deutschland
CATEGORIES:FABI
ATTACH;FMTTYPE=image/jpeg:https://website.ain-karem.de/wp-content/uploads/2022/09/lebenshilfe_512.jpg
END:VEVENT
BEGIN:VEVENT
DTSTART;TZID=Europe/Berlin:20230109T171500
DTEND;TZID=Europe/Berlin:20230109T183000
DTSTAMP:20260423T023528
CREATED:20220905T121009Z
LAST-MODIFIED:20250107T081207Z
UID:10000657-1673284500-1673289000@website.ain-karem.de
SUMMARY:Yoga mit der FABI
DESCRIPTION:Träger dieser Veranstaltungen ist die\nFamilienbildungsstätte Sankt Augustin \nWeitere Informationen zu Inhalten\, Kosten und Häufigkeiten finden Sie unter:\nwww.fabi-rheinsieg.de \nAnmeldungen unter: \nLebenshilfe Bildung NRW gGmbH\nFABI Rhein-Sieg\nBonner Straße 68a\n53757 Sankt Augustin\n+49 02241 341838
URL:https://website.ain-karem.de/event/yoga-mit-der-familienbildungsstaette-fabi/2023-01-09/
LOCATION:Ain Karem\, Zum Weiher 8\, Ruppichteroth\, Nordrhein-Westfalen\, 53809\, Deutschland
CATEGORIES:FABI
ATTACH;FMTTYPE=image/jpeg:https://website.ain-karem.de/wp-content/uploads/2022/09/lebenshilfe_512.jpg
END:VEVENT
BEGIN:VEVENT
DTSTART;TZID=Europe/Berlin:20230109T190000
DTEND;TZID=Europe/Berlin:20230109T203000
DTSTAMP:20260423T023528
CREATED:20220905T123815Z
LAST-MODIFIED:20250107T081116Z
UID:10000605-1673290800-1673296200@website.ain-karem.de
SUMMARY:Yoga mit der FABI
DESCRIPTION:Träger dieser Veranstaltungen ist die\nFamilienbildungsstätte Sankt Augustin \nWeitere Informationen zu Inhalten\, Kosten und Häufigkeiten finden Sie unter:\nwww.fabi-rheinsieg.de \nAnmeldungen unter: \nLebenshilfe Bildung NRW gGmbH\nFABI Rhein-Sieg\nBonner Straße 68a\n53757 Sankt Augustin\n+49 02241 341838
URL:https://website.ain-karem.de/event/yoga-mit-der-familienbildungsstaette-fabi-2/2023-01-09/
LOCATION:Ain Karem\, Zum Weiher 8\, Ruppichteroth\, Nordrhein-Westfalen\, 53809\, Deutschland
CATEGORIES:FABI
ATTACH;FMTTYPE=image/jpeg:https://website.ain-karem.de/wp-content/uploads/2022/09/lebenshilfe_512.jpg
END:VEVENT
BEGIN:VEVENT
DTSTART;TZID=Europe/Berlin:20230110T173000
DTEND;TZID=Europe/Berlin:20230110T190000
DTSTAMP:20260423T023528
CREATED:20220905T124354Z
LAST-MODIFIED:20250107T081051Z
UID:10000501-1673371800-1673377200@website.ain-karem.de
SUMMARY:Hatha-Yoga mit der FABI
DESCRIPTION:Träger dieser Veranstaltungen ist die\nFamilienbildungsstätte Sankt Augustin \nWeitere Informationen zu Inhalten\, Kosten und Häufigkeiten finden Sie unter:\nwww.fabi-rheinsieg.de \nAnmeldungen unter: \nLebenshilfe Bildung NRW gGmbH\nFABI Rhein-Sieg\nBonner Straße 68a\n53757 Sankt Augustin\n+49 02241 341838
URL:https://website.ain-karem.de/event/hatha-yoga-mit-der-familienbildungsstaette-fabi/2023-01-10/
LOCATION:Ain Karem\, Zum Weiher 8\, Ruppichteroth\, Nordrhein-Westfalen\, 53809\, Deutschland
CATEGORIES:FABI
ATTACH;FMTTYPE=image/jpeg:https://website.ain-karem.de/wp-content/uploads/2022/09/lebenshilfe_512.jpg
END:VEVENT
BEGIN:VEVENT
DTSTART;TZID=Europe/Berlin:20230110T200000
DTEND;TZID=Europe/Berlin:20230110T213000
DTSTAMP:20260423T023528
CREATED:20220905T124543Z
LAST-MODIFIED:20250107T081004Z
UID:10000449-1673380800-1673386200@website.ain-karem.de
SUMMARY:Yoga mit der FABI
DESCRIPTION:Träger dieser Veranstaltungen ist die\nFamilienbildungsstätte Sankt Augustin \nWeitere Informationen zu Inhalten\, Kosten und Häufigkeiten finden Sie unter:\nwww.fabi-rheinsieg.de \nAnmeldungen unter: \nLebenshilfe Bildung NRW gGmbH\nFABI Rhein-Sieg\nBonner Straße 68a\n53757 Sankt Augustin\n+49 02241 341838
URL:https://website.ain-karem.de/event/yoga-mit-der-familienbildungsstaette-fabi-3/2023-01-10/
LOCATION:Ain Karem\, Zum Weiher 8\, Ruppichteroth\, Nordrhein-Westfalen\, 53809\, Deutschland
CATEGORIES:FABI
ATTACH;FMTTYPE=image/jpeg:https://website.ain-karem.de/wp-content/uploads/2022/09/lebenshilfe_512.jpg
END:VEVENT
BEGIN:VEVENT
DTSTART;TZID=Europe/Berlin:20230111T183000
DTEND;TZID=Europe/Berlin:20230111T200000
DTSTAMP:20260423T023528
CREATED:20220905T124731Z
LAST-MODIFIED:20250107T080848Z
UID:10000397-1673461800-1673467200@website.ain-karem.de
SUMMARY:Qi Gong  mit der FABI
DESCRIPTION:Träger dieser Veranstaltungen ist die\nFamilienbildungsstätte Sankt Augustin \nWeitere Informationen zu Inhalten\, Kosten und Häufigkeiten finden Sie unter:\nwww.fabi-rheinsieg.de \nAnmeldungen unter: \nLebenshilfe Bildung NRW gGmbH\nFABI Rhein-Sieg\nBonner Straße 68a\n53757 Sankt Augustin\n+49 02241 341838
URL:https://website.ain-karem.de/event/qi-gong-mit-der-familienbildungsstaette-fabi/2023-01-11/
LOCATION:Ain Karem\, Zum Weiher 8\, Ruppichteroth\, Nordrhein-Westfalen\, 53809\, Deutschland
CATEGORIES:FABI
ATTACH;FMTTYPE=image/jpeg:https://website.ain-karem.de/wp-content/uploads/2022/09/lebenshilfe_512.jpg
END:VEVENT
BEGIN:VEVENT
DTSTART;TZID=Europe/Berlin:20230111T190000
DTEND;TZID=Europe/Berlin:20230111T200000
DTSTAMP:20260423T023528
CREATED:20221221T051225Z
LAST-MODIFIED:20221221T051225Z
UID:10000360-1673463600-1673467200@website.ain-karem.de
SUMMARY:Meditation und Kontemplation
DESCRIPTION:
URL:https://website.ain-karem.de/event/meditation-und-kontemplation-9/
LOCATION:Ain Karem\, Zum Weiher 8\, Ruppichteroth\, Nordrhein-Westfalen\, 53809\, Deutschland
CATEGORIES:Meditation
ATTACH;FMTTYPE=image/jpeg:https://website.ain-karem.de/wp-content/uploads/2022/08/tropfen_512.jpg
ORGANIZER;CN="Mechtild Franke":MAILTO:mechtildfranke@googlemail.com
END:VEVENT
BEGIN:VEVENT
DTSTART;TZID=Europe/Berlin:20230116T171500
DTEND;TZID=Europe/Berlin:20230116T183000
DTSTAMP:20260423T023528
CREATED:20220905T121009Z
LAST-MODIFIED:20250107T081207Z
UID:10000658-1673889300-1673893800@website.ain-karem.de
SUMMARY:Yoga mit der FABI
DESCRIPTION:Träger dieser Veranstaltungen ist die\nFamilienbildungsstätte Sankt Augustin \nWeitere Informationen zu Inhalten\, Kosten und Häufigkeiten finden Sie unter:\nwww.fabi-rheinsieg.de \nAnmeldungen unter: \nLebenshilfe Bildung NRW gGmbH\nFABI Rhein-Sieg\nBonner Straße 68a\n53757 Sankt Augustin\n+49 02241 341838
URL:https://website.ain-karem.de/event/yoga-mit-der-familienbildungsstaette-fabi/2023-01-16/
LOCATION:Ain Karem\, Zum Weiher 8\, Ruppichteroth\, Nordrhein-Westfalen\, 53809\, Deutschland
CATEGORIES:FABI
ATTACH;FMTTYPE=image/jpeg:https://website.ain-karem.de/wp-content/uploads/2022/09/lebenshilfe_512.jpg
END:VEVENT
BEGIN:VEVENT
DTSTART;TZID=Europe/Berlin:20230116T190000
DTEND;TZID=Europe/Berlin:20230116T203000
DTSTAMP:20260423T023528
CREATED:20220905T123815Z
LAST-MODIFIED:20250107T081116Z
UID:10000606-1673895600-1673901000@website.ain-karem.de
SUMMARY:Yoga mit der FABI
DESCRIPTION:Träger dieser Veranstaltungen ist die\nFamilienbildungsstätte Sankt Augustin \nWeitere Informationen zu Inhalten\, Kosten und Häufigkeiten finden Sie unter:\nwww.fabi-rheinsieg.de \nAnmeldungen unter: \nLebenshilfe Bildung NRW gGmbH\nFABI Rhein-Sieg\nBonner Straße 68a\n53757 Sankt Augustin\n+49 02241 341838
URL:https://website.ain-karem.de/event/yoga-mit-der-familienbildungsstaette-fabi-2/2023-01-16/
LOCATION:Ain Karem\, Zum Weiher 8\, Ruppichteroth\, Nordrhein-Westfalen\, 53809\, Deutschland
CATEGORIES:FABI
ATTACH;FMTTYPE=image/jpeg:https://website.ain-karem.de/wp-content/uploads/2022/09/lebenshilfe_512.jpg
END:VEVENT
BEGIN:VEVENT
DTSTART;TZID=Europe/Berlin:20230117T173000
DTEND;TZID=Europe/Berlin:20230117T190000
DTSTAMP:20260423T023528
CREATED:20220905T124354Z
LAST-MODIFIED:20250107T081051Z
UID:10000502-1673976600-1673982000@website.ain-karem.de
SUMMARY:Hatha-Yoga mit der FABI
DESCRIPTION:Träger dieser Veranstaltungen ist die\nFamilienbildungsstätte Sankt Augustin \nWeitere Informationen zu Inhalten\, Kosten und Häufigkeiten finden Sie unter:\nwww.fabi-rheinsieg.de \nAnmeldungen unter: \nLebenshilfe Bildung NRW gGmbH\nFABI Rhein-Sieg\nBonner Straße 68a\n53757 Sankt Augustin\n+49 02241 341838
URL:https://website.ain-karem.de/event/hatha-yoga-mit-der-familienbildungsstaette-fabi/2023-01-17/
LOCATION:Ain Karem\, Zum Weiher 8\, Ruppichteroth\, Nordrhein-Westfalen\, 53809\, Deutschland
CATEGORIES:FABI
ATTACH;FMTTYPE=image/jpeg:https://website.ain-karem.de/wp-content/uploads/2022/09/lebenshilfe_512.jpg
END:VEVENT
BEGIN:VEVENT
DTSTART;TZID=Europe/Berlin:20230117T200000
DTEND;TZID=Europe/Berlin:20230117T213000
DTSTAMP:20260423T023528
CREATED:20220905T124543Z
LAST-MODIFIED:20250107T081004Z
UID:10000450-1673985600-1673991000@website.ain-karem.de
SUMMARY:Yoga mit der FABI
DESCRIPTION:Träger dieser Veranstaltungen ist die\nFamilienbildungsstätte Sankt Augustin \nWeitere Informationen zu Inhalten\, Kosten und Häufigkeiten finden Sie unter:\nwww.fabi-rheinsieg.de \nAnmeldungen unter: \nLebenshilfe Bildung NRW gGmbH\nFABI Rhein-Sieg\nBonner Straße 68a\n53757 Sankt Augustin\n+49 02241 341838
URL:https://website.ain-karem.de/event/yoga-mit-der-familienbildungsstaette-fabi-3/2023-01-17/
LOCATION:Ain Karem\, Zum Weiher 8\, Ruppichteroth\, Nordrhein-Westfalen\, 53809\, Deutschland
CATEGORIES:FABI
ATTACH;FMTTYPE=image/jpeg:https://website.ain-karem.de/wp-content/uploads/2022/09/lebenshilfe_512.jpg
END:VEVENT
BEGIN:VEVENT
DTSTART;TZID=Europe/Berlin:20230118T183000
DTEND;TZID=Europe/Berlin:20230118T200000
DTSTAMP:20260423T023528
CREATED:20220905T124731Z
LAST-MODIFIED:20250107T080848Z
UID:10000398-1674066600-1674072000@website.ain-karem.de
SUMMARY:Qi Gong  mit der FABI
DESCRIPTION:Träger dieser Veranstaltungen ist die\nFamilienbildungsstätte Sankt Augustin \nWeitere Informationen zu Inhalten\, Kosten und Häufigkeiten finden Sie unter:\nwww.fabi-rheinsieg.de \nAnmeldungen unter: \nLebenshilfe Bildung NRW gGmbH\nFABI Rhein-Sieg\nBonner Straße 68a\n53757 Sankt Augustin\n+49 02241 341838
URL:https://website.ain-karem.de/event/qi-gong-mit-der-familienbildungsstaette-fabi/2023-01-18/
LOCATION:Ain Karem\, Zum Weiher 8\, Ruppichteroth\, Nordrhein-Westfalen\, 53809\, Deutschland
CATEGORIES:FABI
ATTACH;FMTTYPE=image/jpeg:https://website.ain-karem.de/wp-content/uploads/2022/09/lebenshilfe_512.jpg
END:VEVENT
BEGIN:VEVENT
DTSTART;TZID=Europe/Berlin:20230123T171500
DTEND;TZID=Europe/Berlin:20230123T183000
DTSTAMP:20260423T023528
CREATED:20220905T121009Z
LAST-MODIFIED:20250107T081207Z
UID:10000659-1674494100-1674498600@website.ain-karem.de
SUMMARY:Yoga mit der FABI
DESCRIPTION:Träger dieser Veranstaltungen ist die\nFamilienbildungsstätte Sankt Augustin \nWeitere Informationen zu Inhalten\, Kosten und Häufigkeiten finden Sie unter:\nwww.fabi-rheinsieg.de \nAnmeldungen unter: \nLebenshilfe Bildung NRW gGmbH\nFABI Rhein-Sieg\nBonner Straße 68a\n53757 Sankt Augustin\n+49 02241 341838
URL:https://website.ain-karem.de/event/yoga-mit-der-familienbildungsstaette-fabi/2023-01-23/
LOCATION:Ain Karem\, Zum Weiher 8\, Ruppichteroth\, Nordrhein-Westfalen\, 53809\, Deutschland
CATEGORIES:FABI
ATTACH;FMTTYPE=image/jpeg:https://website.ain-karem.de/wp-content/uploads/2022/09/lebenshilfe_512.jpg
END:VEVENT
BEGIN:VEVENT
DTSTART;TZID=Europe/Berlin:20230123T190000
DTEND;TZID=Europe/Berlin:20230123T203000
DTSTAMP:20260423T023528
CREATED:20220905T123815Z
LAST-MODIFIED:20250107T081116Z
UID:10000607-1674500400-1674505800@website.ain-karem.de
SUMMARY:Yoga mit der FABI
DESCRIPTION:Träger dieser Veranstaltungen ist die\nFamilienbildungsstätte Sankt Augustin \nWeitere Informationen zu Inhalten\, Kosten und Häufigkeiten finden Sie unter:\nwww.fabi-rheinsieg.de \nAnmeldungen unter: \nLebenshilfe Bildung NRW gGmbH\nFABI Rhein-Sieg\nBonner Straße 68a\n53757 Sankt Augustin\n+49 02241 341838
URL:https://website.ain-karem.de/event/yoga-mit-der-familienbildungsstaette-fabi-2/2023-01-23/
LOCATION:Ain Karem\, Zum Weiher 8\, Ruppichteroth\, Nordrhein-Westfalen\, 53809\, Deutschland
CATEGORIES:FABI
ATTACH;FMTTYPE=image/jpeg:https://website.ain-karem.de/wp-content/uploads/2022/09/lebenshilfe_512.jpg
END:VEVENT
BEGIN:VEVENT
DTSTART;TZID=Europe/Berlin:20230124T173000
DTEND;TZID=Europe/Berlin:20230124T190000
DTSTAMP:20260423T023528
CREATED:20220905T124354Z
LAST-MODIFIED:20250107T081051Z
UID:10000503-1674581400-1674586800@website.ain-karem.de
SUMMARY:Hatha-Yoga mit der FABI
DESCRIPTION:Träger dieser Veranstaltungen ist die\nFamilienbildungsstätte Sankt Augustin \nWeitere Informationen zu Inhalten\, Kosten und Häufigkeiten finden Sie unter:\nwww.fabi-rheinsieg.de \nAnmeldungen unter: \nLebenshilfe Bildung NRW gGmbH\nFABI Rhein-Sieg\nBonner Straße 68a\n53757 Sankt Augustin\n+49 02241 341838
URL:https://website.ain-karem.de/event/hatha-yoga-mit-der-familienbildungsstaette-fabi/2023-01-24/
LOCATION:Ain Karem\, Zum Weiher 8\, Ruppichteroth\, Nordrhein-Westfalen\, 53809\, Deutschland
CATEGORIES:FABI
ATTACH;FMTTYPE=image/jpeg:https://website.ain-karem.de/wp-content/uploads/2022/09/lebenshilfe_512.jpg
END:VEVENT
BEGIN:VEVENT
DTSTART;TZID=Europe/Berlin:20230124T200000
DTEND;TZID=Europe/Berlin:20230124T213000
DTSTAMP:20260423T023528
CREATED:20220905T124543Z
LAST-MODIFIED:20250107T081004Z
UID:10000451-1674590400-1674595800@website.ain-karem.de
SUMMARY:Yoga mit der FABI
DESCRIPTION:Träger dieser Veranstaltungen ist die\nFamilienbildungsstätte Sankt Augustin \nWeitere Informationen zu Inhalten\, Kosten und Häufigkeiten finden Sie unter:\nwww.fabi-rheinsieg.de \nAnmeldungen unter: \nLebenshilfe Bildung NRW gGmbH\nFABI Rhein-Sieg\nBonner Straße 68a\n53757 Sankt Augustin\n+49 02241 341838
URL:https://website.ain-karem.de/event/yoga-mit-der-familienbildungsstaette-fabi-3/2023-01-24/
LOCATION:Ain Karem\, Zum Weiher 8\, Ruppichteroth\, Nordrhein-Westfalen\, 53809\, Deutschland
CATEGORIES:FABI
ATTACH;FMTTYPE=image/jpeg:https://website.ain-karem.de/wp-content/uploads/2022/09/lebenshilfe_512.jpg
END:VEVENT
BEGIN:VEVENT
DTSTART;TZID=Europe/Berlin:20230125T183000
DTEND;TZID=Europe/Berlin:20230125T200000
DTSTAMP:20260423T023528
CREATED:20220905T124731Z
LAST-MODIFIED:20250107T080848Z
UID:10000399-1674671400-1674676800@website.ain-karem.de
SUMMARY:Qi Gong  mit der FABI
DESCRIPTION:Träger dieser Veranstaltungen ist die\nFamilienbildungsstätte Sankt Augustin \nWeitere Informationen zu Inhalten\, Kosten und Häufigkeiten finden Sie unter:\nwww.fabi-rheinsieg.de \nAnmeldungen unter: \nLebenshilfe Bildung NRW gGmbH\nFABI Rhein-Sieg\nBonner Straße 68a\n53757 Sankt Augustin\n+49 02241 341838
URL:https://website.ain-karem.de/event/qi-gong-mit-der-familienbildungsstaette-fabi/2023-01-25/
LOCATION:Ain Karem\, Zum Weiher 8\, Ruppichteroth\, Nordrhein-Westfalen\, 53809\, Deutschland
CATEGORIES:FABI
ATTACH;FMTTYPE=image/jpeg:https://website.ain-karem.de/wp-content/uploads/2022/09/lebenshilfe_512.jpg
END:VEVENT
BEGIN:VEVENT
DTSTART;TZID=Europe/Berlin:20230129T110000
DTEND;TZID=Europe/Berlin:20230129T123000
DTSTAMP:20260423T023528
CREATED:20221221T052454Z
LAST-MODIFIED:20221221T052454Z
UID:10000372-1674990000-1674995400@website.ain-karem.de
SUMMARY:Gottesdienst "Lichtmess"
DESCRIPTION:
URL:https://website.ain-karem.de/event/gottesdienst-lichtmess/
LOCATION:Ain Karem\, Zum Weiher 8\, Ruppichteroth\, Nordrhein-Westfalen\, 53809\, Deutschland
CATEGORIES:Gottesdienst
ATTACH;FMTTYPE=image/jpeg:https://website.ain-karem.de/wp-content/uploads/2022/09/Corpus-Kapelle_370.jpg
END:VEVENT
BEGIN:VEVENT
DTSTART;TZID=Europe/Berlin:20230129T190000
DTEND;TZID=Europe/Berlin:20230129T200000
DTSTAMP:20260423T023528
CREATED:20221221T051256Z
LAST-MODIFIED:20221221T051256Z
UID:10000361-1675018800-1675022400@website.ain-karem.de
SUMMARY:Meditation und Kontemplation
DESCRIPTION:
URL:https://website.ain-karem.de/event/meditation-und-kontemplation-10/
LOCATION:Ain Karem\, Zum Weiher 8\, Ruppichteroth\, Nordrhein-Westfalen\, 53809\, Deutschland
CATEGORIES:Meditation
ATTACH;FMTTYPE=image/jpeg:https://website.ain-karem.de/wp-content/uploads/2022/08/tropfen_512.jpg
ORGANIZER;CN="Mechtild Franke":MAILTO:mechtildfranke@googlemail.com
END:VEVENT
BEGIN:VEVENT
DTSTART;TZID=Europe/Berlin:20230130T171500
DTEND;TZID=Europe/Berlin:20230130T183000
DTSTAMP:20260423T023528
CREATED:20220905T121009Z
LAST-MODIFIED:20250107T081207Z
UID:10000660-1675098900-1675103400@website.ain-karem.de
SUMMARY:Yoga mit der FABI
DESCRIPTION:Träger dieser Veranstaltungen ist die\nFamilienbildungsstätte Sankt Augustin \nWeitere Informationen zu Inhalten\, Kosten und Häufigkeiten finden Sie unter:\nwww.fabi-rheinsieg.de \nAnmeldungen unter: \nLebenshilfe Bildung NRW gGmbH\nFABI Rhein-Sieg\nBonner Straße 68a\n53757 Sankt Augustin\n+49 02241 341838
URL:https://website.ain-karem.de/event/yoga-mit-der-familienbildungsstaette-fabi/2023-01-30/
LOCATION:Ain Karem\, Zum Weiher 8\, Ruppichteroth\, Nordrhein-Westfalen\, 53809\, Deutschland
CATEGORIES:FABI
ATTACH;FMTTYPE=image/jpeg:https://website.ain-karem.de/wp-content/uploads/2022/09/lebenshilfe_512.jpg
END:VEVENT
BEGIN:VEVENT
DTSTART;TZID=Europe/Berlin:20230130T190000
DTEND;TZID=Europe/Berlin:20230130T203000
DTSTAMP:20260423T023528
CREATED:20220905T123815Z
LAST-MODIFIED:20250107T081116Z
UID:10000608-1675105200-1675110600@website.ain-karem.de
SUMMARY:Yoga mit der FABI
DESCRIPTION:Träger dieser Veranstaltungen ist die\nFamilienbildungsstätte Sankt Augustin \nWeitere Informationen zu Inhalten\, Kosten und Häufigkeiten finden Sie unter:\nwww.fabi-rheinsieg.de \nAnmeldungen unter: \nLebenshilfe Bildung NRW gGmbH\nFABI Rhein-Sieg\nBonner Straße 68a\n53757 Sankt Augustin\n+49 02241 341838
URL:https://website.ain-karem.de/event/yoga-mit-der-familienbildungsstaette-fabi-2/2023-01-30/
LOCATION:Ain Karem\, Zum Weiher 8\, Ruppichteroth\, Nordrhein-Westfalen\, 53809\, Deutschland
CATEGORIES:FABI
ATTACH;FMTTYPE=image/jpeg:https://website.ain-karem.de/wp-content/uploads/2022/09/lebenshilfe_512.jpg
END:VEVENT
BEGIN:VEVENT
DTSTART;TZID=Europe/Berlin:20230131T173000
DTEND;TZID=Europe/Berlin:20230131T190000
DTSTAMP:20260423T023528
CREATED:20220905T124354Z
LAST-MODIFIED:20250107T081051Z
UID:10000504-1675186200-1675191600@website.ain-karem.de
SUMMARY:Hatha-Yoga mit der FABI
DESCRIPTION:Träger dieser Veranstaltungen ist die\nFamilienbildungsstätte Sankt Augustin \nWeitere Informationen zu Inhalten\, Kosten und Häufigkeiten finden Sie unter:\nwww.fabi-rheinsieg.de \nAnmeldungen unter: \nLebenshilfe Bildung NRW gGmbH\nFABI Rhein-Sieg\nBonner Straße 68a\n53757 Sankt Augustin\n+49 02241 341838
URL:https://website.ain-karem.de/event/hatha-yoga-mit-der-familienbildungsstaette-fabi/2023-01-31/
LOCATION:Ain Karem\, Zum Weiher 8\, Ruppichteroth\, Nordrhein-Westfalen\, 53809\, Deutschland
CATEGORIES:FABI
ATTACH;FMTTYPE=image/jpeg:https://website.ain-karem.de/wp-content/uploads/2022/09/lebenshilfe_512.jpg
END:VEVENT
BEGIN:VEVENT
DTSTART;TZID=Europe/Berlin:20230131T200000
DTEND;TZID=Europe/Berlin:20230131T213000
DTSTAMP:20260423T023528
CREATED:20220905T124543Z
LAST-MODIFIED:20250107T081004Z
UID:10000452-1675195200-1675200600@website.ain-karem.de
SUMMARY:Yoga mit der FABI
DESCRIPTION:Träger dieser Veranstaltungen ist die\nFamilienbildungsstätte Sankt Augustin \nWeitere Informationen zu Inhalten\, Kosten und Häufigkeiten finden Sie unter:\nwww.fabi-rheinsieg.de \nAnmeldungen unter: \nLebenshilfe Bildung NRW gGmbH\nFABI Rhein-Sieg\nBonner Straße 68a\n53757 Sankt Augustin\n+49 02241 341838
URL:https://website.ain-karem.de/event/yoga-mit-der-familienbildungsstaette-fabi-3/2023-01-31/
LOCATION:Ain Karem\, Zum Weiher 8\, Ruppichteroth\, Nordrhein-Westfalen\, 53809\, Deutschland
CATEGORIES:FABI
ATTACH;FMTTYPE=image/jpeg:https://website.ain-karem.de/wp-content/uploads/2022/09/lebenshilfe_512.jpg
END:VEVENT
END:VCALENDAR