BEGIN:VCALENDAR
VERSION:2.0
PRODID:-//Ain Karem - ECPv6.15.20//NONSGML v1.0//EN
CALSCALE:GREGORIAN
METHOD:PUBLISH
X-WR-CALNAME:Ain Karem
X-ORIGINAL-URL:https://website.ain-karem.de
X-WR-CALDESC:Veranstaltungen für Ain Karem
REFRESH-INTERVAL;VALUE=DURATION:PT1H
X-Robots-Tag:noindex
X-PUBLISHED-TTL:PT1H
BEGIN:VTIMEZONE
TZID:Europe/Berlin
BEGIN:DAYLIGHT
TZOFFSETFROM:+0100
TZOFFSETTO:+0200
TZNAME:CEST
DTSTART:20230326T010000
END:DAYLIGHT
BEGIN:STANDARD
TZOFFSETFROM:+0200
TZOFFSETTO:+0100
TZNAME:CET
DTSTART:20231029T010000
END:STANDARD
BEGIN:DAYLIGHT
TZOFFSETFROM:+0100
TZOFFSETTO:+0200
TZNAME:CEST
DTSTART:20240331T010000
END:DAYLIGHT
BEGIN:STANDARD
TZOFFSETFROM:+0200
TZOFFSETTO:+0100
TZNAME:CET
DTSTART:20241027T010000
END:STANDARD
BEGIN:DAYLIGHT
TZOFFSETFROM:+0100
TZOFFSETTO:+0200
TZNAME:CEST
DTSTART:20250330T010000
END:DAYLIGHT
BEGIN:STANDARD
TZOFFSETFROM:+0200
TZOFFSETTO:+0100
TZNAME:CET
DTSTART:20251026T010000
END:STANDARD
END:VTIMEZONE
BEGIN:VEVENT
DTSTART;VALUE=DATE:20240803
DTEND;VALUE=DATE:20240805
DTSTAMP:20260421T200939
CREATED:20231212T101928Z
LAST-MODIFIED:20231214T120445Z
UID:10002053-1722643200-1722815999@website.ain-karem.de
SUMMARY:Bibel erleben
DESCRIPTION:Bibel erleben\nEin Wochenende zur Bibel\nMit Pr. Michael N. Schenk \nBeginn: Samstag\, 03. August 2024 um 10.00 Uhr\nEnde: Sonntag\, 04. August 2024 gegen 13.00 Uhr \nPreis: 190\,- € Kost und Logis sind nicht enthalten. \nAnmeldung: michael.schenk@alt-katholisch.de \nÜbernachtungen in der „Alten Scheune“ auf Ain Karem sind möglich. \nDieses Seminar möchte Suchenden\, Glaubenden und Fragenden gemeinsam die Chance eröffnen\, sich die Menschen- und Glaubensbilder der Bibel zu eigen zu machen\, zu hinterfragen oder ihnen neu zu begegnen. Kenntnisse in der systemischen Aufstellungsarbeit sind von Vorteil\, aber nicht notwendig.\nEin spannendes Wochenende für alle\, die voller Neugier sind und anhand von Aufstellungen die Bibel erleben möchten: „Was ist wirklich gemeint\, was habe ich nie verstanden\, was hat das mit mir zu tun…?!“
URL:https://website.ain-karem.de/event/bibliodrama/
LOCATION:Ain Karem\, Zum Weiher 8\, Ruppichteroth\, Nordrhein-Westfalen\, 53809\, Deutschland
CATEGORIES:Aufstellungsarbeit,Exerzitien
ATTACH;FMTTYPE=image/jpeg:https://website.ain-karem.de/wp-content/uploads/2022/09/bibel_512.jpg
ORGANIZER;CN="Michael N. Schenk":MAILTO:mns@fons-salutaris.de
END:VEVENT
END:VCALENDAR