BEGIN:VCALENDAR
VERSION:2.0
PRODID:-//Ain Karem - ECPv6.15.20//NONSGML v1.0//EN
CALSCALE:GREGORIAN
METHOD:PUBLISH
X-ORIGINAL-URL:https://website.ain-karem.de
X-WR-CALDESC:Veranstaltungen für Ain Karem
REFRESH-INTERVAL;VALUE=DURATION:PT1H
X-Robots-Tag:noindex
X-PUBLISHED-TTL:PT1H
BEGIN:VTIMEZONE
TZID:Europe/Berlin
BEGIN:DAYLIGHT
TZOFFSETFROM:+0100
TZOFFSETTO:+0200
TZNAME:CEST
DTSTART:20230326T010000
END:DAYLIGHT
BEGIN:STANDARD
TZOFFSETFROM:+0200
TZOFFSETTO:+0100
TZNAME:CET
DTSTART:20231029T010000
END:STANDARD
BEGIN:DAYLIGHT
TZOFFSETFROM:+0100
TZOFFSETTO:+0200
TZNAME:CEST
DTSTART:20240331T010000
END:DAYLIGHT
BEGIN:STANDARD
TZOFFSETFROM:+0200
TZOFFSETTO:+0100
TZNAME:CET
DTSTART:20241027T010000
END:STANDARD
BEGIN:DAYLIGHT
TZOFFSETFROM:+0100
TZOFFSETTO:+0200
TZNAME:CEST
DTSTART:20250330T010000
END:DAYLIGHT
BEGIN:STANDARD
TZOFFSETFROM:+0200
TZOFFSETTO:+0100
TZNAME:CET
DTSTART:20251026T010000
END:STANDARD
END:VTIMEZONE
BEGIN:VEVENT
DTSTART;TZID=Europe/Berlin:20240731T100000
DTEND;TZID=Europe/Berlin:20240731T113000
DTSTAMP:20260421T183802
CREATED:20231212T141603Z
LAST-MODIFIED:20231212T141603Z
UID:10002075-1722420000-1722425400@website.ain-karem.de
SUMMARY:Fortlaufender Kurs: Atem für die Seele
DESCRIPTION:Ein fortlaufender Vormittagskurs ab fünf Personen mit Josefine Dripke\, Atempädagogin und Geistliche Begleiterin\, \nan fünf Vormittagen\, jeweils Mittwochs\, von 10:00 Uhr bis 11:30 Uhr \n• Mittwoch\, 3. Juli 2024 \n• Mittwoch\, 10. Juli 2024 \n• Mittwoch\, 17. Juli 2024 \n• Mittwoch\, 24. Juli 2024 \n• Mittwoch\, 31. August 2024 \nKosten: 100\,00 € \nIm Rhythmus des Atems drückt sich sehr persönlich unser jeweiliger Bezug zu unserem Leben aus.\nIn der Atemarbeit lernen wir\, den Atem bewusster wahrzunehmen und frei fließen zu lassen. Wir werden sensibler für die seelischen Kräfte\, die im „lebendigen Atem“ angelegt sind.\nSo erleben wir den Einatem als Geschenk\, was uns einen inneren Raum der Freiheit und Offenheit vermittelt.\nUnd im Ausatem spüren wir die Kraft\, unser Leben lenkend und schöpferisch zu gestalten und auszudrücken.\nDer Ausatem\, der ausschwingen darf\, geht über in eine Ruhepause\, die Vertrauen und Gelassenheit und einen Moment vollkommener Stille schenkt.\nVerweilen in der Ruhe heißt ankommen im lebendigen Grund unserer Seele und daraus neu inspiriert zu werden.
URL:https://website.ain-karem.de/event/fortlaufender-kurs-atem-fuer-die-seele-2/2024-07-31/
LOCATION:Ain Karem\, Zum Weiher 8\, Ruppichteroth\, Nordrhein-Westfalen\, 53809\, Deutschland
CATEGORIES:Atemarbeit
ATTACH;FMTTYPE=image/jpeg:https://website.ain-karem.de/wp-content/uploads/2022/08/atmen_512.jpg
END:VEVENT
BEGIN:VEVENT
DTSTART;TZID=Europe/Berlin:20240731T183000
DTEND;TZID=Europe/Berlin:20240731T200000
DTSTAMP:20260421T183802
CREATED:20220905T124731Z
LAST-MODIFIED:20250107T080848Z
UID:10001411-1722450600-1722456000@website.ain-karem.de
SUMMARY:Qi Gong  mit der FABI
DESCRIPTION:Träger dieser Veranstaltungen ist die\nFamilienbildungsstätte Sankt Augustin \nWeitere Informationen zu Inhalten\, Kosten und Häufigkeiten finden Sie unter:\nwww.fabi-rheinsieg.de \nAnmeldungen unter: \nLebenshilfe Bildung NRW gGmbH\nFABI Rhein-Sieg\nBonner Straße 68a\n53757 Sankt Augustin\n+49 02241 341838
URL:https://website.ain-karem.de/event/qi-gong-mit-der-familienbildungsstaette-fabi/2024-07-31/
LOCATION:Ain Karem\, Zum Weiher 8\, Ruppichteroth\, Nordrhein-Westfalen\, 53809\, Deutschland
CATEGORIES:FABI
ATTACH;FMTTYPE=image/jpeg:https://website.ain-karem.de/wp-content/uploads/2022/09/lebenshilfe_512.jpg
END:VEVENT
END:VCALENDAR