BEGIN:VCALENDAR
VERSION:2.0
PRODID:-//Ain Karem - ECPv6.15.20//NONSGML v1.0//EN
CALSCALE:GREGORIAN
METHOD:PUBLISH
X-WR-CALNAME:Ain Karem
X-ORIGINAL-URL:https://website.ain-karem.de
X-WR-CALDESC:Veranstaltungen für Ain Karem
REFRESH-INTERVAL;VALUE=DURATION:PT1H
X-Robots-Tag:noindex
X-PUBLISHED-TTL:PT1H
BEGIN:VTIMEZONE
TZID:Europe/Berlin
BEGIN:DAYLIGHT
TZOFFSETFROM:+0100
TZOFFSETTO:+0200
TZNAME:CEST
DTSTART:20230326T010000
END:DAYLIGHT
BEGIN:STANDARD
TZOFFSETFROM:+0200
TZOFFSETTO:+0100
TZNAME:CET
DTSTART:20231029T010000
END:STANDARD
BEGIN:DAYLIGHT
TZOFFSETFROM:+0100
TZOFFSETTO:+0200
TZNAME:CEST
DTSTART:20240331T010000
END:DAYLIGHT
BEGIN:STANDARD
TZOFFSETFROM:+0200
TZOFFSETTO:+0100
TZNAME:CET
DTSTART:20241027T010000
END:STANDARD
BEGIN:DAYLIGHT
TZOFFSETFROM:+0100
TZOFFSETTO:+0200
TZNAME:CEST
DTSTART:20250330T010000
END:DAYLIGHT
BEGIN:STANDARD
TZOFFSETFROM:+0200
TZOFFSETTO:+0100
TZNAME:CET
DTSTART:20251026T010000
END:STANDARD
END:VTIMEZONE
BEGIN:VEVENT
DTSTART;TZID=Europe/Berlin:20240622T100000
DTEND;TZID=Europe/Berlin:20240622T163000
DTSTAMP:20260421T215101
CREATED:20231212T102453Z
LAST-MODIFIED:20231212T102453Z
UID:10002054-1719050400-1719073800@website.ain-karem.de
SUMMARY:Himmelsklänge
DESCRIPTION:Himmelsklänge\nSingen\, bis die Seele tanzt\nMit Susanne und Marcus Hartmanns \nBeginn: Samstag\, 22. Juni 2023\, um 10.00 Uhr\nEnde: Samstag\, 22. Juni 2023\, gegen 16.30 Uhr \nPreis: 80\,- €\nKost und Logis sind nicht enthalten. \nAnmeldung: marcus.hartmanns@web.de \nEin geistlicher Tag mit gemeinsamem Singen Eine Auswahl schönster spiritueller Lieder unterschiedlicher Kulturen\, Sprachen und Religionen begleiten uns durch den Tag. Die Lieder haben Kraft und Magie\, Menschen in neuer Art zum Singen zu bringen. Gemeinsame Atemund Entspannungsübungen\, Gebet und ein Spaziergang in der Natur runden den Tag ab.
URL:https://website.ain-karem.de/event/himmelsklaenge/
LOCATION:Ain Karem\, Zum Weiher 8\, Ruppichteroth\, Nordrhein-Westfalen\, 53809\, Deutschland
CATEGORIES:Musik
ATTACH;FMTTYPE=image/jpeg:https://website.ain-karem.de/wp-content/uploads/2023/12/ain_09-1.jpg
END:VEVENT
END:VCALENDAR