BEGIN:VCALENDAR
VERSION:2.0
PRODID:-//Ain Karem - ECPv6.15.20//NONSGML v1.0//EN
CALSCALE:GREGORIAN
METHOD:PUBLISH
X-WR-CALNAME:Ain Karem
X-ORIGINAL-URL:https://website.ain-karem.de
X-WR-CALDESC:Veranstaltungen für Ain Karem
REFRESH-INTERVAL;VALUE=DURATION:PT1H
X-Robots-Tag:noindex
X-PUBLISHED-TTL:PT1H
BEGIN:VTIMEZONE
TZID:Europe/Berlin
BEGIN:DAYLIGHT
TZOFFSETFROM:+0100
TZOFFSETTO:+0200
TZNAME:CEST
DTSTART:20230326T010000
END:DAYLIGHT
BEGIN:STANDARD
TZOFFSETFROM:+0200
TZOFFSETTO:+0100
TZNAME:CET
DTSTART:20231029T010000
END:STANDARD
BEGIN:DAYLIGHT
TZOFFSETFROM:+0100
TZOFFSETTO:+0200
TZNAME:CEST
DTSTART:20240331T010000
END:DAYLIGHT
BEGIN:STANDARD
TZOFFSETFROM:+0200
TZOFFSETTO:+0100
TZNAME:CET
DTSTART:20241027T010000
END:STANDARD
BEGIN:DAYLIGHT
TZOFFSETFROM:+0100
TZOFFSETTO:+0200
TZNAME:CEST
DTSTART:20250330T010000
END:DAYLIGHT
BEGIN:STANDARD
TZOFFSETFROM:+0200
TZOFFSETTO:+0100
TZNAME:CET
DTSTART:20251026T010000
END:STANDARD
END:VTIMEZONE
BEGIN:VEVENT
DTSTART;VALUE=DATE:20240608
DTEND;VALUE=DATE:20240613
DTSTAMP:20260421T233359
CREATED:20231212T103250Z
LAST-MODIFIED:20231212T103250Z
UID:10002055-1717804800-1718236799@website.ain-karem.de
SUMMARY:Männer. Wege-Auszeit
DESCRIPTION:Männer. Wege-Auszeit\nMit Vikar Benedikt Löw\, Wendelin Nieberle und Pr. Michael N. Schenk \nBeginn: Samstag\, 08. Juni 2024\, um 16.00 Uhr\nEnde: Mittwoch\, 12. Juni 2024 nach dem Frühstück \nPreis: 475\,- € \nAnmeldung: augsburg.maenner@alt-katholisch.de \nDer hebräische Ort Ain Karem bedeutet „Quelle im Weinberg“. An diesem Ort nahe Jerusalem sollen die beiden werdenden Mütter Maria und Elisabeth aufeinander getroffen sein.\nAuf Ain Karem im Bergischen Land findet ein verlängertes Auszeitwochenende statt. Gemeinsam soll es an die Quellen gehen\, um sich für den Alltag zu erfrischen und zu stärken. Stille Zeiten\, spirituelle Impulse mit Austausch und persönliche Auszeiten bilden den Rahmen der Tage. Dabei kommt auch die Freude an der Gemeinschaft bei den Mahlzeiten\, beim Unterwegssein in der Natur und beim gemütlichen Beisammensein nicht zu kurz. Außerdem führt ein Ausflug in das „alt-katholische“ Bonn mit Besuch der Namen- Jesu-Kirche.
URL:https://website.ain-karem.de/event/maenner-wege-auszeit/
LOCATION:Ain Karem\, Zum Weiher 8\, Ruppichteroth\, Nordrhein-Westfalen\, 53809\, Deutschland
CATEGORIES:Exerzitien
ATTACH;FMTTYPE=image/jpeg:https://website.ain-karem.de/wp-content/uploads/2023/12/ain_08.jpg
END:VEVENT
BEGIN:VEVENT
DTSTART;TZID=Europe/Berlin:20240612T183000
DTEND;TZID=Europe/Berlin:20240612T200000
DTSTAMP:20260421T233359
CREATED:20220905T124731Z
LAST-MODIFIED:20250107T080848Z
UID:10001404-1718217000-1718222400@website.ain-karem.de
SUMMARY:Qi Gong  mit der FABI
DESCRIPTION:Träger dieser Veranstaltungen ist die\nFamilienbildungsstätte Sankt Augustin \nWeitere Informationen zu Inhalten\, Kosten und Häufigkeiten finden Sie unter:\nwww.fabi-rheinsieg.de \nAnmeldungen unter: \nLebenshilfe Bildung NRW gGmbH\nFABI Rhein-Sieg\nBonner Straße 68a\n53757 Sankt Augustin\n+49 02241 341838
URL:https://website.ain-karem.de/event/qi-gong-mit-der-familienbildungsstaette-fabi/2024-06-12/
LOCATION:Ain Karem\, Zum Weiher 8\, Ruppichteroth\, Nordrhein-Westfalen\, 53809\, Deutschland
CATEGORIES:FABI
ATTACH;FMTTYPE=image/jpeg:https://website.ain-karem.de/wp-content/uploads/2022/09/lebenshilfe_512.jpg
END:VEVENT
END:VCALENDAR