BEGIN:VCALENDAR
VERSION:2.0
PRODID:-//Ain Karem - ECPv6.15.20//NONSGML v1.0//EN
CALSCALE:GREGORIAN
METHOD:PUBLISH
X-ORIGINAL-URL:https://website.ain-karem.de
X-WR-CALDESC:Veranstaltungen für Ain Karem
REFRESH-INTERVAL;VALUE=DURATION:PT1H
X-Robots-Tag:noindex
X-PUBLISHED-TTL:PT1H
BEGIN:VTIMEZONE
TZID:Europe/Berlin
BEGIN:DAYLIGHT
TZOFFSETFROM:+0100
TZOFFSETTO:+0200
TZNAME:CEST
DTSTART:20220327T010000
END:DAYLIGHT
BEGIN:STANDARD
TZOFFSETFROM:+0200
TZOFFSETTO:+0100
TZNAME:CET
DTSTART:20221030T010000
END:STANDARD
BEGIN:DAYLIGHT
TZOFFSETFROM:+0100
TZOFFSETTO:+0200
TZNAME:CEST
DTSTART:20230326T010000
END:DAYLIGHT
BEGIN:STANDARD
TZOFFSETFROM:+0200
TZOFFSETTO:+0100
TZNAME:CET
DTSTART:20231029T010000
END:STANDARD
BEGIN:DAYLIGHT
TZOFFSETFROM:+0100
TZOFFSETTO:+0200
TZNAME:CEST
DTSTART:20240331T010000
END:DAYLIGHT
BEGIN:STANDARD
TZOFFSETFROM:+0200
TZOFFSETTO:+0100
TZNAME:CET
DTSTART:20241027T010000
END:STANDARD
END:VTIMEZONE
BEGIN:VEVENT
DTSTART;TZID=Europe/Berlin:20230319T110000
DTEND;TZID=Europe/Berlin:20230319T123000
DTSTAMP:20260423T005022
CREATED:20221221T052714Z
LAST-MODIFIED:20221221T052714Z
UID:10000374-1679223600-1679229000@website.ain-karem.de
SUMMARY:Gottesdienst
DESCRIPTION:
URL:https://website.ain-karem.de/event/gottesdienst/
LOCATION:Ain Karem\, Zum Weiher 8\, Ruppichteroth\, Nordrhein-Westfalen\, 53809\, Deutschland
CATEGORIES:Gottesdienst
ATTACH;FMTTYPE=image/jpeg:https://website.ain-karem.de/wp-content/uploads/2022/09/Corpus-Kapelle_370.jpg
END:VEVENT
BEGIN:VEVENT
DTSTART;TZID=Europe/Berlin:20230319T190000
DTEND;TZID=Europe/Berlin:20230319T200000
DTSTAMP:20260423T005022
CREATED:20221221T051414Z
LAST-MODIFIED:20221221T051414Z
UID:10000365-1679252400-1679256000@website.ain-karem.de
SUMMARY:Meditation und Kontemplation
DESCRIPTION:
URL:https://website.ain-karem.de/event/meditation-und-kontemplation-14/
LOCATION:Ain Karem\, Zum Weiher 8\, Ruppichteroth\, Nordrhein-Westfalen\, 53809\, Deutschland
CATEGORIES:Meditation
ATTACH;FMTTYPE=image/jpeg:https://website.ain-karem.de/wp-content/uploads/2022/08/tropfen_512.jpg
ORGANIZER;CN="Mechtild Franke":MAILTO:mechtildfranke@googlemail.com
END:VEVENT
END:VCALENDAR