BEGIN:VCALENDAR
VERSION:2.0
PRODID:-//Ain Karem - ECPv6.15.20//NONSGML v1.0//EN
CALSCALE:GREGORIAN
METHOD:PUBLISH
X-ORIGINAL-URL:https://website.ain-karem.de
X-WR-CALDESC:Veranstaltungen für Ain Karem
REFRESH-INTERVAL;VALUE=DURATION:PT1H
X-Robots-Tag:noindex
X-PUBLISHED-TTL:PT1H
BEGIN:VTIMEZONE
TZID:Europe/Berlin
BEGIN:DAYLIGHT
TZOFFSETFROM:+0100
TZOFFSETTO:+0200
TZNAME:CEST
DTSTART:20210328T010000
END:DAYLIGHT
BEGIN:STANDARD
TZOFFSETFROM:+0200
TZOFFSETTO:+0100
TZNAME:CET
DTSTART:20211031T010000
END:STANDARD
BEGIN:DAYLIGHT
TZOFFSETFROM:+0100
TZOFFSETTO:+0200
TZNAME:CEST
DTSTART:20220327T010000
END:DAYLIGHT
BEGIN:STANDARD
TZOFFSETFROM:+0200
TZOFFSETTO:+0100
TZNAME:CET
DTSTART:20221030T010000
END:STANDARD
BEGIN:DAYLIGHT
TZOFFSETFROM:+0100
TZOFFSETTO:+0200
TZNAME:CEST
DTSTART:20230326T010000
END:DAYLIGHT
BEGIN:STANDARD
TZOFFSETFROM:+0200
TZOFFSETTO:+0100
TZNAME:CET
DTSTART:20231029T010000
END:STANDARD
END:VTIMEZONE
BEGIN:VEVENT
DTSTART;TZID=Europe/Berlin:20221119T100000
DTEND;TZID=Europe/Berlin:20221120T160000
DTSTAMP:20260423T071021
CREATED:20220915T141813Z
LAST-MODIFIED:20220915T141813Z
UID:10000355-1668852000-1668960000@website.ain-karem.de
SUMMARY:Biblische Geschichten erfahren
DESCRIPTION:Systemische Aufstellungen und Bibliodrama\nEin spannendes Wochenende für alle\, die voller Neugier sind und anhand von Aufstellungen die Bibel erleben möchten: „Was ist wirklich gemeint\, was habe ich nie verstanden\, was wollte ich schon immer einmal wissen\, was hat das mit mir zu tun…?!“ \nDieses Seminar möchte Suchenden\, Glaubenden oder Fernstehenden zugleich die Chance eröffnen\, sich die Menschen- und Glaubensbilder der Bibel zu eigen zu machen\, zu hinterfragen oder ihnen neu zu begegnen. \nBeginn: Samstag\, 19. November um 10:00 Uhr \nEnde: Sonntag\, 20. November um 16:00 Uhr \nPreis: 190\,- Euro\nKost und Logis sind nicht enthalten. \nÜbernachtungen in der „Alten Scheúne“ auf Ain Karem möglich.
URL:https://website.ain-karem.de/event/biblische-geschichten-erfahren/
LOCATION:Ain Karem\, Zum Weiher 8\, Ruppichteroth\, Nordrhein-Westfalen\, 53809\, Deutschland
ATTACH;FMTTYPE=image/jpeg:https://website.ain-karem.de/wp-content/uploads/2022/09/bibel_512.jpg
ORGANIZER;CN="Michael N. Schenk":MAILTO:mns@fons-salutaris.de
END:VEVENT
END:VCALENDAR