BEGIN:VCALENDAR
VERSION:2.0
PRODID:-//Ain Karem - ECPv6.15.20//NONSGML v1.0//EN
CALSCALE:GREGORIAN
METHOD:PUBLISH
X-WR-CALNAME:Ain Karem
X-ORIGINAL-URL:https://website.ain-karem.de
X-WR-CALDESC:Veranstaltungen für Ain Karem
REFRESH-INTERVAL;VALUE=DURATION:PT1H
X-Robots-Tag:noindex
X-PUBLISHED-TTL:PT1H
BEGIN:VTIMEZONE
TZID:Europe/Berlin
BEGIN:DAYLIGHT
TZOFFSETFROM:+0100
TZOFFSETTO:+0200
TZNAME:CEST
DTSTART:20210328T010000
END:DAYLIGHT
BEGIN:STANDARD
TZOFFSETFROM:+0200
TZOFFSETTO:+0100
TZNAME:CET
DTSTART:20211031T010000
END:STANDARD
BEGIN:DAYLIGHT
TZOFFSETFROM:+0100
TZOFFSETTO:+0200
TZNAME:CEST
DTSTART:20220327T010000
END:DAYLIGHT
BEGIN:STANDARD
TZOFFSETFROM:+0200
TZOFFSETTO:+0100
TZNAME:CET
DTSTART:20221030T010000
END:STANDARD
BEGIN:DAYLIGHT
TZOFFSETFROM:+0100
TZOFFSETTO:+0200
TZNAME:CEST
DTSTART:20230326T010000
END:DAYLIGHT
BEGIN:STANDARD
TZOFFSETFROM:+0200
TZOFFSETTO:+0100
TZNAME:CET
DTSTART:20231029T010000
END:STANDARD
END:VTIMEZONE
BEGIN:VEVENT
DTSTART;TZID=Europe/Berlin:20220930T190000
DTEND;TZID=Europe/Berlin:20221003T130000
DTSTAMP:20260423T102515
CREATED:20220915T141420Z
LAST-MODIFIED:20220915T141420Z
UID:10000354-1664564400-1664802000@website.ain-karem.de
SUMMARY:„Herbstlese“: Bunte Exerzitien (Retreat) in den Farben des Herbstes
DESCRIPTION:Sich freuen auf den Austausch mit netten Menschen\, nachdenklich werden bei gemeinsamer Suche nach Sinn und Zielen\, im Gespräch bleiben untereinander und mit Gott und der Welt. \nMit Michael N. Schenk \nBeginn: Freitag\, 30. September 2022 um 19:00 Uhr \nEnde: Montag\, 3. Oktober 2022 um ca. 13:00 Uhr \nPreis: 210\,- €\nKost und Logis sind nicht enthalten. \nÜbernachtungen in der „Alten Scheune“ auf Ain Karem sind möglich.
URL:https://website.ain-karem.de/event/herbstlese-bunte-exerzitien-retreat-in-den-farben-des-herbstes/
LOCATION:Ain Karem\, Zum Weiher 8\, Ruppichteroth\, Nordrhein-Westfalen\, 53809\, Deutschland
ATTACH;FMTTYPE=image/jpeg:https://website.ain-karem.de/wp-content/uploads/2022/09/herbst_512.jpg
ORGANIZER;CN="Michael N. Schenk":MAILTO:mns@fons-salutaris.de
END:VEVENT
END:VCALENDAR